BEGIN:VCALENDAR
VERSION:2.0
PRODID:-//mientrada.net - ECPv5.16.0//NONSGML v1.0//EN
CALSCALE:GREGORIAN
METHOD:PUBLISH
X-WR-CALNAME:mientrada.net
X-ORIGINAL-URL:https://www.mientrada.net
X-WR-CALDESC:Eventos para mientrada.net
REFRESH-INTERVAL;VALUE=DURATION:PT1H
X-Robots-Tag:noindex
X-PUBLISHED-TTL:PT1H
BEGIN:VTIMEZONE
TZID:Europe/Madrid
BEGIN:DAYLIGHT
TZOFFSETFROM:+0100
TZOFFSETTO:+0200
TZNAME:CEST
DTSTART:20210328T010000
END:DAYLIGHT
BEGIN:STANDARD
TZOFFSETFROM:+0200
TZOFFSETTO:+0100
TZNAME:CET
DTSTART:20211031T010000
END:STANDARD
END:VTIMEZONE
BEGIN:VEVENT
DTSTART;TZID=Europe/Madrid:20211203T190000
DTEND;TZID=Europe/Madrid:20211203T203000
DTSTAMP:20260421T180624
CREATED:20211124T092905Z
LAST-MODIFIED:20211124T121829Z
UID:10397-1638558000-1638563400@www.mientrada.net
SUMMARY:Exposición Manolo García: Cuerpos Celestes
DESCRIPTION:Inauguración de la exposición. \nSala de Exposiciones de la Finca Municipal «El Portón». \nDos pases: \n\n1º pase: a las 19:00 horas\n2º pase: a las 20:30 horas\n\n  \nEntrada por invitación a partir del jueves 25/11/2021 a las 10:00 h. \nMáximo 2 entradas por persona. \n  \nPuede compartir este evento en:
URL:https://www.mientrada.net/evento/exposicion-manolo-garcia-cuerpos-celestes/
LOCATION:Finca El Portón\, Calle Juan Carlos I\, Alhaurín de la Torre\, Málaga\, 29130\, España
CATEGORIES:Alhaurín de la Torre,Exposición,Finca El Portón
ATTACH;FMTTYPE=image/jpeg:https://www.mientrada.net/wp-content/uploads/2021/11/Cartel-expo-Manolo-Garcia.jpg
END:VEVENT
BEGIN:VEVENT
DTSTART;TZID=Europe/Madrid:20211203T200000
DTEND;TZID=Europe/Madrid:20211203T210000
DTSTAMP:20260421T180624
CREATED:20210904T101946Z
LAST-MODIFIED:20211122T151730Z
UID:9547-1638561600-1638565200@www.mientrada.net
SUMMARY:Magia al cuadrado
DESCRIPTION:Un show de magia multiplicado por dos\, por varios motivos: ¿es un show de magia?\, ¡Si! Pero con la característica que es muy cercana\, tanto en distancia como en la atmósfera lo cual hace que el asombro se multiplique por dos. Juan y Richard dos magos que hacen que se eleve el espectáculo al cuadrado por las dos personalidades\, que vas a ver. \nTambién es un show ensayado pero improvisado lo cual es un show multiplicado por dos\, a dos manos y a cuatro manos. Mantiene la esencia de un espectáculo clásico de cerca (como uno de los magos) pero moderno y fresco (como el otro mago). Prima que el público experimente el asombro en primera persona y a escasos 1\,5 metros. No podemos decirte que se multiplique el dinero de tu cartera\, pero sí que van a ocurrir cosas maravillosas con elementos tan comunes como cartas\, monedas\, objetos del publico… \nFicha artística y técnica:\nRichard Granda: mago\nJuan Garrido: mago \nDuración: 70 minutos\nEdad recomendada: a partir de 8 años. \nPrecio: 10 euros anticipada online / 12 euros taquilla. \nComparte este evento en:
URL:https://www.mientrada.net/evento/magia-al-cuadrado/
LOCATION:Sala Joaquín Eléjar\, Calle San Juan Bosco\, 79\, Málaga\, Málaga\, 29014\, España
CATEGORIES:Magia,Málaga,Sala Joaquín Eléjar
ATTACH;FMTTYPE=image/jpeg:https://www.mientrada.net/wp-content/uploads/2021/09/Cartel-Magia-al-cuadrado.jpg
END:VEVENT
BEGIN:VEVENT
DTSTART;TZID=Europe/Madrid:20211203T200000
DTEND;TZID=Europe/Madrid:20211203T210000
DTSTAMP:20260421T180624
CREATED:20211104T115554Z
LAST-MODIFIED:20211104T115638Z
UID:10248-1638561600-1638565200@www.mientrada.net
SUMMARY:Augurios
DESCRIPTION:Gratuito por invitación (solo en taquilla). \nCasandra se enfrenta al poder de Apolo que la maldice\, cuando tras recibir el don de la adivinación decide no cumplir su parte del trato: entregarse al dios. Casandra ira viendo el destino de su familia\, de su pueblo y de su propia vida a través de diferentes augurios provocados por Apolo. Las visiones la pondrán en una complicada situación al conocer lo terrible de la guerra que se avecina; obediencia y sumisión al poder o ser libre aceptando las consecuencias. \nEl espectáculo es un ejercicio de reflexión para el público\, que se articula entre el presente y el futro gracias a los diferentes augurios que ve a Casandra. La acción se enmarca en un vertedor de telas rasgadas\, el lugar donde reside Apolo\, su palacio\, su templo\, su reino y esto es ya en sí mismo un augurio de lo que viene\, el fin de la sociedad. Lo fácil sería centrarnos en contar lo evidente\, recurrir al panfleto demagógico que tan solo se queda en lo superficial\, pero para nosotros lo importante es plantear las preguntas adecuadas sobre la libertad\, el poder\, las guerras y la fe. \nNuestra puesta en escena muestra la crudeza de la guerra\, lo peor del ser humano\, pero también su humanidad y grandeza en los tiempos del horror. ¿Quiénes se benefician y quiénes sufren por las guerras? ¿Elegimos libremente o estamos condicionados a la hora de decidir? Un ritmo trepidante\, los juegos con los augurios y sus saltos en el tiempo\, un espacio escénico envolvente e impactante\, una iluminación basada en los claroscuros y la música de corte electrónico\, complementan una puesta en escena contemporánea y arriesgada. \n  \nNORMAS DE OBLIGADO CUMPLIMIENTO: \n\nPor favor\, siga en todo momento las indicaciones higienico-sanitarias dadas por el personal de la sala.\nObligatorio el uso correcto de la mascarilla (cubriendo nariz y boca) en todo el recinto.\n\n  \nPuede compartir este evento en:
URL:https://www.mientrada.net/evento/augurios/
LOCATION:Centro Cultural Villa de Nerja\, Calle Granada 45\, Nerja\, Málaga\, 29780\, España
CATEGORIES:Centro Cultural Villa de Nerja,Nerja
ATTACH;FMTTYPE=image/jpeg:https://www.mientrada.net/wp-content/uploads/2021/11/Cartel-Augurios.jpg
END:VEVENT
BEGIN:VEVENT
DTSTART;TZID=Europe/Madrid:20211203T200000
DTEND;TZID=Europe/Madrid:20211203T210000
DTSTAMP:20260421T180624
CREATED:20211110T101137Z
LAST-MODIFIED:20211126T163526Z
UID:10291-1638561600-1638565200@www.mientrada.net
SUMMARY:De hienas y perros o el eco de los caníbales
DESCRIPTION:Cinco Huellas Producciones y Factoría Echegaray. \nEntrada por invitación hasta completar aforo\, a partir del martes 30 de noviembre a las 11:00 h (tanto en la taquilla del teatro como en esta página web).  \nMáximo 4 entradas por persona.\n \nCinco mujeres huyen de la guerra\, la violencia\, la miseria\, la explotación y el miedo. Vidas que conforman un mapa del mundo. A veces huir es la única salida que tienen los que buscan con desespero asirse\, si no a la vida\, al menos a algo tan desastroso y doloroso como lo que dejaron atrás. \nEstos cinco personajes se encuentran a caballo entre la huida y la búsqueda\, debatiéndose continuamente en la quimera de lo que fueron y lo que son\, lo que dejaron y lo que encontraron. \nPremio Especial José Mª Rodero a la Mejor Dirección XXI Certamen Nacional de Teatro para Directoras de Escena de Torrejón de Ardoz.\nPremio Ateneo de Málaga 2018 al Mejor Espectáculo y Mejor Dirección. \nCon María Martínez de Tejada\, Rocío Rubio\, Virginia Nölting\, Asun Ayllón y Pilar Esteban LaPili.\nAutor: Paco Bernal.\nDramaturgia y dirección: Mercedes León. \n  \nPuede compartir este evento en:
URL:https://www.mientrada.net/evento/de-hienas-y-perros-o-el-eco-de-los-canibales/
LOCATION:Teatro Ciudad de Marbella\, Plaza Ramon Martinez\, 3\, Marbella\, Málaga\, 29603\, España
CATEGORIES:Marbella,Teatro,Teatro Ciudad de Marbella
ATTACH;FMTTYPE=image/jpeg:https://www.mientrada.net/wp-content/uploads/2021/11/Cartel-De-hienas-y-perros.jpg
END:VEVENT
BEGIN:VEVENT
DTSTART;TZID=Europe/Madrid:20211203T200000
DTEND;TZID=Europe/Madrid:20211203T210000
DTSTAMP:20260421T180624
CREATED:20211201T231410Z
LAST-MODIFIED:20211201T231410Z
UID:10434-1638561600-1638565200@www.mientrada.net
SUMMARY:Premio a la Cultura Malagueña Antonio Garrido Moraga 2021
DESCRIPTION:Entrega del III Premio Antonio Garrido Moraga 2021. \nCon la actuación de The Hula Hula’s. \nEntrada por invitación. \n  \nPuede compartir este evento en:
URL:https://www.mientrada.net/evento/premio-a-la-cultura-malaguena-antonio-garrido-moraga-2021/
LOCATION:Centro Cultural MVA\, Calle Ollerías\, 33\, Málaga\, Málaga\, 29012\, España
CATEGORIES:Centro Cultural Provincial MVA,Culturama,Málaga
ATTACH;FMTTYPE=image/jpeg:https://www.mientrada.net/wp-content/uploads/2021/12/Cartel-Premios-Moraga-2021.jpg
END:VEVENT
END:VCALENDAR