BEGIN:VCALENDAR
VERSION:2.0
PRODID:-//mientrada.net - ECPv5.16.0//NONSGML v1.0//EN
CALSCALE:GREGORIAN
METHOD:PUBLISH
X-ORIGINAL-URL:https://www.mientrada.net
X-WR-CALDESC:Eventos para mientrada.net
REFRESH-INTERVAL;VALUE=DURATION:PT1H
X-Robots-Tag:noindex
X-PUBLISHED-TTL:PT1H
BEGIN:VTIMEZONE
TZID:Europe/Madrid
BEGIN:DAYLIGHT
TZOFFSETFROM:+0100
TZOFFSETTO:+0200
TZNAME:CEST
DTSTART:20210328T010000
END:DAYLIGHT
BEGIN:STANDARD
TZOFFSETFROM:+0200
TZOFFSETTO:+0100
TZNAME:CET
DTSTART:20211031T010000
END:STANDARD
END:VTIMEZONE
BEGIN:VEVENT
DTSTART;TZID=Europe/Madrid:20211204T120000
DTEND;TZID=Europe/Madrid:20211204T130000
DTSTAMP:20260421T164650
CREATED:20211123T182905Z
LAST-MODIFIED:20211124T092323Z
UID:10391-1638619200-1638622800@www.mientrada.net
SUMMARY:Charla con Manolo García
DESCRIPTION:El sábado 4 de diciembre\, a las 12:00 h en el auditorio de La Finca El Portón de Alhaurín de la Torre\, y organizado por Eme de Mar Cultura\, el periodista de RTVE Moisés Rodríguez conversará con el cantante\, compositor y pintor MANOLO GARCÍA. Una charla distendida y abierta al público\, donde tratarán aspectos artísticos de su vida\, como la exposición de cuadros y dibujos que expondrá en Alhaurín de la Torre\, titulada «CUERPOS CELESTES»\, una selección que abarca desde trabajos más recientes a algunos de sus primeros trabajos gráficos y balbuceos con el pincel. \nTambién hablarán del libro «EL FIN DEL PRINCIPIO» (ediciones Aguilar)\, el reciente trabajo literario de MANOLO GARCÍA\, que recoge poemas inéditos\, pinturas y dibujos del artista: un libro que nos sumerge en el universo que refleja en sus canciones\, que aúnan poesía\, lírica y surrealismo. En fin\, una charla diferente y muy atractiva con uno de los más grandes músicos españoles\, que no os podéis perder. \nEntrada por invitación a partir del jueves 25/11/2021 a las 10:00 h. \nMáximo 2 entradas por persona. \n  \nPuede compartir este evento en:
URL:https://www.mientrada.net/evento/charla-con-manolo-garcia/
LOCATION:Finca El Portón\, Calle Juan Carlos I\, Alhaurín de la Torre\, Málaga\, 29130\, España
CATEGORIES:Alhaurín de la Torre,Charla,Finca El Portón
ATTACH;FMTTYPE=image/jpeg:https://www.mientrada.net/wp-content/uploads/2021/11/Cartel-charla-Manolo-Garcia.jpg
END:VEVENT
BEGIN:VEVENT
DTSTART;TZID=Europe/Madrid:20211204T123000
DTEND;TZID=Europe/Madrid:20211204T133000
DTSTAMP:20260421T164650
CREATED:20210907T145233Z
LAST-MODIFIED:20211126T160556Z
UID:9880-1638621000-1638624600@www.mientrada.net
SUMMARY:Concierto de Navidad de la Orquesta Sinfónica de Málaga
DESCRIPTION:Director: Arturo Díez Boscovich\nSoprano: Lourdes Martín-Leiva\nTenor: Luis María Pacetti \n  \nPROGRAMA \nGuillermo Tell. Obertura. Galopp (G. Rossini)\nLa Viuda Alegre. No 2. Dúo “Lippen Schweigen” (F. Léhar)\nAuf der Jagd Polka. Op. 373 (J. Strauss)\nDein ist mein ganzes Herz. Das land des Lächelns (F. Léhar)\nWien\, du Stadt meiner Träume (R. Siezynski)\nTrish trash polka (J. Strauss)\nAn der Schönen Blauen Donau. Op. 314 (J. Strauss)\nUnter Donner unt Blitz Polka. Op. 324 (J. Strauss)\nHave yourself a Merry little Christmas (Hugh Martin y Ralph Blane)\nSuite de Jazz No 2. Valse (D. Shostakovich)\nMarcha Radetzky Op. 228 (J. Strauss I) \n  \n \n  \nNORMAS DE OBLIGADO CUMPLIMIENTO: \n\nPor favor\, siga en todo momento las indicaciones higienico-sanitarias dadas por el personal de la sala.\nObligatorio el uso correcto de la mascarilla (cubriendo nariz y boca) en todo el recinto.\nSi una vez sacada la entrada no puede acudir al espectáculo\, por favor comuníquelo por correo (cultura@malaga.es) o por teléfono (952133950).\nEntrada solo con invitación. No acudir al teatro si no dispone de ella.\n\n  \nComparte este evento en:
URL:https://www.mientrada.net/evento/concierto-de-navidad-osm-orquesta-sinfonica-de-malaga/
LOCATION:Centro Cultural MVA\, Calle Ollerías\, 33\, Málaga\, Málaga\, 29012\, España
CATEGORIES:Centro Cultural Provincial MVA,Concierto,Culturama,Málaga,Música
ATTACH;FMTTYPE=image/jpeg:https://www.mientrada.net/wp-content/uploads/2021/09/Cartel-OSM-Navidad-2021.jpg
END:VEVENT
BEGIN:VEVENT
DTSTART;TZID=Europe/Madrid:20211204T200000
DTEND;TZID=Europe/Madrid:20211204T210000
DTSTAMP:20260421T164650
CREATED:20211104T160230Z
LAST-MODIFIED:20211104T161137Z
UID:10253-1638648000-1638651600@www.mientrada.net
SUMMARY:La Fundación 3.0
DESCRIPTION:Cinco personajes (Tomás\, Tulio\, Asel\, Lino y Max) comparten espacio en lo que parece ser una agradable habitación con bonitas vistas en un centro de investigación llamado La Fundación. Únicamente un mal olor y la presencia de una enferma parecen perturbar el ambiente. \n  \nReparto (por orden de intervención): \n\nTOMÁS: David Hernández\nDIRECTORA: Almudena López Cano\nMUJER: María Cuevas Moreno\nMARZA: Maite Gallardo Jover\nPATAPALO: Juan Lozano Carrasco\nTULIO: Ismael Menjíbar Nadales\nMAX: Adrián Rodríguez Caparrós\nASEL: Higinio Rodríguez Álvarez\nLINO: Manuel Sánchez Pérez\nBERTAS: Coca Boom\, Leonor Pelayo\, Alba Gallego\, Luna Lobato\, Sonia Ocampo\, Berenice Tessoni e Irene Ruíz\n\nDirección: Roberto Romance Agüera \nEquipo técnico: Roberto Romance Agüera \n  \nPrecio: 8 € anticipada online / 10 € taquilla. \n  \nPuede compartir este evento en:
URL:https://www.mientrada.net/evento/la-fundacion-3-0/
LOCATION:Sala Joaquín Eléjar\, Calle San Juan Bosco\, 79\, Málaga\, Málaga\, 29014\, España
CATEGORIES:Málaga,Sala Joaquín Eléjar,Teatro
ATTACH;FMTTYPE=image/jpeg:https://www.mientrada.net/wp-content/uploads/2021/11/Cartel-La-fundacion.jpg
END:VEVENT
END:VCALENDAR