BEGIN:VCALENDAR
VERSION:2.0
PRODID:-//mientrada.net - ECPv5.16.0//NONSGML v1.0//EN
CALSCALE:GREGORIAN
METHOD:PUBLISH
X-WR-CALNAME:mientrada.net
X-ORIGINAL-URL:https://www.mientrada.net
X-WR-CALDESC:Eventos para mientrada.net
REFRESH-INTERVAL;VALUE=DURATION:PT1H
X-Robots-Tag:noindex
X-PUBLISHED-TTL:PT1H
BEGIN:VTIMEZONE
TZID:Europe/Madrid
BEGIN:DAYLIGHT
TZOFFSETFROM:+0100
TZOFFSETTO:+0200
TZNAME:CEST
DTSTART:20210328T010000
END:DAYLIGHT
BEGIN:STANDARD
TZOFFSETFROM:+0200
TZOFFSETTO:+0100
TZNAME:CET
DTSTART:20211031T010000
END:STANDARD
END:VTIMEZONE
BEGIN:VEVENT
DTSTART;TZID=Europe/Madrid:20211218T123000
DTEND;TZID=Europe/Madrid:20211218T132500
DTSTAMP:20260421T180646
CREATED:20210907T145233Z
LAST-MODIFIED:20211212T221510Z
UID:9619-1639830600-1639833900@www.mientrada.net
SUMMARY:MUSEUM
DESCRIPTION:La líquida teatro. \nEntrada con invitación hasta completar aforo. A partir de 6 años. \n  \nUn espectáculo divertido y didáctico para niños y niñas. Un maravilloso viaje que recorre la historia del arte de la mano de los grandes maestros: Picasso\, Van Gogh\, Velázquez\, Miguel Ángel\, Da Vinci… y las grandes maestras\, por supuesto: Tamara de Lempika\, Sofonisba Anguissola\, Frida Kahlo… \nTeatro de actores\, objetos\, títeres y proyecciones manipuladas en directo. \nEl arte universal es la excusa perfecta para estimular la comunicación\, la creatividad\, la percepción\, la sensibilidad y la expresión. ¡Y todo con una sonrisa! \nUna experiencia teatral que apuesta por la cercanía\, la interacción y el humor para contar esta sorprendente y original visita al “Museum”\, y así pequeños y mayores disfruten\, aprendan y se emocionen con el arte y el teatro. \nFicha artística: \nEn escena: Susana Almahano y Pape Labraca\nAutor y Dirección: David García-Intriago.\nVestuario: Maribel Fernández y Mari Carmen Martín.\nProducción y distribución: La Líquida. \nDuración 55 m. \n  \n \n  \nComparte este evento en:
URL:https://www.mientrada.net/evento/museum/
LOCATION:Centro Cultural MVA\, Calle Ollerías\, 33\, Málaga\, Málaga\, 29012\, España
CATEGORIES:Centro Cultural Provincial MVA,Culturama,Danza,Familiar,Málaga,Teatro
ATTACH;FMTTYPE=image/jpeg:https://www.mientrada.net/wp-content/uploads/2021/09/CARTEL-MUSEUM-18-DIC.jpg
END:VEVENT
BEGIN:VEVENT
DTSTART;TZID=Europe/Madrid:20211218T170000
DTEND;TZID=Europe/Madrid:20211218T183000
DTSTAMP:20260421T180646
CREATED:20211104T100943Z
LAST-MODIFIED:20211104T101634Z
UID:10230-1639846800-1639852200@www.mientrada.net
SUMMARY:La Reina de las Nieves
DESCRIPTION:La Luna Teatro. \nMusical familiar para todos los públicos. \nDirección: Laura López. \n«El espejo del Señor del Hielo se rompió en mil pedazos\, que en forma de nieve cayeron sobre el mundo». \nLa Reina de las Nieves es un musical basado en el cuento de Hans C. Andersen. Cuenta la historia de Kay y Gerda\, dos enamorados separados por Bóreas\, el Señor del Frío\, que busca desesperado un corazón para crear un invierno eterno. \nCon voces en directo\, la Reina de las Nieves cuenta una historia sobre la perseverancia y el amor llena de efectos\, magia\, música y aventuras. \n  \nPrecio: 10€ \n  \nAforo reducido por COVID 19. Días y horarios sujetos a posibles cambios\, según la normativa vigente en cada momento. \nPuede compartir este evento en:
URL:https://www.mientrada.net/evento/la-reina-de-las-nieves/
LOCATION:Teatro Ciudad de Marbella\, Plaza Ramon Martinez\, 3\, Marbella\, Málaga\, 29603\, España
CATEGORIES:Infantil,Marbella,Teatro Ciudad de Marbella
ATTACH;FMTTYPE=image/jpeg:https://www.mientrada.net/wp-content/uploads/2021/11/Cartel-La-reina-de-las-nieves.jpg
END:VEVENT
BEGIN:VEVENT
DTSTART;TZID=Europe/Madrid:20211218T213000
DTEND;TZID=Europe/Madrid:20211218T223000
DTSTAMP:20260421T180646
CREATED:20211129T224811Z
LAST-MODIFIED:20211130T175209Z
UID:10415-1639863000-1639866600@www.mientrada.net
SUMMARY:Recital Flamenco - Chato de Málaga
DESCRIPTION:Chato de Málaga\nGuitarra: Ismael Rueda\nPalmas: Kiko de Tiriri \nPeña Flamenca Torre del Cante\nAlhaurín de la Torre\nEntrada anticipada: 10€ \n  \nPuede compartir este evento en:
URL:https://www.mientrada.net/evento/recital-flamenco-chato-de-malaga/
LOCATION:Peña Flamenca Torre del Cante\, Calle Viña\, 11\, Alhaurín de la Torre\, Málaga\, 29130\, España
CATEGORIES:Alhaurín de la Torre,Flamenco
ATTACH;FMTTYPE=image/jpeg:https://www.mientrada.net/wp-content/uploads/2021/11/Cartel-Recital-flamenco.jpg
END:VEVENT
END:VCALENDAR