BEGIN:VCALENDAR
VERSION:2.0
PRODID:-//mientrada.net - ECPv5.16.0//NONSGML v1.0//EN
CALSCALE:GREGORIAN
METHOD:PUBLISH
X-WR-CALNAME:mientrada.net
X-ORIGINAL-URL:https://www.mientrada.net
X-WR-CALDESC:Eventos para mientrada.net
REFRESH-INTERVAL;VALUE=DURATION:PT1H
X-Robots-Tag:noindex
X-PUBLISHED-TTL:PT1H
BEGIN:VTIMEZONE
TZID:Europe/Madrid
BEGIN:DAYLIGHT
TZOFFSETFROM:+0100
TZOFFSETTO:+0200
TZNAME:CEST
DTSTART:20210328T010000
END:DAYLIGHT
BEGIN:STANDARD
TZOFFSETFROM:+0200
TZOFFSETTO:+0100
TZNAME:CET
DTSTART:20211031T010000
END:STANDARD
END:VTIMEZONE
BEGIN:VEVENT
DTSTART;TZID=Europe/Madrid:20211229T200000
DTEND;TZID=Europe/Madrid:20211229T210000
DTSTAMP:20260421T180647
CREATED:20211025T093911Z
LAST-MODIFIED:20211115T175105Z
UID:10334-1640808000-1640811600@www.mientrada.net
SUMMARY:Concierto de Navidad - Rondalla Sierra Almijara
DESCRIPTION:Como todos los años nuestra Rondalla local ofrece el Concierto de Navidad. Este año 2021 con nuevos temas muy populares y con nuevos instrumentos. Esperamos pases una buena noche en nuestra compañía y seguro que te gustará. \nCon la Dirección de D. Antonio Urbano que ha diseñado un nuevo repertorio\, incorporando canciones como: \n\nGuitarra suena más bajo\nMemory\nPopurrí de Perales\nPerdóname\nTómame o déjame\nAleluya\nPiel\n\n  \nPrecio: 5€ \n  \nNORMAS DE OBLIGADO CUMPLIMIENTO: \n\nPor favor\, siga en todo momento las indicaciones higienico-sanitarias dadas por el personal de la sala.\nObligatorio el uso correcto de la mascarilla (cubriendo nariz y boca) en todo el recinto.\n\n  \nPuede compartir este evento en:
URL:https://www.mientrada.net/evento/concierto-navidad-rondalla-sierra-almijara/
LOCATION:Centro Cultural Villa de Nerja\, Calle Granada 45\, Nerja\, Málaga\, 29780\, España
CATEGORIES:Centro Cultural Villa de Nerja,Música,Nerja
ATTACH;FMTTYPE=image/jpeg:https://www.mientrada.net/wp-content/uploads/2021/10/Cartel-Rondalla-Nerja-2021.jpg
END:VEVENT
END:VCALENDAR