BEGIN:VCALENDAR
VERSION:2.0
PRODID:-//mientrada.net - ECPv5.16.0//NONSGML v1.0//EN
CALSCALE:GREGORIAN
METHOD:PUBLISH
X-ORIGINAL-URL:https://www.mientrada.net
X-WR-CALDESC:Eventos para mientrada.net
REFRESH-INTERVAL;VALUE=DURATION:PT1H
X-Robots-Tag:noindex
X-PUBLISHED-TTL:PT1H
BEGIN:VTIMEZONE
TZID:Europe/Madrid
BEGIN:DAYLIGHT
TZOFFSETFROM:+0100
TZOFFSETTO:+0200
TZNAME:CEST
DTSTART:20220327T010000
END:DAYLIGHT
BEGIN:STANDARD
TZOFFSETFROM:+0200
TZOFFSETTO:+0100
TZNAME:CET
DTSTART:20221030T010000
END:STANDARD
END:VTIMEZONE
BEGIN:VEVENT
DTSTART;TZID=Europe/Madrid:20220203T203000
DTEND;TZID=Europe/Madrid:20220203T213000
DTSTAMP:20260422T122500
CREATED:20210907T145233Z
LAST-MODIFIED:20220129T194555Z
UID:10738-1643920200-1643923800@www.mientrada.net
SUMMARY:Ailá
DESCRIPTION:Disponible a partir del 31 de ENERO a las 10:00h \nAilá \nMúsica. Ciclo «Con Sello propio»\n \nInformación específica de la actividad Ailá es una propuesta inspirada en la música tradicional de transmisión oral con el objetivo de hacer bailar y de sentir esa energía universal hecha “de raíces y de alas”\, pero también es una propuesta semántica\, un neologismo para nombrar la esencia emocional de nuestro pueblo presente en “los ecos de la memoria de quienes nos precedieron”. \nAilá nos sumerge en el universo Folk\, o ‘TRADI’ como prefieren denominarlo ellos\, con unos impecables arreglos desde las recogidas históricas del saber musical popular. Esto unido a la peculiar formación compuesta por cuatro músicos\, le dan un carácter único aportando una nueva sonoridad a su repertorio tradicional. Una nueva propuesta que viene del Folk para convertirse en ‘TRADI’. \nAdemás\, Ailá pretende con esta nueva propuesta artística hacer llegar su música de raíz a las generaciones más jóvenes\, con un lenguaje y sonidos más cercanos sin perder la esencia\, aportando una visión más amplia del universo musical en el panorama actual. \nAilá se fragua en las mágicas noches de foliada en ‘A Casa das Crechas’\, la cual\, al bajar el telón\, siempre daba cobijo a algunas y algunos de los protagonistas para seguir haciendo música. \nEstas pequeñas sesiones musicales se nutrían de un repertorio inspirado en archivos sonoros\, cancioneros populares y grabaciones musicales antiguas que entre todas y todos los presentes le daban forma e insuflaban vida. \nCon el tiempo\, y a partir de estos acordes de creación colectiva\, se conforma una banda con el veterano acordeonista y bombeiro Xan Pampín\, con una dilatada experiencia musical en grupos como Radio Cos o Banda das Crechas\, y que lleva el papel de investigador y arreglista del repertorio del grupo. \nLas voces y percusiones están a cargo de Manuele Pardo\, un músico y gaitero con gran experiencia musical en grupos como Os da Porfía\, Enxebres de San Lázaro\, A requinta de Xián\, AC a Mámou de Luou; y Ángela Carou\, una joven artista de Rianxo que tiene una formación amplia en la AC Brincadeira\, AC Fogo Fátuo y el Grupo vocal Fonetix. \nPor último\, a la trompeta y fliscorno\, Abel Gañete\, que viene de otra de las grandes tradiciones de nuestra tierra\, las bandas de música\, y como músico se ha formado en la Banda de Música Cultural de Teo\, Big Band de Marcos Pin e Pablo Castaño\, Charanga TNT. \nA través de Ailá\, nos traen al escenario un repertorio de piezas que rinde homenaje al legado de nuestra madres y abuelas\, a las agrupaciones folclóricas\, a los compiladores que recuperaron parte de nuestra historia y también estará presente el trabajo de artesanos\, de costureras\, de pintores\, y las gentes que forman parte de ese ecosistema vivo que aquí le llamamos tradición. \nFormación: \nÁNGELA CAROU – Voz y percusión\nMANUELE PARDO – Voz\, percusión y gaita\nABEL GAÑETE – Fliscorno y trompeta\nXAN PAMPÍN – Acordeón y bombo \n \n  \nComparte este evento en:
URL:https://www.mientrada.net/evento/aila/
LOCATION:Centro Cultural MVA\, Calle Ollerías\, 33\, Málaga\, Málaga\, 29012\, España
CATEGORIES:Centro Cultural Provincial MVA,Culturama,Málaga,Música
ATTACH;FMTTYPE=image/jpeg:https://www.mientrada.net/wp-content/uploads/2021/09/20220203_Aila_ConSelloPropio_cartel.jpg
END:VEVENT
END:VCALENDAR