BEGIN:VCALENDAR
VERSION:2.0
PRODID:-//mientrada.net - ECPv5.16.0//NONSGML v1.0//EN
CALSCALE:GREGORIAN
METHOD:PUBLISH
X-WR-CALNAME:mientrada.net
X-ORIGINAL-URL:https://www.mientrada.net
X-WR-CALDESC:Eventos para mientrada.net
REFRESH-INTERVAL;VALUE=DURATION:PT1H
X-Robots-Tag:noindex
X-PUBLISHED-TTL:PT1H
BEGIN:VTIMEZONE
TZID:Europe/Madrid
BEGIN:DAYLIGHT
TZOFFSETFROM:+0100
TZOFFSETTO:+0200
TZNAME:CEST
DTSTART:20220327T010000
END:DAYLIGHT
BEGIN:STANDARD
TZOFFSETFROM:+0200
TZOFFSETTO:+0100
TZNAME:CET
DTSTART:20221030T010000
END:STANDARD
END:VTIMEZONE
BEGIN:VEVENT
DTSTART;TZID=Europe/Madrid:20220204T190000
DTEND;TZID=Europe/Madrid:20220204T200000
DTSTAMP:20260421T180648
CREATED:20210916T124918Z
LAST-MODIFIED:20211012T171758Z
UID:10036-1644001200-1644004800@www.mientrada.net
SUMMARY:X LA FILARMÓNICA FRENTE AL MAR - Nº 5
DESCRIPTION:Comparte este evento en:
URL:https://www.mientrada.net/evento/x-la-filarmonica-frente-al-mar-5/
LOCATION:Auditorio Edgar Neville\, Calle Pacífico\, 54\, Málaga\, Málaga\, 29004\, España
CATEGORIES:Auditorio Edgar Neville,Málaga,Orquesta Filarmónica de Málaga
ATTACH;FMTTYPE=image/jpeg:https://www.mientrada.net/wp-content/uploads/2021/09/Imagen-X-Ofm-frente-al-mar.jpg
END:VEVENT
BEGIN:VEVENT
DTSTART;TZID=Europe/Madrid:20220204T193000
DTEND;TZID=Europe/Madrid:20220204T203000
DTSTAMP:20260421T180648
CREATED:20220119T094741Z
LAST-MODIFIED:20220201T120706Z
UID:10733-1644003000-1644006600@www.mientrada.net
SUMMARY:MANTO
DESCRIPTION:Zira Williams Producciones. \nEl olvido y el recuerdo son piezas muy complejas para que convivan en armonía. MANTO\, es capaz de conseguir que se unan estas dos emociones en un mismo lugar. Un espacio entre el cielo y el suelo\, un tránsito indefinido que no podemos ver pero si sentir\, donde se guardan los aromas\, la texturas\, las visiones\, las luces\, las sombras\, una dedicatoria\, una nana\, una lágrima y un adiós. Un cajón invisible donde todo ser humano guarda los tesoros de su vida. El dolor es una joya amarga que te hace crecer y aprender. El dolor también ama. \n  \nFICHA ARTÍSTICA: \n\nActriz protagonista – Zira Williams\nGuitarra – Sergio Molido “El Kuko”\n\n  \nFICHA TÉCNICA: \n\nDramaturgia y dirección – LaPili y Rafael Bulé\nDirección musical – LaPili\nDiseño gráfico – Julián Navarro Rodero (Black Flag Design)\nFotografía – Wyvernheart Fotografía\nVideografía – Alberto Jurado\nPeluquería – Notting Hill Málaga\nVestuario – Elisa Postigo Cervera\nEscenografía y atrezzo – Zira Williams Producciones\n\n  \nZira Williams Producciones nace en 2020 y MANTO es su Opera Prima en teatro. Desde su reciente creación\, está inmersa en varias producciones tanto en el ámbito teatral como en el audiovisual. La integra Zira Williams\, una actriz malagueña de origen cordobés que lleva más de 15 años en la escena andaluza como amateur y que desde 2019 ha dado el salto a la escena profesional de la mano de grandes directores como LaPili o Mel Rocher. \n  \nPrecio: 10€ \n  \nNormas de obligado cumplimiento: \n\nsiga en todo momento las indicaciones higienico-sanitarias dadas por el personal de la sala;\nobligatorio el uso correcto de la mascarilla (cubriendo nariz y boca) en todo el recinto.\n\n  \nPuede compartir este evento en:
URL:https://www.mientrada.net/evento/manto-2/
LOCATION:Centro Cultural Vicente Aleixandre\, Calle Jabalcuza\, 9\, Alhaurín de la Torre\, 29130\, España
CATEGORIES:Alhaurín de la Torre,Centro Cultural Vicente Aleixandre
ATTACH;FMTTYPE=image/jpeg:https://www.mientrada.net/wp-content/uploads/2022/01/Cartel-Manto-Alh.T.jpg
END:VEVENT
BEGIN:VEVENT
DTSTART;TZID=Europe/Madrid:20220204T200000
DTEND;TZID=Europe/Madrid:20220204T210000
DTSTAMP:20260421T180648
CREATED:20211229T175549Z
LAST-MODIFIED:20220125T171332Z
UID:10576-1644004800-1644008400@www.mientrada.net
SUMMARY:Quejido y promesa
DESCRIPTION:EVENTO CANCELADO. ROGAMOS DISCULPEN LAS MOLESTIAS. \n  \nVelada inolvidable de flamenco con el cante de Asunción Heredia\, Fita Heredia\, Manuel Heredia y Pedro El Murciano. Acompañados de la guitarra de Joni de Pinos y el baile de Raquel La Repompa y Paco Fernández\, completan el elenco con Antonio Fernández El Chato como invitado especial. \nFrancisco Fernández\, conocido como Paco de Andrea\, nació en Granada\, pero se crió en Niza. Se forma como bailaor en los tablaos de Granada\, donde se distingue por la fuerza y elegancia en su baile\, siguiendo los pasos de Antonio Canales\, los Farrucos o Manolete\, entre otros. \nHa formado parte de diversos elencos\, destacando la compañía de Juan Andrés Maya\, y ha realizado giras por Estados Unidos\,\nJapón\, Rusia\, Islandia\, Alemania\, y Francia\, entre otros países. Raquel la Repompa ha bailado en el mítico tablao Casa Patas. Junto con su hermana\, se traslada a Málaga en el 2002 y comienza a trabajar en el Mesón La Repompa. Recientemente ha recorrido los escenarios de la provincia. \n  \nPrecio: 12€ \n  \nNORMAS DE OBLIGADO CUMPLIMIENTO: \n\nPor favor\, siga en todo momento las indicaciones higienico-sanitarias dadas por el personal de la sala.\nObligatorio el uso correcto de la mascarilla (cubriendo nariz y boca) en todo el recinto.\n\n  \nPuede compartir este evento en:
URL:https://www.mientrada.net/evento/quejido-y-promesa/
LOCATION:Centro Cultural Villa de Nerja\, Calle Granada 45\, Nerja\, Málaga\, 29780\, España
CATEGORIES:Centro Cultural Villa de Nerja,Nerja
ATTACH;FMTTYPE=image/jpeg:https://www.mientrada.net/wp-content/uploads/2021/12/Generico-Nerja.jpg
END:VEVENT
BEGIN:VEVENT
DTSTART;TZID=Europe/Madrid:20220204T203000
DTEND;TZID=Europe/Madrid:20220204T213000
DTSTAMP:20260421T180648
CREATED:20220121T143253Z
LAST-MODIFIED:20220129T194553Z
UID:10809-1644006600-1644010200@www.mientrada.net
SUMMARY:Moonlight Serenade
DESCRIPTION:Disponible a partir del lunes 31 de enero a las 10:00h. \n  \nESCENIK\nMOONLIGHT SERENADE\nDivinas \nUn cabaret lunático y existencialista.\nUn cabaret divertido y absurdo\nUn cabaret único y reivindicativo.\nUn cabaret poético y mágico.\nUn cabaret que en estos tiempos que corren\, reclama calma y contemplación.\nUn cabaret surrealista\, porque en la Luna todo es al revés de como funciona aquí.\nUn cabaret donde las tres Divinas regresan a los escenarios y hacen lo que más les gusta: cantar\, bailar\, emocionar y divertir a la audiencia.\nVosotros ponéis la noche. Divinas ponen las estrellas y una serenata a la luz de la Luna para dar gracias y seguir disfrutando y reivindicando\nFICHA ARTÍSTICA\nDIVINAS – voces\, percusión\, claqué\, ondes\, ukelele\,…\nSoprano – Carla Móra\nMezzosoprano – Irene Ruiz\nContralto – Marta Móra \nClarinete\, saxo\, washboard\, ukelele\, ondes – Juli Aymí\nPiano\, teclados\, glockenspiel – Federico Mazzanti\nIdea original – Divinas & Martí Torras Mayneris\nProducción ejecutiva – Divinas \nDramaturgia & dirección escénica – Martí Torras Mayneris\nDirección y producción musical\, arreglos vocales & efectos sonoros – Irene Ruiz\nArreglos instrumentales – Federico Mazzanti\, Juli Aymí\, Gabriel Amargant\, Bernat Font\, Ivan Kovacevic\, Irene Ruiz\nCoach percusión – Lluís Molas\nBatería en “Fly me to the moon” – Martí Elías\nCreación & dirección coreográfica – Carla Móra\nCoreografía claqué – Marta Móra\nAsesoría de imagen\, diseño de vestuario\, maquillaje & peluquería – Glòria Duran\nProducción de vestuario – Glòria Duran\, Divinas & Pili Domínguez\nDiseño de escenografía – Martí Torras Mayneris\nConstrucción de escenografía – La Forja Del Vallès\, Enric Ruiz\, Toni Castro\nDiseño de sonido – Pere Albiñana (Sclat!)\nDiseño de iluminación – Martí Torras Mayneris & Toni Castro\nFotografía luna – Manuel Tejado\nFotografía cartel – David Ruano\nFotografías directo – Tania Palomeque\nVídeo – Mar Orfila\nDistribución – Alba Espinasa \nDuración 75 min \n \n  \nNORMAS DE OBLIGADO CUMPLIMIENTO: \n\nPor favor\, siga en todo momento las indicaciones higienico-sanitarias dadas por el personal de la sala.\nObligatorio el uso correcto de la mascarilla (cubriendo nariz y boca) en todo el recinto.\nSi una vez sacada la entrada no puede acudir al espectáculo\, por favor comuníquelo por correo (cultura@malaga.es) o por teléfono (952133950).\nEntrada solo con invitación. No acudir al teatro si no dispone de ella.\n\n  \nPuede compartir este evento en:
URL:https://www.mientrada.net/evento/moonlight-serenade/
LOCATION:Centro Cultural MVA\, Calle Ollerías\, 33\, Málaga\, Málaga\, 29012\, España
CATEGORIES:Centro Cultural Provincial MVA,Culturama,Málaga,Teatro
ATTACH;FMTTYPE=image/jpeg:https://www.mientrada.net/wp-content/uploads/2022/01/Cartel-Moonlight-Serenade.jpg
END:VEVENT
END:VCALENDAR