BEGIN:VCALENDAR
VERSION:2.0
PRODID:-//mientrada.net - ECPv5.16.0//NONSGML v1.0//EN
CALSCALE:GREGORIAN
METHOD:PUBLISH
X-WR-CALNAME:mientrada.net
X-ORIGINAL-URL:https://www.mientrada.net
X-WR-CALDESC:Eventos para mientrada.net
REFRESH-INTERVAL;VALUE=DURATION:PT1H
X-Robots-Tag:noindex
X-PUBLISHED-TTL:PT1H
BEGIN:VTIMEZONE
TZID:Europe/Madrid
BEGIN:DAYLIGHT
TZOFFSETFROM:+0100
TZOFFSETTO:+0200
TZNAME:CEST
DTSTART:20220327T010000
END:DAYLIGHT
BEGIN:STANDARD
TZOFFSETFROM:+0200
TZOFFSETTO:+0100
TZNAME:CET
DTSTART:20221030T010000
END:STANDARD
END:VTIMEZONE
BEGIN:VEVENT
DTSTART;TZID=Europe/Madrid:20220219T200000
DTEND;TZID=Europe/Madrid:20220219T210000
DTSTAMP:20260421T180635
CREATED:20220201T155608Z
LAST-MODIFIED:20220201T155608Z
UID:10951-1645300800-1645304400@www.mientrada.net
SUMMARY:Un canto a la Poesía
DESCRIPTION:Recital a cargo del tenor Francisco Arbós\, la pianista Cornelia Lenzin y el actor Alfonso García-Valenzuela\, con un programa que incluye dos grandes obras\, Rückert Lieder y Sonetos de Petrarca\, introducidos por unos Lieder de Schumann exquisitos y terminando con unos sonetos apasionados\, románticos\, impresionistas y muy españoles de Joaquín Turina. Poesía y música en estado puro. \n  \nPrecio: 12€ + g.g. \n  \nNORMAS DE OBLIGADO CUMPLIMIENTO: \n\nPor favor\, siga en todo momento las indicaciones higienico-sanitarias dadas por el personal de la sala.\nObligatorio el uso correcto de la mascarilla (cubriendo nariz y boca) en todo el recinto.\n\n  \nPuede compartir este evento en:
URL:https://www.mientrada.net/evento/un-canto-a-la-poesia/
LOCATION:Centro Cultural Villa de Nerja\, Calle Granada 45\, Nerja\, Málaga\, 29780\, España
CATEGORIES:Centro Cultural Villa de Nerja,Lírica,Nerja
ATTACH;FMTTYPE=image/jpeg:https://www.mientrada.net/wp-content/uploads/2022/02/Cartel-Canto-poesia.jpg
END:VEVENT
BEGIN:VEVENT
DTSTART;TZID=Europe/Madrid:20220219T203000
DTEND;TZID=Europe/Madrid:20220219T213000
DTSTAMP:20260421T180635
CREATED:20220204T100450Z
LAST-MODIFIED:20220204T111709Z
UID:10977-1645302600-1645306200@www.mientrada.net
SUMMARY:El avance de la leona - Olga Pericet
DESCRIPTION:Preestreno. \nOlga Pericet presenta una nueva parte del proceso de investigación de LA LEONA\, una obra global que tendrá su finalización en 2023. LA LEONA es un proyecto inspirado en torno a la célebre guitarra de Antonio De Torres\, la que podría considerarse el primer prototipo de guitarra española y flamenca. Una guitarra que para su creador supuso un proceso creativo y de investigación constante\, al tratarse de un primer arquetipo experimental. \nAl igual que De Torres\, Pericet y su equipo toman esa línea experimental para presentar una investigación artística a la búsqueda del diálogo entre el animal y el instrumento\, aludiendo a la simbología de esa Leona. Después de estrenar un primer movimiento en Festival Internacional de Danza Itálica\, podremos ver en Festival de Jerez otro work in progress hacia un nuevo avance. En esta ocasión\, junto con la colaboración del creador Daniel Abreu\, entre otros artistas. \n  \nEl Avance de La Leona: (El Tornavoz: lo artificial ante lo natural).\nMadera pulida\, serrín\, olor a ciprés\, la solera\, el silencio\, la ampliación del sonido\, lo ancestral\, lo espiritual\, el artilugio\, el Ritual\, la Resonancia\, transmisión oral\, corporal\, social\, popular. “Yo diría que existen dos almas\, dos polos\, que “rugen” en el cuerpo sonoro y en las formas de La Leona\, lo oscuro y lo extrovertido. Estos conviven conjugando en una integridad sonora\, en un sonido vocal que multiplica su siempre indómita conflictividad\, haciendo rebotar su contraste como luz en sala de espejos. La elementariedad expresiva\, clara\, flexible\, casi jonda –que el oloroso ciprés del cual son hechos fondo y aros\, transmite al sonido de la guitarra- viene casi reconducida a una oscura resonancia\, por el efecto fónico producido típicamente por el tornavoz\, como la búsqueda de un virtual fundamento del cual cada sonido quiere convertirse en armónico.” Stefano Grondona\, concertista e investigador. \nOlga Pericet.\nSu carrera empieza en su Córdoba natal\, licenciándose en el Conservatorio Profesional Luis del Río. Cursa carrera en la Escuela homologada Maica Moyano y se forma en flamenco\, folclore\, escuela bolera y clásico con maestros de la talla de Matilde Coral\, Manolo Marín\, Concha Calero\, Cristóbal Reyes\, Juanjo Linares\, Pedro Azorín\, Eloy Pericet\, Julio Príncipe o José Granero\, entre otros. Ha sido solista y artista invitada de compañías como la de Rafaela Carrasco\, Nuevo Ballet Español\, Arrieritos\, Miguel Ángel Berna\, Teresa Nieto\, Belén Maya y el Ballet Nacional de España. Comparte escenario con Ana Laguna\, Nacho Duato y Enrique Morente. \nGran renovadora del flamenco\, entre sus galardones destacan el Premio Nacional de Danza 2018\, el Premio Extraordinario de Teatro ACE Awards 2016 (Asociación de Cronistas de Espectáculos de Nueva York); el Premio MAX de las Artes Escénicas a la Mejor Bailarina Principal por Pisadas (2015) o el galardón de El Ojo Crítico de RNE (2014) “por su versatilidad como intérprete\, su creatividad y su valentía al asumir riesgos artísticos”\, así como el Flamenco Hoy a la Mejor Bailaora\, otorgado por la crítica especializada española(2012); el Premio a la Artista Revelación en el Festival de Jerez(2011); el Premio Max a la Mejor Coreografía por De cabeza(2009)\, entre otros. \nSus espectáculos más reconocidos son Rosa Metal Ceniza (2011)\, De una pieza (2012)\, Pisadas\, fin y principio de mujer (2014) y La espina que quiso ser flor o la flor que soñó con ser bailaora (2017)\, así como numerosas colaboraciones. \n  \nNORMAS DE OBLIGADO CUMPLIMIENTO: \n\nPor favor\, siga en todo momento las indicaciones higienico-sanitarias dadas por el personal de la sala.\nObligatorio el uso correcto de la mascarilla (cubriendo nariz y boca) en todo el recinto.\n\n  \nPuede compartir este evento en:
URL:https://www.mientrada.net/evento/el-avance-de-la-leona-olga-pericet/
LOCATION:Teatro Municipal Villa de Torrox\, Av. Isaac Albéniz\, 3\, Torrox\, Málaga\, 29793\, España
CATEGORIES:Flamenco,Teatro Municipal Villa de Torrox,Torrox
ATTACH;FMTTYPE=image/jpeg:https://www.mientrada.net/wp-content/uploads/2022/02/Cartel-Olga-Pericet-Torrox.jpg
END:VEVENT
BEGIN:VEVENT
DTSTART;TZID=Europe/Madrid:20220219T203000
DTEND;TZID=Europe/Madrid:20220219T223000
DTSTAMP:20260421T180635
CREATED:20220121T143253Z
LAST-MODIFIED:20220218T090650Z
UID:10825-1645302600-1645309800@www.mientrada.net
SUMMARY:El diario de K
DESCRIPTION:Disponible a partir del lunes 14 de febrero a las 10:00h. \nCÍA. TPT. \nAsociación Teatro Para Todos (T.P.T.) \, es un equipo multidisciplinario que trabaja con el teatro como herramienta educativa capaz de hacer visible problemáticas sociales. La metodología utilizada permite dar la oportunidad al público que asiste de que ellos mismos comiencen a crear una mente crítica\, respecto a la temática presentada\, lo que sienta las bases de una sociedad con capacidad crítica. \nT.P.T. está formado por profesionales de la Educación Social\, el Trabajo Social y las Artes Escénicas. Lleva a cabo diferentes acciones dirigidas a todo tipo de grupos sociales: Teatro Social\, formación en Teatro de las Personas Oprimidas\, dinamización comunitaria\, mediación y facilitación de procesos grupales\, dirección y producción de obras de Teatro Social\, Teatro Foro y Teatro Encuentro\, etc. Tratando temas como: La Violencia de género\, la Desigualdad Social\, las Relaciones Sociales\, la Discriminación\, entre otras. Asociación Teatro Para Todos cree fielmente en la transformación social y personal a través del teatro. \nEL DIARIO DE K relata la historia de una victima de Bullying en todas sus vertientes (ciberbullying\, acoso\, aislamiento social\, violencia física y verbal\, etc). Muestra como esta situación puede afectar a todo su entorno\, que se ve inmerso en una lucha constante entre la desesperación y el desconocimiento. \n  \nFICHA ARTÍSTICA: \n\nDRAMATURGIA y DIRECCIÓN: Chus Gómez\nREPARTO: Carlos Guirao /Ariadna Fabra/ Fran Guerrero/ Carmen Terán/ Lucía Fernandez/ Rocío Coca\nMOVIMIENTO: Chus Gómez\nESCENOGRAFÍA: Teatro Para Todos\nEQUIPO PEDAGÓGICO: Mª José Coca y Carmen Martín\nFOTOGRAFÍA: Dori de Aps Fotografia\nILUMINACIÓN: CÍA TPT\nUna producción de TEATRO PARA TODOS\n\nDuración 120 minutos\, repartidos en 40 minutos de obra de teatro y 80 minutos de foro con la participación del público. \n  \n \n  \nNORMAS DE OBLIGADO CUMPLIMIENTO: \n\nPor favor\, siga en todo momento las indicaciones higienico-sanitarias dadas por el personal de la sala.\nObligatorio el uso correcto de la mascarilla (cubriendo nariz y boca) en todo el recinto.\nSi una vez sacada la entrada no puede acudir al espectáculo\, por favor comuníquelo por correo (cultura@malaga.es) o por teléfono (952133950).\nEntrada solo con invitación. No acudir al teatro si no dispone de ella.\n\n  \nPuede compartir este evento en:
URL:https://www.mientrada.net/evento/el-diario-de-k/
LOCATION:Centro Cultural MVA\, Calle Ollerías\, 33\, Málaga\, Málaga\, 29012\, España
CATEGORIES:Centro Cultural Provincial MVA,Culturama,Málaga,Teatro
ATTACH;FMTTYPE=image/jpeg:https://www.mientrada.net/wp-content/uploads/2022/01/Cartel-El-diario-de-K.jpg
END:VEVENT
END:VCALENDAR