BEGIN:VCALENDAR
VERSION:2.0
PRODID:-//mientrada.net - ECPv5.16.0//NONSGML v1.0//EN
CALSCALE:GREGORIAN
METHOD:PUBLISH
X-WR-CALNAME:mientrada.net
X-ORIGINAL-URL:https://www.mientrada.net
X-WR-CALDESC:Eventos para mientrada.net
REFRESH-INTERVAL;VALUE=DURATION:PT1H
X-Robots-Tag:noindex
X-PUBLISHED-TTL:PT1H
BEGIN:VTIMEZONE
TZID:Europe/Madrid
BEGIN:DAYLIGHT
TZOFFSETFROM:+0100
TZOFFSETTO:+0200
TZNAME:CEST
DTSTART:20220327T010000
END:DAYLIGHT
BEGIN:STANDARD
TZOFFSETFROM:+0200
TZOFFSETTO:+0100
TZNAME:CET
DTSTART:20221030T010000
END:STANDARD
END:VTIMEZONE
BEGIN:VEVENT
DTSTART;TZID=Europe/Madrid:20220226T203000
DTEND;TZID=Europe/Madrid:20220226T213000
DTSTAMP:20260421T105450
CREATED:20220204T100450Z
LAST-MODIFIED:20220221T095708Z
UID:11163-1645907400-1645911000@www.mientrada.net
SUMMARY:La Rosa Mutábile
DESCRIPTION:Compañía Musa Carmen Fernández. \nBasada en «Doña Rosita la Soltera» de Federico García Lorca. \nLA ROSA MUTABILE es una ODA a la TRANSFORMACIÓN\, a la impermanencia\, al no-nacimiento y a la no-muerte. Desde la versatilidad del lenguaje flamenco adaptado a un lenguaje escénico actual\, “La Rosa Mutábile” es un poema visual\, musical y coreográfico basado en el poema central de la obra “Doña Rosita la soltera o El lenguaje de las Flores” de Federico García Lorca. \nEn esta fantasía\, con resonancias del teatro Noh japonés\, una pareja de Botánicos estudia a la flor Rosa Mutábile\, un hermoso espécimen que nace y muere en el mismo día\, durante el cual sufre extravagantes cambios. Cia. MUSA ha rodado varias piezas audiovisuales como parte del proceso de investigación para la creación de “La Rosa Mutábile”\, en el que el elenco lo formaron Sara Jiménez\, Nadia González\, y Cristian Martín. \n  \nCompañía Musa Carmen Fernández. \nCompañía MUSA se propone desarrollar procesos creativos alrededor de una REFLEXIÓN. MUSA es una Compañía multidisciplinar que reflexiona a través de la sinergia entre diferentes expresiones artísticas: danza\, artes plásticas\, teatro o música\, desde la matriz del Flamenco. MUSA se propone desarrollar procesos creativos alrededor de una REFLEXIÓN. Estos procesos se extienden el tiempo suficiente como para abarcar una mirada amplia y versátil sobre dicha reflexión. \nDurante una exploración rica y profunda que puede abarcar varios años\, diferentes experiencias artísticas confluyen brindando múltiples enfoques alrededor de esa reflexión. Estos enfoques se manifestarán en distintos formatos de cara al público: Proyectos cinematográficos\, performances en espacios alternativos\, exposiciones de fotografía\, artes plásticas o video instalación\, obras escénicas de «pequeño formato» para salas pequeñas\, u obras para poner en escena en Teatros convencionales. \nEste método permite involucrar al espectador durante todo el proceso creativo\, haciéndole agente de esa experiencia de búsqueda\, y generando un feedback constante entre las diferentes disciplinas artísticas. \n  \nFicha Artística: \n\nDirección: Carmen Fernandez\nCoreografía: José Maldonado\nBaile: Isabel Aranda\, Gabriel Matias y Mariana González\nGuitarra: Juan Antonio Suárez «Canito»\nCante: El Maty\n\n  \nNORMAS DE OBLIGADO CUMPLIMIENTO: \n\nPor favor\, siga en todo momento las indicaciones higienico-sanitarias dadas por el personal de la sala.\nObligatorio el uso correcto de la mascarilla (cubriendo nariz y boca) en todo el recinto.\n\n  \nPuede compartir este evento en:
URL:https://www.mientrada.net/evento/la-rosa-mutabile/
LOCATION:Teatro Municipal Villa de Torrox\, Av. Isaac Albéniz\, 3\, Torrox\, Málaga\, 29793\, España
CATEGORIES:Flamenco,Teatro Municipal Villa de Torrox,Torrox
ATTACH;FMTTYPE=image/jpeg:https://www.mientrada.net/wp-content/uploads/2022/02/Cartel-La-Rosa-mutabile-Torrox.jpg
END:VEVENT
BEGIN:VEVENT
DTSTART;TZID=Europe/Madrid:20220226T210000
DTEND;TZID=Europe/Madrid:20220226T230000
DTSTAMP:20260421T105450
CREATED:20220209T130529Z
LAST-MODIFIED:20220209T130529Z
UID:11022-1645909200-1645916400@www.mientrada.net
SUMMARY:Presentacion Carnaval Marbella 2022
DESCRIPTION:Entrada libre por invitacion hasta completar aforo. \nRecogida de invitaciones exclusivamente en la taquilla del teatro\, a partir del viernes 18 de de febrero. \nMaximo 2 invitaciones por persona. \n  \nPuede compartir este evento en:
URL:https://www.mientrada.net/evento/presentacion-carnaval-marbella-2022/
LOCATION:Teatro Ciudad de Marbella\, Plaza Ramon Martinez\, 3\, Marbella\, Málaga\, 29603\, España
CATEGORIES:Carnaval,Marbella,Teatro Ciudad de Marbella
ATTACH;FMTTYPE=image/jpeg:https://www.mientrada.net/wp-content/uploads/2022/02/Cartel-Presentacion-Carnaval-2022.jpg
END:VEVENT
BEGIN:VEVENT
DTSTART;TZID=Europe/Madrid:20220226T213000
DTEND;TZID=Europe/Madrid:20220226T230000
DTSTAMP:20260421T105450
CREATED:20220126T155735Z
LAST-MODIFIED:20220126T161013Z
UID:10887-1645911000-1645916400@www.mientrada.net
SUMMARY:PACO CANDELA - PASEO POR LO ETERNO
DESCRIPTION:Paco Candela tras su nominación a los Latin Grammy y Premios Odeón 2021 como mejor artista y álbum de música flamenca\, presenta su nuevo trabajo «Paseo por lo Eterno». Disco recientemente editado que ha supuesto el lanzamiento discográfico más importante del año en su género en el que versiona canciones que el artista ha escuchado desde que era joven. Un homenaje y un repaso a esas canciones «eternas» que han interpretado grandes artistas como Alameda\, Junco\, Rocío Jurado\, Los Chichos\, Triana\, Raphael o Pepe Pinto\, entre otros… \nDespués de 15 discos de estudio\, en los que interpreta sevillanas\, tangos\, fandangos… y casi todos los palos\, convirtiéndose en una de las voces referentes a nivel nacional e internacional de música flamenca\, ahora presenta una gira donde se reencuentra con sus “candelistas”\, como así se autodenominan sus fans\, una multitud que crece cada día\, en buena medida tras acudir a los conciertos de Paco y descubrir su cercanía y su gran voz. Rodeado de un excelente elenco de músicos y técnicos hacen de cada actuación una noche que el público no puede olvidar\, pura emoción y puro sentimiento\, es Paco Candela. \n  \nPRECIOS: \n\nSillas: 25€ + g.g.\nGeneral: 22€ + g.g\n\n  \nNORMAS DE OBLIGADO CUMPLIMIENTO: \n\nProhibida la entrada de comida y bebida.\nPor favor\, siga en todo momento las indicaciones higienico-sanitarias dadas por el personal de la sala.\nObligatorio el uso correcto de la mascarilla (cubriendo nariz y boca) en todo el recinto.\n\n  \nPuede compartir este evento en:
URL:https://www.mientrada.net/evento/paco-candela-paseo-por-lo-eterno/
LOCATION:CAC Cártama Auditorio Cultural\, Carretera A7057\, Cártama\, Málaga\, España
CATEGORIES:Cártama,Cártama Auditorio Cultural,Concierto
ATTACH;FMTTYPE=image/jpeg:https://www.mientrada.net/wp-content/uploads/2022/01/Cartel-Paco-Candela-Cartama.jpg
END:VEVENT
END:VCALENDAR