BEGIN:VCALENDAR
VERSION:2.0
PRODID:-//mientrada.net - ECPv5.16.0//NONSGML v1.0//EN
CALSCALE:GREGORIAN
METHOD:PUBLISH
X-WR-CALNAME:mientrada.net
X-ORIGINAL-URL:https://www.mientrada.net
X-WR-CALDESC:Eventos para mientrada.net
REFRESH-INTERVAL;VALUE=DURATION:PT1H
X-Robots-Tag:noindex
X-PUBLISHED-TTL:PT1H
BEGIN:VTIMEZONE
TZID:Europe/Madrid
BEGIN:DAYLIGHT
TZOFFSETFROM:+0100
TZOFFSETTO:+0200
TZNAME:CEST
DTSTART:20240331T010000
END:DAYLIGHT
BEGIN:STANDARD
TZOFFSETFROM:+0200
TZOFFSETTO:+0100
TZNAME:CET
DTSTART:20241027T010000
END:STANDARD
END:VTIMEZONE
BEGIN:VEVENT
DTSTART;TZID=Europe/Madrid:20240216T200000
DTEND;TZID=Europe/Madrid:20240216T200000
DTSTAMP:20260421T202531
CREATED:20240124T090943Z
LAST-MODIFIED:20240131T210326Z
UID:80902-1708113600-1708113600@www.mientrada.net
SUMMARY:Una canción para Gozo
DESCRIPTION:MaF. Málaga de Festival 2024. \nIntervención de Daniel Blacksmith sobre el ensayo de Azahara Alonso. \nDaniel Blacksmith es compositor\, productor y multinstrumentista. Tras más una década dedicada a trabajar en grabaciones y producciones decide emprender su propio proyecto. Su obra\, a menudo protagonizada por la guitarra clásica\, el piano minimalista o sintetizadores ambientales\, es el resultado de una fuerte influencia de la música cinematográfica\, el post-rock\, la filosofía existencialista y el arte conceptual. \n  \nPrecios: \n\n6€ anticipada online\n8€ taquilla\n\n  \nPuede compartir este evento en:
URL:https://www.mientrada.net/evento/una-cancion-para-gozo/
LOCATION:Sala Joaquín Eléjar\, Calle San Juan Bosco\, 79\, Málaga\, Málaga\, 29014\, España
CATEGORIES:Málaga,Sala Joaquín Eléjar
ATTACH;FMTTYPE=image/jpeg:https://www.mientrada.net/wp-content/uploads/2024/01/Cartel-Cancion-Gozo-2.jpg
END:VEVENT
BEGIN:VEVENT
DTSTART;TZID=Europe/Madrid:20240216T200000
DTEND;TZID=Europe/Madrid:20240216T200000
DTSTAMP:20260421T202531
CREATED:20240129T115250Z
LAST-MODIFIED:20240129T182540Z
UID:80966-1708113600-1708113600@www.mientrada.net
SUMMARY:FUENSANTA LA MONETA
DESCRIPTION:Flamenco In Progress. \nEn mí trayectoria artística y vital hay un momento determinante\, de una importancia critica en mi vida artística; cuando recibo\, allá por el 2011\, de parte del compositor Mauricio Sotelo una invitación para participar en uno de sus proyectos. Desde entonces mi relación con Mauricio Sotelo\, se extiende y profundiza con el paso de los años\, sumando colaboraciones en diferentes proyectos del compositor\, llegando incluso a ser mi baile fundamento motivador de alguna de las composiciones del maestro Sotelo. \nEl espíritu abierto\, la curiosidad critica\, el afán de conocer y de aprender\, me llevó a entender con toda naturalidad las propuestas de Sotelo\, y ello\, sin renuncia alguna\, aportando mi mundo propio y mi lenguaje. Este diálogo artístico no hubiera sido posible sin la profunda carga flamenca que tienen las creaciones de Mauricio Sotelo. \nLa riqueza del camino recorrido de la mano de Sotelo\, es amplia en experiencias y relaciones. Vivir el flamenco con grandes músicos\, y formaciones musicales\, contemporáneos\, y en espacios donde el flamenco es actor flamante\, es para mi un regalo de la vida de un valor inestimable\, precioso. Hacer que el flamenco cautive el amor de nuevos públicos y\, sobre todo\, de excelentes músicos de ámbito internacional\, es una tarea apasionante. \nConstruir una suite flamenca que exponga toda la carga de belleza de los Vínculos entre “mis dos mundos” es una aventura artistica apasionante. \nFuensanta La Moneta. \n  \nPuede compartir este evento en:
URL:https://www.mientrada.net/evento/fuensanta-la-moneta/
LOCATION:Teatro Municipal Villa de Torrox\, Av. Isaac Albéniz\, 3\, Torrox\, Málaga\, 29793\, España
CATEGORIES:Flamenco,Teatro Municipal Villa de Torrox,Torrox
ATTACH;FMTTYPE=image/jpeg:https://www.mientrada.net/wp-content/uploads/2024/01/Cartel-La-Moneta.jpg
END:VEVENT
BEGIN:VEVENT
DTSTART;TZID=Europe/Madrid:20240216T203000
DTEND;TZID=Europe/Madrid:20240216T203000
DTSTAMP:20260421T202531
CREATED:20240116T172847Z
LAST-MODIFIED:20240209T123102Z
UID:80716-1708115400-1708115400@www.mientrada.net
SUMMARY:La última cinta de Krapp
DESCRIPTION:¡2 ENTRADAS POR PERSONA! \nLa última cinta de Krapp\, seguramente la obra maestra de Samuel Beckett (1906-1989)\, fue escrita el año 1958. Se trata de un texto breve\, de un diálogo entre el viejo y solitario Krapp y las cintas magnetofónicas que él mismo graba cada año el día de su aniversario. Pero casi no se reconoce en esas grabaciones: Sin embargo de vez en cuando hay un destello de lucidez\, un momento memorable\, una imagen que se hace presente. Krapp\, sentado en una mesa\, ante esta máquina que habla\, rodeado de oscuridad\, radicalmente solo\, con un humor a veces cruel\, agrio y muy a menudo sarcástico\, también se emociona\, duda\, e intenta evitar la demoledora fuerza del paso del tiempo. Y la pregunta es: ¿cómo hay que hacer este personaje que calza botas blancas y discute con una máquina? \nNuestra propuesta es alejar el personaje del clown\, humanizarlo al máximo\, verlo como un ser humano real en una situación concreta\, en un contexto preciso\, rodeado de vecinos la existencia de los cuales le llega por ruidos que le son familiares y de alguna manera comunes a todos nosotros: la voz lejana de una televisión\, alguien que canta y se ríe\, una ambulancia o el coche de la policía que pasa…Krapp es un ser humano que se esfuerza por dejar este rastro anual en sus grabaciones\, que escuchándolas se resiste también a perder la conexión con esa voz que es la suya de hace años; Krapp es alguien que ha vivido y que quiere recordar. La vida se le ha hecho añicos\, pero él quiere recordar. Sin nostalgias ni sentimentalismos. \n  \nFICHA ARTÍSTICA: \n\nAUTOR: Samuel Beckett\nCOMPAÑÍAS TEATRO DEL ESPEJO (Zaragoza) y Teatre del Temps XXI (Barcelona)\nTRADUCCIÓN Y DIRECCIÓN: Jordi Coca\nINTERPRETACIÓN: Paco Ortega\nESPACIO ESCÉNICO: Jordi Coca\nILUMINACIÓN: Silvia Valls\nDISEÑO ESPACIO SONORO: Paco Aguarod\nGRABACIÓN: Coda Estudios\nVESTUARIO: Viqui Sanz\nFOTOGRAFÍA: Roberto Millan y Mas Mastral\nPRODUCCIÓN EJECUTIVA: Isabel Rodriguez y Viqui Sanz\nAGRADECIMIENTOS: Sala Beckett (Barcelona) y La Gleva Teatre (Barcelona)\n\nDuración: 60 minutos. \n  \nPuede compartir este evento en:
URL:https://www.mientrada.net/evento/culturama-la-ultima-cinta-de-krapp/
LOCATION:Centro Cultural MVA\, Calle Ollerías\, 33\, Málaga\, Málaga\, 29012\, España
CATEGORIES:Centro Cultural Provincial MVA,Culturama,Málaga,Teatro
ATTACH;FMTTYPE=image/jpeg:https://www.mientrada.net/wp-content/uploads/2024/01/Cartel-2024-02-16-Krapp.jpg
END:VEVENT
END:VCALENDAR