BEGIN:VCALENDAR
VERSION:2.0
PRODID:-//mientrada.net - ECPv5.16.0//NONSGML v1.0//EN
CALSCALE:GREGORIAN
METHOD:PUBLISH
X-WR-CALNAME:mientrada.net
X-ORIGINAL-URL:https://www.mientrada.net
X-WR-CALDESC:Eventos para mientrada.net
REFRESH-INTERVAL;VALUE=DURATION:PT1H
X-Robots-Tag:noindex
X-PUBLISHED-TTL:PT1H
BEGIN:VTIMEZONE
TZID:Europe/Madrid
BEGIN:DAYLIGHT
TZOFFSETFROM:+0100
TZOFFSETTO:+0200
TZNAME:CEST
DTSTART:20240331T010000
END:DAYLIGHT
BEGIN:STANDARD
TZOFFSETFROM:+0200
TZOFFSETTO:+0100
TZNAME:CET
DTSTART:20241027T010000
END:STANDARD
END:VTIMEZONE
BEGIN:VEVENT
DTSTART;VALUE=DATE:20240224
DTEND;VALUE=DATE:20240225
DTSTAMP:20260421T202531
CREATED:20240126T000706Z
LAST-MODIFIED:20240126T000755Z
UID:80935-1708732800-1708819199@www.mientrada.net
SUMMARY:Rocío Silva - A lo nuestro
DESCRIPTION:Con Fran Valero y Juan Jesús el Manta. \n  \nCarrera de cintas: \n\n1º premio 200€\n2º premio 100€\n3º premio 50€\n\n  \nHorarios: \n\n12:00 carrera\n16:00 conciertos\n\n  \nPrecios: \n\nentrada anticipada: 15€\nen puerta el día del evento: 20€\n\n  \nPuede compartir este evento en:
URL:https://www.mientrada.net/evento/rocio-silva-a-lo-nuestro/
LOCATION:Cortijo San Joaquín\, Camino de los Alcabuceros\, 6\, Málaga\, Málaga\, 29010\, España
CATEGORIES:Cortijo San Joaquín,Málaga
ATTACH;FMTTYPE=image/jpeg:https://www.mientrada.net/wp-content/uploads/2024/01/Cartel-Rocio-Silva.jpg
END:VEVENT
BEGIN:VEVENT
DTSTART;TZID=Europe/Madrid:20240224T120000
DTEND;TZID=Europe/Madrid:20240224T120000
DTSTAMP:20260421T202531
CREATED:20240116T110639Z
LAST-MODIFIED:20240219T093935Z
UID:80697-1708776000-1708776000@www.mientrada.net
SUMMARY:CICLO DE TEATRO INFANTIL 2024
DESCRIPTION:Programa: \n\n03/02/2024: La costurerita valiente (a partir de 4 años)\n10/02/2024: Curra y Lola (a partir de 2 años)\n17/02/2024: Ritmos animalescos (a partir de 3 años)\n24/02/2024: Tierra mía (a partir de 6 años)\n\n  \nPrecios: 4€ excepto «Tierra mía» que es por invitación. \n  \nSábado 3 de febrero – 12.00h\nLA COSTURERITA VALIENTE: Compañía Xarot Teatre (Teatro de títeres) A partir de 4 años. \nUna Costurerita valiente que acabó con siete de un sólo golpe y decidió que el mundo tenía que conocer su proeza\, así empezó a viajar. La gente decía que eran siete elefantes\, siete monstruos… Al verla como poderosa guerrera\, le encargaron liberar la región de un gigante y un terrible unicornio que atemorizaba a sus habitantes. A cambio\, recibiría una fortuna y otras cosas por descubrir. Ella con su inteligencia\, superará los retos\, consiguiendo la mejor de las recompensas\, aunque no fuera la que todos pensaban. \n  \nSábado 10 de febrero – 12.00h\nCURRA Y LOLA: Proyecto Nana (Danza Infantil) A partir de 2 años. \nCurra es una amante de la danza. Lola es una muñeca flamenca que cuando se activa ya solo quiere bailar. La escena es el terreno de juego de ambas en el que mezclan los lenguajes flamenco y contemporáneo\, una pieza que invita a reflexionar sobre la competitividad y la cooperación\, contradicciones inherentes en la naturaleza de cualquier especie. Proyecto NaNa es un punto de encuentro entre la danza\, el teatro y el público familiar. \n  \nSábado 17 febrero – 12.00h\nRITMOS ANIMALESCOS: Compañía Fábrica de Paraules (Música y títeres) A partir de 3 años. \nRitmos Animalescos es un concierto en directo\, tradición oral y amor a la palabra\, es infancia y familia\, es juego y recreo\, es pura energía y ganas de reír\, de ballar y disfrutar\, mientras recordamos nuestra propia infancia y la compartimos con nuestras hijas e hijos… y todo esto\, con la presencia del títere en escena. Ritmos Animalescos es también una llamada a la memoria\, un estímulo y un recordatorio para que las rimas y retahílas que se contaron y cantaron pervivan más allá de nuestro tiempo. ¿Qué sucedería si uniésemos en el escenario a una vaca\, cinco monos\, un piojo\, una pulga\, una rana\, diez perritos\, tres gatos\, un puñado de ratones\, una araña\, una mosca\, un topo\, un lagarto\, y unos cuantos bichos más? Pues que el teatro se llenaría de Ritmos Animalescos. \n  \nSábado 24 de febrero – 12.00h  ¡POR INVITACIÓN!\nTIERRA MÍA: Compañía Pata Teatro (Teatro y títeres) A partir de 6 años. \nDos tierras. Dos personas. Dos mundos. Dos realidades. Una amistad. “Tierra mía” es la historia de dos personas que viven en dos mundos paralelos totalmente distintos y a la vez\, absolutamente parecidos. Una de ellas reside en una aldea rodeada de un bosque\, mientras que la otra habita justo debajo\, en las entrañas de Tierra Profunda. Entre ambas construyen una preciosa amistad en la que se desdibujan sus diferencias y se aproximan sus semejanzas\, creando así una nueva realidad\, donde se toman elementos de ambas culturas. Una apasionante comedia en la que dos actores nos hablan sobre la condición humana y de cómo las características que nos unen\, son más fuertes que las que nos separan. Se trata de una comedia para público familiar sobre la empatía\, la solidaridad y la valentía\, dirigida e interpretada por Josemi Rodríguez y Macarena Pérez. \n  \nPuede compartir este evento en:
URL:https://www.mientrada.net/evento/ciclo-de-teatro-infantil-2024/
LOCATION:Centro Cultural Vicente Aleixandre\, Calle Jabalcuza\, 9\, Alhaurín de la Torre\, 29130\, España
CATEGORIES:Alhaurín de la Torre,Centro Cultural Vicente Aleixandre,Ciclo Teatro Infantil Alh. de la Torre,Infantil
ATTACH;FMTTYPE=image/jpeg:https://www.mientrada.net/wp-content/uploads/2024/01/Cartel-Teatro-Infantil-2024.jpg
END:VEVENT
BEGIN:VEVENT
DTSTART;TZID=Europe/Madrid:20240224T190000
DTEND;TZID=Europe/Madrid:20240224T190000
DTSTAMP:20260421T202531
CREATED:20240110T161801Z
LAST-MODIFIED:20240219T091049Z
UID:80596-1708801200-1708801200@www.mientrada.net
SUMMARY:Canaán
DESCRIPTION:Compañía Montse Peidro y Paco Pozo. \nCanaán cuenta el encuentro de dos personas que luchan por sobrevivir. Una (Ocpaymani) lucha por abandonar un país subdesarrollado sumido en la tiranía de un régimen autoritario que denigra los derechos humanos; y la otra es Cerbera que lucha cada día para proteger su país de las continuas oleadas de inmigrantes ilegales que podrían desestabilizar la correcta armonía de una sociedad bien establecida. \nTodo ocurre en una noche en el que el sistema de seguridad del vallado falla y en un forcejeo Ocpaymani cruza al otro país y Cerbera queda atrapada en el lado opuesto. Ocpaymani es un hombre de principios que cree que haciendo las cosas bien todo es posible e intenta convencer a Cerbera para que le deje marchar; pero esta pertenece a un cuerpo de élite cuya férrea disciplina y sentido del deber le impide ver más allá de su obligación para con su país. \n  \nFicha artística y técnica: \n\nReparto: Montse Peidro y Paco Pozo\nIluminación: Michael Collis\nSonido: Moisés Pozo\nDiseño gráfico: Laura Siz\nAutor y director: Paco Pozo\n\n  \nPrecio: 12€ anticipada online / 15€ taquilla.\nGénero: comedia ácida.\nDuración: 90 minutos.\nEdad recomendada: mayores de 14 años. \n  \nPuede compartir este evento en:
URL:https://www.mientrada.net/evento/canaan/2024-02-24/
LOCATION:Sala Joaquín Eléjar\, Calle San Juan Bosco\, 79\, Málaga\, Málaga\, 29014\, España
CATEGORIES:Málaga,Sala Joaquín Eléjar,Teatro
ATTACH;FMTTYPE=image/jpeg:https://www.mientrada.net/wp-content/uploads/2024/01/Cartel-Canaan.jpg
END:VEVENT
BEGIN:VEVENT
DTSTART;TZID=Europe/Madrid:20240224T200000
DTEND;TZID=Europe/Madrid:20240224T200000
DTSTAMP:20260421T202531
CREATED:20240127T112337Z
LAST-MODIFIED:20240129T162055Z
UID:80970-1708804800-1708804800@www.mientrada.net
SUMMARY:Los Enredos de Scapin\, de Moliere
DESCRIPTION:  \nPuede compartir este evento en:
URL:https://www.mientrada.net/evento/san-pedro-los-enredos-de-scapin/
LOCATION:Centro de Artes Escénicas La Alcoholera\, Calle la Morena 4\, Marbella\, Málaga\, 29670\, España
CATEGORIES:La Alcoholera,San Pedro Alcántara
ATTACH;FMTTYPE=image/jpeg:https://www.mientrada.net/wp-content/uploads/2024/01/Cartel-Enredos-de-Scapin.jpg
END:VEVENT
END:VCALENDAR