BEGIN:VCALENDAR
VERSION:2.0
PRODID:-//mientrada.net - ECPv5.16.0//NONSGML v1.0//EN
CALSCALE:GREGORIAN
METHOD:PUBLISH
X-ORIGINAL-URL:https://www.mientrada.net
X-WR-CALDESC:Eventos para mientrada.net
REFRESH-INTERVAL;VALUE=DURATION:PT1H
X-Robots-Tag:noindex
X-PUBLISHED-TTL:PT1H
BEGIN:VTIMEZONE
TZID:Europe/Madrid
BEGIN:DAYLIGHT
TZOFFSETFROM:+0100
TZOFFSETTO:+0200
TZNAME:CEST
DTSTART:20240331T010000
END:DAYLIGHT
BEGIN:STANDARD
TZOFFSETFROM:+0200
TZOFFSETTO:+0100
TZNAME:CET
DTSTART:20241027T010000
END:STANDARD
END:VTIMEZONE
BEGIN:VEVENT
DTSTART;TZID=Europe/Madrid:20240225T120000
DTEND;TZID=Europe/Madrid:20240225T183000
DTSTAMP:20260421T190132
CREATED:20240125T221635Z
LAST-MODIFIED:20240223T172121Z
UID:80924-1708862400-1708885800@www.mientrada.net
SUMMARY:FIMAF MÁLAGA 2024
DESCRIPTION:¡AGOTADO TODOS LOS PASES! \nFeria Internacional de Moda Flamenca. \n  \nDESFILES \n12:00 \n\nDesfile/Concurso talentos noveles: Nuevos Aires Flamencos\nDesfile Ganadora Edición 2023\, Gloria Coca\n\n  \n13:30 \n\nAurora Gaviño\nTeressa Ninú\nÁngeles Verano\nRosa Pedroche\n\n  \n17:00 \n\nPilar Vera\nRocío Montserrat\nInma de la Riva\nMezztizo\nMelisa Lozano\n\n  \n18:30 \n\nJorge Sánchez\nJosé Galváñ\nPepitina Ruiz\nPepe Canela\n\n  \nORGANIZA: \n \n  \nPuede compartir este evento en:
URL:https://www.mientrada.net/evento/fimaf-malaga-2024/
LOCATION:Museo Automovilístico y de la Moda de Málaga\, Avenida Sor Teresa Prat\, 15\, Málaga\, Málaga\, 29003\, España
CATEGORIES:Málaga,Moda,Museo Automovilístico y de la Moda de Málaga
ATTACH;FMTTYPE=image/jpeg:https://www.mientrada.net/wp-content/uploads/2024/01/Cartel-Fimaf-2024.jpg
END:VEVENT
BEGIN:VEVENT
DTSTART;TZID=Europe/Madrid:20240225T180000
DTEND;TZID=Europe/Madrid:20240225T180000
DTSTAMP:20260421T190132
CREATED:20240110T125741Z
LAST-MODIFIED:20240112T121729Z
UID:80543-1708884000-1708884000@www.mientrada.net
SUMMARY:Latas
DESCRIPTION:Un equilibrio entre lo animal y lo humano\, una danza entre lo inútil y lo bello. Tres personajes construyen y destruyen el presente sin más objetivo que desafiar al aburrimiento. Se conocen tanto que no necesitan hablar. Buscan dentro de latas un poco de eso\, que al compartirse se multiplica. \nUna invitación a jugar indiferentes a cualquier pensamiento. «Entendemos el circo como arte vivo donde el riesgo está acompañado de humor\, de emoción\, de juego\, de poesía y de un público con el que compartes y alimentas la creatividad y el impulso de la curiosidad y de la búsqueda.» \n  \nFicha artística: \n\nDirección: Florent Bergal.\nCon: Ana Castrillo\, Hugues Gauthier y Javier Gracia.\n\n  \nPuede compartir este evento en:
URL:https://www.mientrada.net/evento/marbella-latas/
LOCATION:Teatro Ciudad de Marbella\, Plaza Ramon Martinez\, 3\, Marbella\, Málaga\, 29603\, España
CATEGORIES:Marbella,Teatro Ciudad de Marbella
ATTACH;FMTTYPE=image/jpeg:https://www.mientrada.net/wp-content/uploads/2024/01/LATAS.jpg
END:VEVENT
END:VCALENDAR