BEGIN:VCALENDAR
VERSION:2.0
PRODID:-//mientrada.net - ECPv5.16.0//NONSGML v1.0//EN
CALSCALE:GREGORIAN
METHOD:PUBLISH
X-ORIGINAL-URL:https://www.mientrada.net
X-WR-CALDESC:Eventos para mientrada.net
REFRESH-INTERVAL;VALUE=DURATION:PT1H
X-Robots-Tag:noindex
X-PUBLISHED-TTL:PT1H
BEGIN:VTIMEZONE
TZID:Europe/Madrid
BEGIN:DAYLIGHT
TZOFFSETFROM:+0100
TZOFFSETTO:+0200
TZNAME:CEST
DTSTART:20240331T010000
END:DAYLIGHT
BEGIN:STANDARD
TZOFFSETFROM:+0200
TZOFFSETTO:+0100
TZNAME:CET
DTSTART:20241027T010000
END:STANDARD
END:VTIMEZONE
BEGIN:VEVENT
DTSTART;TZID=Europe/Madrid:20240227T200000
DTEND;TZID=Europe/Madrid:20240227T200000
DTSTAMP:20260421T190132
CREATED:20240127T112337Z
LAST-MODIFIED:20240129T180955Z
UID:80972-1709064000-1709064000@www.mientrada.net
SUMMARY:María Villalón - Tratado de Paz
DESCRIPTION:  \nPuede compartir este evento en:
URL:https://www.mientrada.net/evento/san-pedro-maria-villalon/
LOCATION:Centro de Artes Escénicas La Alcoholera\, Calle la Morena 4\, Marbella\, Málaga\, 29670\, España
CATEGORIES:La Alcoholera,San Pedro Alcántara
ATTACH;FMTTYPE=image/jpeg:https://www.mientrada.net/wp-content/uploads/2024/01/Cartel-Maria-Villalon.jpg
END:VEVENT
END:VCALENDAR