BEGIN:VCALENDAR
VERSION:2.0
PRODID:-//mientrada.net - ECPv5.16.0//NONSGML v1.0//EN
CALSCALE:GREGORIAN
METHOD:PUBLISH
X-ORIGINAL-URL:https://www.mientrada.net
X-WR-CALDESC:Eventos para mientrada.net
REFRESH-INTERVAL;VALUE=DURATION:PT1H
X-Robots-Tag:noindex
X-PUBLISHED-TTL:PT1H
BEGIN:VTIMEZONE
TZID:Europe/Madrid
BEGIN:DAYLIGHT
TZOFFSETFROM:+0100
TZOFFSETTO:+0200
TZNAME:CEST
DTSTART:20240331T010000
END:DAYLIGHT
BEGIN:STANDARD
TZOFFSETFROM:+0200
TZOFFSETTO:+0100
TZNAME:CET
DTSTART:20241027T010000
END:STANDARD
END:VTIMEZONE
BEGIN:VEVENT
DTSTART;TZID=Europe/Madrid:20240301T200000
DTEND;TZID=Europe/Madrid:20240301T200000
DTSTAMP:20260421T190131
CREATED:20240110T125741Z
LAST-MODIFIED:20240112T121851Z
UID:80544-1709323200-1709323200@www.mientrada.net
SUMMARY:Mujer en cinta de correr sobre fondo negro
DESCRIPTION:Mujer en cinta de correr sobre fondo negro\, es una pieza escénica que funciona a modo de radiografía del ciudadano de barrio humilde. La mujer reflexiona sobre: la súperproducción textil\, el capitalismo\, el entretenimiento\, la cultura\, idiomas\, el mote y el sector servicios. \nLa mujer dialoga con los distintos elementos que el espacio le aporta: una cuerda de 9 metros\, una pelota gigante\, una cinta\, un dance-air con el que lidia una batalla a vida o muerte. Una actriz que se mueve como toro en su toril\, como niño en un parque de bolas\, como una pelea de guerrilleros en la selva tropical. «Si la pieza se pudiera comer\, sabría a Málaga». \n  \nDirección y Textos: Alessandra García y Violeta Niebla.\nCon: Alessandra García \n  \nDescuentos del 20%: \n\nmenores de 30 años o mayores de 65 años;\nsocios de la Asociación Amigos del Teatro Ciudad de Marbella;\npersonas con discapacidad igual o superior al 33%;\ndescuentos aplicables a precios superiores a 10€;\ncompra con descuento solo en taquilla;\nimprescindible acreditación mediante documento.\n\n  \nPuede compartir este evento en:
URL:https://www.mientrada.net/evento/marbella-mujer-en-cinta-de-correr/
LOCATION:Teatro Ciudad de Marbella\, Plaza Ramon Martinez\, 3\, Marbella\, Málaga\, 29603\, España
CATEGORIES:Marbella,Teatro Ciudad de Marbella
ATTACH;FMTTYPE=image/jpeg:https://www.mientrada.net/wp-content/uploads/2024/01/Mujer-en-cinta.jpg
END:VEVENT
BEGIN:VEVENT
DTSTART;TZID=Europe/Madrid:20240301T200000
DTEND;TZID=Europe/Madrid:20240301T200000
DTSTAMP:20260421T190131
CREATED:20240208T114928Z
LAST-MODIFIED:20240209T115733Z
UID:81147-1709323200-1709323200@www.mientrada.net
SUMMARY:Efecto Mariposa
DESCRIPTION:Efecto Mariposa: Una Comedia sobre la Teoría del Caos se sumerge en la dinámica caótica de una familia durante una cena de Nochebuena. La trama toma un giro inesperado cuando Pedro propone utilizar un dado para decidir quién será el encargado de ir a la cocina y sacar la cena del horno. Este simple acto desencadena un fenómeno inusual: se despliegan seis líneas de tiempo diferentes\, cada una mostrando cómo el grupo se ve afectado por la ausencia de uno de sus miembros. A medida que las líneas temporales se despliegan\, los secretos de la familia emergen\, y las verdaderas intenciones de los personajes se revelan de manera sorprendente. La obra navega por las complejidades de las relaciones familiares\, llevando al público a través de situaciones cómicas\, emotivas y a veces desconcertantes. Las apariencias se desvanecen y las verdades incómodas salen a la luz\, desafiando las expectativas y llevando a la audiencia a un viaje inesperado. \nCon un toque humorístico y perspicaz\, «Efecto Mariposa» lleva al público a un viaje a través de las diferentes realidades creadas por el azar\, mostrando cómo las elecciones aparentemente insignificantes pueden desencadenar una serie de eventos impredecibles. La cena de Nochebuena se convierte así en un escenario revelador donde los lazos familiares se ponen a prueba y los protagonistas descubren que\, a veces\, la realidad es más extraña y reveladora de lo que podrían haber imaginado. \n  \nPuede compartir este evento en:
URL:https://www.mientrada.net/evento/efecto-mariposa-alhaurin-torre/
LOCATION:Centro Cultural Vicente Aleixandre\, Calle Jabalcuza\, 9\, Alhaurín de la Torre\, 29130\, España
CATEGORIES:Alhaurín de la Torre,Centro Cultural Vicente Aleixandre,Teatro
ATTACH;FMTTYPE=image/jpeg:https://www.mientrada.net/wp-content/uploads/2024/02/Cartel-Efecto-mariposa-Alh.Torre_.jpg
END:VEVENT
BEGIN:VEVENT
DTSTART;TZID=Europe/Madrid:20240301T203000
DTEND;TZID=Europe/Madrid:20240301T203000
DTSTAMP:20260421T190131
CREATED:20240116T175919Z
LAST-MODIFIED:20240226T183857Z
UID:80764-1709325000-1709325000@www.mientrada.net
SUMMARY:David Hazeltine Quartet
DESCRIPTION:¡ENTRADAS AGOTADAS! \nDavid Hazeltine es uno de los pocos pianistas contemporáneos que domina las principales habilidades musicales\, desde la improvisación y la técnica hasta el acompañamiento\, los arreglos y la composición. Aún más impresionante\, David es el raro artista capaz de innovar en cada categoría. Por eso no es de extrañar que sea el pianista de jazz contemporáneo más grabado de nuestro tiempo\, con treinta y cinco discos como líder y cientos más como acompañante en varios de los principales sellos del mundo. \nNacido en Milwaukee\, David ya tocaba en los clubes cuando era un preadolescente\, y antes de cumplir la mayoría de edad ya había captado la atención y el respeto de leyendas del jazz como Sonny Stitt y Chet Baker. Ellos le instaron a trasladarse a Nueva York\, lo que hizo en 1992. \nEl estilo de David atrae a una amplia gama de gustos musicales y niveles de sofi sticación. Sus melodías y armonías son hermosamente complejas y memorables. Como compositor e instrumentista\, ha desarrollado un estilo propio fácilmente reconocible. Su grupo cooperativo ‘One For All’\, en el que participa el gran tenor Eric Alexander\, ha sido aclamado por la crítica gracias a su impresionante discografía de 16 CD. \n  \nFORMACIÓN: \n\nDavid Hazeltine PIANO\nDee Jay Foster CONTRABAJO\nEnrique Oliver SAXO\nMiguel Benito BATERÍA\n\n  \nPuede compartir este evento en:
URL:https://www.mientrada.net/evento/culturama-david-hazeltine-quartet/
LOCATION:Centro Cultural MVA\, Calle Ollerías\, 33\, Málaga\, Málaga\, 29012\, España
CATEGORIES:Centro Cultural Provincial MVA,Culturama,Festival Jazz MVA,Málaga
ATTACH;FMTTYPE=image/jpeg:https://www.mientrada.net/wp-content/uploads/2024/01/Cartel-2024-03-01-David-Hazeltine.jpg
END:VEVENT
END:VCALENDAR