BEGIN:VCALENDAR
VERSION:2.0
PRODID:-//mientrada.net - ECPv5.16.0//NONSGML v1.0//EN
CALSCALE:GREGORIAN
METHOD:PUBLISH
X-WR-CALNAME:mientrada.net
X-ORIGINAL-URL:https://www.mientrada.net
X-WR-CALDESC:Eventos para mientrada.net
REFRESH-INTERVAL;VALUE=DURATION:PT1H
X-Robots-Tag:noindex
X-PUBLISHED-TTL:PT1H
BEGIN:VTIMEZONE
TZID:Europe/Madrid
BEGIN:DAYLIGHT
TZOFFSETFROM:+0100
TZOFFSETTO:+0200
TZNAME:CEST
DTSTART:20240331T010000
END:DAYLIGHT
BEGIN:STANDARD
TZOFFSETFROM:+0200
TZOFFSETTO:+0100
TZNAME:CET
DTSTART:20241027T010000
END:STANDARD
END:VTIMEZONE
BEGIN:VEVENT
DTSTART;TZID=Europe/Madrid:20240323T180000
DTEND;TZID=Europe/Madrid:20240323T180000
DTSTAMP:20260422T112138
CREATED:20240202T151507Z
LAST-MODIFIED:20240318T112013Z
UID:81469-1711216800-1711216800@www.mientrada.net
SUMMARY:TRIBUTO A "EL BARRIO"
DESCRIPTION:Apertura de puertas 16:30h. \n  \nPrecio: \n\nEntrada Pista: 10€ (incluye una consumición)\n\n  \nNormas de acceso: \n\nProhibida la entrada a menores de 18 años ni acompañados de un adulto.\nProhibida la entrada en ropa deportiva o de playa.\nLa empresa se reserva el derecho de admisión legal.\nLa posesión de la entrada no le da derecho a acceder si no pasa el filtro de puerta. En este caso se realizará la devolución del importe.\n\n  \nPuede compartir este evento en:
URL:https://www.mientrada.net/evento/maruja-limon-tributo-el-barrio/
LOCATION:Maruja Limón – Alhaurín de la Torre\, Av. las Americas\, 1 y 2\, Alhaurín de la Torre\, Málaga\, 29130\, España
CATEGORIES:Alhaurín de la Torre,Maruja Limón
ATTACH;FMTTYPE=image/jpeg:https://www.mientrada.net/wp-content/uploads/2024/02/Cartel-Tributo-Barrio.jpg
END:VEVENT
BEGIN:VEVENT
DTSTART;TZID=Europe/Madrid:20240323T200000
DTEND;TZID=Europe/Madrid:20240323T200000
DTSTAMP:20260422T112138
CREATED:20240127T112337Z
LAST-MODIFIED:20240311T112211Z
UID:80973-1711224000-1711224000@www.mientrada.net
SUMMARY:Maui - Domingos de vermut y potaje
DESCRIPTION:«Es la hora del vermut» elegante expresión y maravillosa excusa para provocar un encuentro\, una inspiración\, unas risas\, una agustera y un abrir el apetito sin igual. Y no hay vermut por derecho sin su aperitivo posterior. Encendiendo fogones\, apagando estreses\, delantal puesto\, avíos preparados\, cucharón en mano. ¡Que comience la ceremonia! En torno a la olla sucede la magia\, nace el compás\, se enreda el duende\, más allá de unos frijones hechos con cariño\, el potaje siempre es una pócima ideal para la fiesta. Maui nos guía en la experiencia Domingos de Vermut y Potaje\, ponte guapo y vente a vivirlo\, después solo te quedará una opción irte una sonrisa en la boca. \nEl show que Maui nos propone es una miscelánea de teatro\, música\, pellizco y palabra usando el potaje como protagonista. Un espectáculo de 40 minutos de duración que culminará degustando el potaje\, donde espectadores y artistas se unen en torno al guiso para recrear esos momentos tan gitanos donde la guasa\, el cante\, una guitarra\, y la verdad más auténtica se dan la mano de manera natural. \nMaría Luisa Ramírez\, Maui para el arte\, nacida en Utrera (Sevilla)\, sobrina del mítico Bambino\, crece en un ambiente puramente flamenco. Lejos de cualquier etiqueta conocida\, han llegado a decir de ella que es la Björk de Utrera\, la Lady Gaga del flamenco\, la Woody Allen de la canción\, diva del humor con compás\, una cantactriz\, pero es simplemente Maui\, única en su especie\, tanto su forma de componer\, su peculiar estética y sus maneras en el escenario. \n  \nFicha artística y técnica: \n\nVoz\, interpretación y guion: Maui\nGuitarra flamenca: Paco Soto\nPalmas\, coros y coreografía: Juan Carlos Gil & Kiko Martín\nDirección artística: Miguel Ángel Rojas\nProducción: Teatro Flamenco Madrid\n\n  \n \n  \nPrecios: \n\npatio de butacas: 10€\npatio de butacas\, filas traseras: 8€\nanfiteatro: 8€\n\n  \nPuede compartir este evento en:
URL:https://www.mientrada.net/evento/san-pedro-maui-vermut/
LOCATION:Centro de Artes Escénicas La Alcoholera\, Calle la Morena 4\, Marbella\, Málaga\, 29670\, España
CATEGORIES:La Alcoholera,San Pedro Alcántara
ATTACH;FMTTYPE=image/jpeg:https://www.mientrada.net/wp-content/uploads/2024/01/Cartel-Maui-San-Pedro.jpg
END:VEVENT
END:VCALENDAR