BEGIN:VCALENDAR
VERSION:2.0
PRODID:-//mientrada.net - ECPv5.16.0//NONSGML v1.0//EN
CALSCALE:GREGORIAN
METHOD:PUBLISH
X-WR-CALNAME:mientrada.net
X-ORIGINAL-URL:https://www.mientrada.net
X-WR-CALDESC:Eventos para mientrada.net
REFRESH-INTERVAL;VALUE=DURATION:PT1H
X-Robots-Tag:noindex
X-PUBLISHED-TTL:PT1H
BEGIN:VTIMEZONE
TZID:Europe/Madrid
BEGIN:DAYLIGHT
TZOFFSETFROM:+0100
TZOFFSETTO:+0200
TZNAME:CEST
DTSTART:20240331T010000
END:DAYLIGHT
BEGIN:STANDARD
TZOFFSETFROM:+0200
TZOFFSETTO:+0100
TZNAME:CET
DTSTART:20241027T010000
END:STANDARD
END:VTIMEZONE
BEGIN:VEVENT
DTSTART;TZID=Europe/Madrid:20240810T220000
DTEND;TZID=Europe/Madrid:20240810T220000
DTSTAMP:20260419T225343
CREATED:20240621T095217Z
LAST-MODIFIED:20240704T080519Z
UID:82185-1723327200-1723327200@www.mientrada.net
SUMMARY:Antología Lírica - La alegría de la Zarzuela
DESCRIPTION:Sumérgete en la magia de La alegría de la zarzuela. Este vibrante espectáculo reúne a cantantes y bailarines para ofrecerte un recorrido inolvidable por las mejores zarzuelas de la historia. Disfruta de romanzas\, dúos cómicos y números corales que dan vida a personajes entrañables y llenos de gracia. \nDesde grandes clásicos como «El barberillo de Lavapiés»\, «La Calesera»\, «Luisa Fernanda» y «Doña Francisquita»\, hasta las populares piezas del género chico como «El Bateo»\, «La Revoltosa» y «La verbena de la Paloma»\, esta Antología captura el alma de Madrid y su rica herencia cultural. No te pierdas este homenaje a la zarzuela y a la música en directo\, pensado para llenar de alegría y emoción a todos los espectadores. ¡Te esperamos para compartir juntos la alegría de la zarzuela! \n  \nPuede compartir este evento en:
URL:https://www.mientrada.net/evento/marbella-antologia-lirica/
LOCATION:Auditorio José Pernía Calderón\, Parque de la Constitución\, Marbella\, Málaga\, 29601\, España
CATEGORIES:Auditorio José Pernía Calderón (Marbella),Marbella,Zarzuela
ATTACH;FMTTYPE=image/jpeg:https://www.mientrada.net/wp-content/uploads/2024/06/Cartel-Antologia-Lirica.jpg
END:VEVENT
BEGIN:VEVENT
DTSTART;TZID=Europe/Madrid:20240810T230000
DTEND;TZID=Europe/Madrid:20240810T230000
DTSTAMP:20260419T225343
CREATED:20240110T212347Z
LAST-MODIFIED:20240731T145503Z
UID:82437-1723330800-1723330800@www.mientrada.net
SUMMARY:DAVID BARRULL
DESCRIPTION:IMPRESCINDIBLE MEDIA ETIQUETA \nApertura de puertas: 23:00h.\nConcierto: 00:00h. \n  \nPrecios: \n\nEntrada pista anticipada 1º tramo: 100 entradas a 10€ (agotado)\nEntrada pista anticipada 2º tramo: 15€\nEntrada pista en puerta: 20€\nReservados VIP: 190€ (incluye 4 entradas\, botella o 12 copas a elegir (copas premium no incluidas)\, servicio de camarero y baños vip independientes a la sala) (agotado)\n\n  \nNormas de acceso: \n\nProhibida la entrada a menores de 18 años ni acompañados de un adulto.\nProhibida la entrada con gorra\, ropa deportiva o de playa.\nLa empresa se reserva el derecho de admisión legal.\nLa posesión de la entrada no le da derecho a acceder si no pasa el filtro de puerta. En este caso se realizará la devolución del importe.\nImprescindible media etiqueta.\n\n  \nPuede compartir este evento en:
URL:https://www.mientrada.net/evento/maruja-limon-david-barrull/
LOCATION:Maruja Limón – Alhaurín de la Torre\, Av. las Americas\, 1 y 2\, Alhaurín de la Torre\, Málaga\, 29130\, España
CATEGORIES:Alhaurín de la Torre,Flamenco,Maruja Limón
ATTACH;FMTTYPE=image/jpeg:https://www.mientrada.net/wp-content/uploads/2024/01/Cartel-David-Barrull.jpg
END:VEVENT
END:VCALENDAR