BEGIN:VCALENDAR
VERSION:2.0
PRODID:-//mientrada.net - ECPv5.16.0//NONSGML v1.0//EN
CALSCALE:GREGORIAN
METHOD:PUBLISH
X-ORIGINAL-URL:https://www.mientrada.net
X-WR-CALDESC:Eventos para mientrada.net
REFRESH-INTERVAL;VALUE=DURATION:PT1H
X-Robots-Tag:noindex
X-PUBLISHED-TTL:PT1H
BEGIN:VTIMEZONE
TZID:Europe/Madrid
BEGIN:DAYLIGHT
TZOFFSETFROM:+0100
TZOFFSETTO:+0200
TZNAME:CEST
DTSTART:20250330T010000
END:DAYLIGHT
BEGIN:STANDARD
TZOFFSETFROM:+0200
TZOFFSETTO:+0100
TZNAME:CET
DTSTART:20251026T010000
END:STANDARD
END:VTIMEZONE
BEGIN:VEVENT
DTSTART;TZID=Europe/Madrid:20250623T200000
DTEND;TZID=Europe/Madrid:20250623T200000
DTSTAMP:20260425T162735
CREATED:20240610T101440Z
LAST-MODIFIED:20250529T103128Z
UID:85316-1750708800-1750708800@www.mientrada.net
SUMMARY:NOCHES DE MÚSICA EN VIVO - CAFÉ AMÉRICA TRÍO
DESCRIPTION:Café América Trío es un conjunto íntimo y refinado que fusiona la elegancia de la chanson francesa\, el encanto atemporal del jazz y el alma rítmica de Latinoamérica. Formado por Constanza Giacomelli (voz)\, Pedro Martínez (guitarra) y Rodrigo Mendonça (saxofón y flauta)\, el trío aúna ricas tradiciones musicales y raíces culturales que abarcan diversos continentes. \nCon interpretaciones emotivas y arreglos sofisticados\, Café América Trío invita a los oyentes a un viaje nostálgico a través de canciones que trascienden fronteras y generaciones. Su sonido es delicado pero expresivo\, ideal para crear atmósferas cálidas y evocadoras en eventos elegantes\, conciertos íntimos o momentos acogedores al atardecer. \nCada actuación es un encuentro poético donde melodías familiares se reinventan con elegancia\, sensibilidad y alma. \n\nCafé América Trío is an intimate and refined ensemble that blends the elegance of French chanson\, the timeless charm of jazz\, and the rhythmic soul of Latin America. Formed by Constanza Giacomelli (voice)\, Pedro Martínez (guitar)\, and Rodrigo Mendonça (saxophone and flute)\, the trio brings together rich musical traditions and cultural roots that span continents. \nWith heartfelt interpretations and sophisticated arrangements\, Café América Trío invites listeners on a nostalgic journey through songs that transcend borders and generations. Their sound is delicate yet expressive—ideal for creating warm\, evocative atmospheres in elegant events\, intimate concerts\, or cozy sunset moments. \nEach performance is a poetic encounter where familiar melodies are reimagined with elegance\, sensitivity\, and soul. \n\n  \nAforo reducido a 50 personas. \n  \nPuede compartir este evento en:
URL:https://www.mientrada.net/evento/archidona-noches-musica-vivo-cafe-america-trio/
LOCATION:Almohalla 51\, C/ Almohalla 51\, Archidona\, Málaga\, 29300\, España
CATEGORIES:Almohalla 51,Archidona,Música
ATTACH;FMTTYPE=image/jpeg:https://www.mientrada.net/wp-content/uploads/2024/06/Cartel-Almohalla-25-06-23.jpg
END:VEVENT
END:VCALENDAR