BEGIN:VCALENDAR
VERSION:2.0
PRODID:-//mientrada.net - ECPv5.16.0//NONSGML v1.0//EN
CALSCALE:GREGORIAN
METHOD:PUBLISH
X-WR-CALNAME:mientrada.net
X-ORIGINAL-URL:https://www.mientrada.net
X-WR-CALDESC:Eventos para mientrada.net
REFRESH-INTERVAL;VALUE=DURATION:PT1H
X-Robots-Tag:noindex
X-PUBLISHED-TTL:PT1H
BEGIN:VTIMEZONE
TZID:Europe/Madrid
BEGIN:DAYLIGHT
TZOFFSETFROM:+0100
TZOFFSETTO:+0200
TZNAME:CEST
DTSTART:20220327T010000
END:DAYLIGHT
BEGIN:STANDARD
TZOFFSETFROM:+0200
TZOFFSETTO:+0100
TZNAME:CET
DTSTART:20221030T010000
END:STANDARD
END:VTIMEZONE
BEGIN:VEVENT
DTSTART;TZID=Europe/Madrid:20220910T210000
DTEND;TZID=Europe/Madrid:20220910T223000
DTSTAMP:20260420T192056
CREATED:20220214T180146Z
LAST-MODIFIED:20220812T152051Z
UID:13023-1662843600-1662849000@www.mientrada.net
SUMMARY:El Barbero de Sevilla
DESCRIPTION:Teatro Lírico Andaluz. \nElena es una joven soprano que quiere triunfar en la escena lírica con el apoyo de Bataglia\, su profesor de canto. Pero don Nicolás\, su padre\, se opone para impedir que salga a relucir su aventura con una tiple. También el novio de Elena es cantante\, aunque se hace pasar por perito agrónomo para evitar la oposición de don Nicolás. \nPor azares de la vida\, acaban todos coincidiendo en Burgos para representar la ópera de Rossini que da título a la zarzuela. Se suceden entonces una serie de divertidas situaciones\, de encuentros y desencuentros propios de las comedias de enredo. \nZarzuela en un acto dividido en tres cuadros\, con libreto de Guillermo Perrín y Vico y Miguel de Palacios. \n  \nPrecios: \n\nPatio butacas delantero 15€ anticipada y 17€ en taquilla\n\n  \nPuede compartir este evento en:
URL:https://www.mientrada.net/evento/el-barbero-de-sevilla-2/
LOCATION:Teatro Principal Andújar\, Pl. del Camping\, s/n\, 23740 Andújar\, Jaén\, Andújar\, Jaén\, 23740
CATEGORIES:Andújar,Teatro Principal (Andújar),Zarzuela
ATTACH;FMTTYPE=image/jpeg:https://www.mientrada.net/wp-content/uploads/2022/02/WhatsApp-Image-2022-08-12-at-10.57.34-AM.jpeg
END:VEVENT
END:VCALENDAR