BEGIN:VCALENDAR
VERSION:2.0
PRODID:-//mientrada.net - ECPv5.16.0//NONSGML v1.0//EN
CALSCALE:GREGORIAN
METHOD:PUBLISH
X-ORIGINAL-URL:https://www.mientrada.net
X-WR-CALDESC:Eventos para mientrada.net
REFRESH-INTERVAL;VALUE=DURATION:PT1H
X-Robots-Tag:noindex
X-PUBLISHED-TTL:PT1H
BEGIN:VTIMEZONE
TZID:Europe/Madrid
BEGIN:DAYLIGHT
TZOFFSETFROM:+0100
TZOFFSETTO:+0200
TZNAME:CEST
DTSTART:20230326T010000
END:DAYLIGHT
BEGIN:STANDARD
TZOFFSETFROM:+0200
TZOFFSETTO:+0100
TZNAME:CET
DTSTART:20231029T010000
END:STANDARD
END:VTIMEZONE
BEGIN:VEVENT
DTSTART;TZID=Europe/Madrid:20230806T220000
DTEND;TZID=Europe/Madrid:20230806T220000
DTSTAMP:20260421T051655
CREATED:20230201T103004Z
LAST-MODIFIED:20230724T195831Z
UID:17291-1691359200-1691359200@www.mientrada.net
SUMMARY:Agua\, Azucarillos y Aguardiente
DESCRIPTION:Teatro Lírico Andaluz.\n \nAtanasia –Asia–\, niña cursi\, y su madre doña Simona\, se mudaron a Madrid\, donde llevan una vida mísera\, debiendo dinero hasta al casero. Una carta del tío les aconseja regresar al pueblo (Valdepatata)\, donde el primo está loco por casarse con Asia. Pero ésta sueña con Serafín\, hijo de un ex ministro. \nSerafín ofrece dinero a Pepa\, que regenta un quiosco de aguadora\, para que le eche un somnífero a la madre de Asia\, pero ésta se niega. Lorenzo\, compañero de Pepa\, la convence para que lo haga. Pepa se enfrenta a Manuela\, una aguadora sin puesto\, que en la actualidad está emparejada con Vicente\, un torero\, antiguo novio de la propia Pepa. Vicente y Lorenzo no parecen tener tanta enemistad como Pepa y Manuela\, y pactan que hacer con el dinero de Serafín. \nLlegan Asia y su madre para pedir dinero a Serafín para pagar la renta\, la madre cae en aparente sopor y Serafín promete el cielo a Asia. De repente la madre despierta y se van como es habitual al Paseo de Recoletos. Serafín cae en un profundo y verdadero sueño\, ya que realmente fue él quien finalmente ingirió el somnífero. Asia\, desengañada\, está dispuesta a volver a Valdepatata. \n  \nPrecios: \n\nentrada anticipada: 17€\ndía de la función: 20€\n\n  \nPuede compartir este evento en:
URL:https://www.mientrada.net/evento/zarzuela-agua-azucarillos-aguardiente/
LOCATION:Baluarte de la Candelaria\, Paseo Alameda Marqués de Comillas\, 6\, Cádiz\, 11003\, España
CATEGORIES:Baluarte de la Candelaria,Cádiz,Zarzuela
ATTACH;FMTTYPE=image/jpeg:https://www.mientrada.net/wp-content/uploads/2021/09/Cartel-Agua-Revoltosa-Baluarte.jpg
END:VEVENT
BEGIN:VEVENT
DTSTART;TZID=Europe/Madrid:20230820T220000
DTEND;TZID=Europe/Madrid:20230820T220000
DTSTAMP:20260421T051655
CREATED:20210907T145233Z
LAST-MODIFIED:20230724T200052Z
UID:10656-1692568800-1692568800@www.mientrada.net
SUMMARY:La Revoltosa
DESCRIPTION:Teatro Lírico Andaluz.\n \nLA REVOLTOSA\, del Maestro Ruperto Chapí. \nLa obra se desarrolla en un patio de vecinos de Madrid en la época del estreno. \nFelipe\, uno de los vecinos del patio\, presume de ser el único que resiste los encantos de Mari Pepa\, sin embargo\, está totalmente enamorado de ella. Igualmente\, Mari Pepa siente celos cuando ve a Felipe con dos chulapas\, y\, aunque ambos están enamorados mutuamente\, simulan un desprecio que no sienten. \nUn día\, todos los vecinos se van a la verbena\, quedándose solos Mari Pepa y Felipe\, que vuelven a tirarse pullas hasta que finalmente reconocen su amor. Sin embargo\, su pasión no les dura demasiado\, ya que poco después Felipe le reprocha a Mari Pepa mirar a otros hombres y esto les lleva a una discusión\, algo que se vuelve frecuente en su relación a partir de ese momento. Aún así\, mantienen todo el asunto en secreto. \nLas vecinas\, hartas del comportamiento de sus maridos hacia Mari Pepa\, deciden escarmentarlos. Para ello\, les hacen creer que Mari Pepa los ha citado. Cada uno les suelta una excusa para poder dejar la fiesta y quedarse solo para encontrarse con Mari Pepa\, y las mujeres\, actuando como si no supieran nada\, les dan su permiso para marcharse\, siguiéndoles después para descubrirles en el último momento. Finalmente\, después de descubrirse el engaño\, Felipe confiesa su amor ante toda la vecindad y Mari Pepa se arroja definitivamente a sus brazos. \n  \nPrecios: \n\nentrada anticipada: 17€\ndía de la función: 20€\n\n  \nPuede compartir este evento en:
URL:https://www.mientrada.net/evento/zarzuela-la-revoltosa/
LOCATION:Baluarte de la Candelaria\, Paseo Alameda Marqués de Comillas\, 6\, Cádiz\, 11003\, España
CATEGORIES:Baluarte de la Candelaria,Cádiz,Zarzuela
ATTACH;FMTTYPE=image/jpeg:https://www.mientrada.net/wp-content/uploads/2021/09/Cartel-Agua-Revoltosa-Baluarte.jpg
END:VEVENT
END:VCALENDAR