BEGIN:VCALENDAR
VERSION:2.0
PRODID:-//mientrada.net - ECPv5.16.0//NONSGML v1.0//EN
CALSCALE:GREGORIAN
METHOD:PUBLISH
X-ORIGINAL-URL:https://www.mientrada.net
X-WR-CALDESC:Eventos para mientrada.net
REFRESH-INTERVAL;VALUE=DURATION:PT1H
X-Robots-Tag:noindex
X-PUBLISHED-TTL:PT1H
BEGIN:VTIMEZONE
TZID:Europe/Madrid
BEGIN:DAYLIGHT
TZOFFSETFROM:+0100
TZOFFSETTO:+0200
TZNAME:CEST
DTSTART:20240331T010000
END:DAYLIGHT
BEGIN:STANDARD
TZOFFSETFROM:+0200
TZOFFSETTO:+0100
TZNAME:CET
DTSTART:20241027T010000
END:STANDARD
END:VTIMEZONE
BEGIN:VEVENT
DTSTART;TZID=Europe/Madrid:20240907T200000
DTEND;TZID=Europe/Madrid:20240907T200000
DTSTAMP:20260422T200255
CREATED:20240116T175919Z
LAST-MODIFIED:20240822T085759Z
UID:82729-1725739200-1725739200@www.mientrada.net
SUMMARY:La Revoltosa
DESCRIPTION:Teatro Lírico Andaluz. \nLa Revoltosa\, del Maestro Ruperto Chapí. \nLa obra se desarrolla en un patio de vecinos de Madrid en la época del estreno. Felipe\, uno de los vecinos del patio\, presume de ser el único que resiste los encantos de Mari Pepa\, sin embargo\, está totalmente enamorado de ella. Igualmente\, Mari Pepa siente celos cuando ve a Felipe con dos chulapas\, y\, aunque ambos están enamorados mutuamente\, simulan un desprecio que no sienten. \nUn día\, todos los vecinos se van a la verbena\, quedándose solos Mari Pepa y Felipe\, que vuelven a tirarse pullas hasta que finalmente reconocen su amor. Sin embargo\, su pasión no les dura demasiado\, ya que poco después Felipe le reprocha a Mari Pepa mirar a otros hombres y esto les lleva a una discusión\, algo que se vuelve frecuente en su relación a partir de ese momento. Aún así\, mantienen todo el asunto en secreto. \nLas vecinas\, hartas del comportamiento de sus maridos hacia Mari Pepa\, deciden escarmentarlos. Para ello\, les hacen creer que Mari Pepa los ha citado. Cada uno les suelta una excusa para poder dejar la fiesta y quedarse solo para encontrarse con Mari Pepa\, y las mujeres\, actuando como si no supieran nada\, les dan su permiso para marcharse\, siguiéndoles después para descubrirles en el último momento. Finalmente\, después de descubrirse el engaño\, Felipe confiesa su amor ante toda la vecindad y Mari Pepa se arroja definitivamente a sus brazos. \n  \nPrecios: \n\n16€ anticipada\n18€ taquilla\n\n  \nPuede compartir este evento en:
URL:https://www.mientrada.net/evento/teatro-lirico-baza-revoltosa/
LOCATION:Teatro Dengra\, Plaza Santo Domingo\, 2\, Baza\, Granada\, 18800\, España
CATEGORIES:Baza,Teatro Dengra (Baza),Zarzuela
ATTACH;FMTTYPE=image/jpeg:https://www.mientrada.net/wp-content/uploads/2024/01/Cartel-Revoltosa-Baza.jpg
END:VEVENT
END:VCALENDAR