BEGIN:VCALENDAR
VERSION:2.0
PRODID:-//mientrada.net - ECPv5.16.0//NONSGML v1.0//EN
CALSCALE:GREGORIAN
METHOD:PUBLISH
X-ORIGINAL-URL:https://www.mientrada.net
X-WR-CALDESC:Eventos para mientrada.net
REFRESH-INTERVAL;VALUE=DURATION:PT1H
X-Robots-Tag:noindex
X-PUBLISHED-TTL:PT1H
BEGIN:VTIMEZONE
TZID:Europe/Madrid
BEGIN:DAYLIGHT
TZOFFSETFROM:+0100
TZOFFSETTO:+0200
TZNAME:CEST
DTSTART:20240331T010000
END:DAYLIGHT
BEGIN:STANDARD
TZOFFSETFROM:+0200
TZOFFSETTO:+0100
TZNAME:CET
DTSTART:20241027T010000
END:STANDARD
END:VTIMEZONE
BEGIN:VEVENT
DTSTART;TZID=Europe/Madrid:20241109T213000
DTEND;TZID=Europe/Madrid:20241109T213000
DTSTAMP:20260421T211907
CREATED:20240919T174853Z
LAST-MODIFIED:20241111T091126Z
UID:82990-1731187800-1731187800@www.mientrada.net
SUMMARY:JAY CIRU - CONCIERTO BENÉFICO
DESCRIPTION:Agotadas las entradas al concierto. Puedes seguir colaborando comprando entradas para la fila cero. \nPara la investigación del cáncer infantil a beneficio del Instituto de Investigación Vall D’Hebron (VHIR). \nApertura de puertas 20:00 horas\, habrá barra solidaria. \n  \nPuede compartir este evento en:
URL:https://www.mientrada.net/evento/jay-ciru-concierto-benefico/
LOCATION:Teatro Carthima\, Calle González Marín 81\, Cártama\, Málaga\, 29570\, España
CATEGORIES:Benéfico,Cártama,Teatro Carthima
ATTACH;FMTTYPE=image/jpeg:https://www.mientrada.net/wp-content/uploads/2024/09/Cartel-Jay-Ciru.jpg
END:VEVENT
END:VCALENDAR