BEGIN:VCALENDAR
VERSION:2.0
PRODID:-//mientrada.net - ECPv5.16.0//NONSGML v1.0//EN
CALSCALE:GREGORIAN
METHOD:PUBLISH
X-ORIGINAL-URL:https://www.mientrada.net
X-WR-CALDESC:Eventos para mientrada.net
REFRESH-INTERVAL;VALUE=DURATION:PT1H
X-Robots-Tag:noindex
X-PUBLISHED-TTL:PT1H
BEGIN:VTIMEZONE
TZID:Europe/Madrid
BEGIN:DAYLIGHT
TZOFFSETFROM:+0100
TZOFFSETTO:+0200
TZNAME:CEST
DTSTART:20250330T010000
END:DAYLIGHT
BEGIN:STANDARD
TZOFFSETFROM:+0200
TZOFFSETTO:+0100
TZNAME:CET
DTSTART:20251026T010000
END:STANDARD
END:VTIMEZONE
BEGIN:VEVENT
DTSTART;TZID=Europe/Madrid:20250702T220000
DTEND;TZID=Europe/Madrid:20250702T220000
DTSTAMP:20260420T203937
CREATED:20250401T082757Z
LAST-MODIFIED:20250630T082050Z
UID:84862-1751493600-1751493600@www.mientrada.net
SUMMARY:Flamenco de altura - Fabiola Santiago
DESCRIPTION:IX BIENAL ARTE FLAMENCO DE MÁLAGA. \n\n02/07/2025: Cante: Fabiola Santiago\, Guitarra: Carlos Haro\n09/07/2025: Cante: José de Chaparro\, Guitarra: Chaparro de Málaga\n16/07/2025: Cante: Vanessa Fernández\, Guitarra: Carlos Caro\n23/07/2025: Cante: Barquerito\, Guitarra: Andrés Cansino\n30/07/2025: Cante: Ana Fargas\, Guitarra: Paco Javier Jimeno\n\n  \nPrecios: \n\nEntrada + Consumición*: 20€\nEntrada (sin consumición): 15€\n* No incluye bebidas premium ni cocteles.\n\n  \nPuede compartir este evento en:
URL:https://www.mientrada.net/evento/ix-bienal-flamenco-malaga-flamenco-altura-fabiola-santiago/
LOCATION:AC Hotel Málaga Palacio\, Calle Cortina del Muelle\, 1\, Málaga\, Málaga\, 29015\, España
CATEGORIES:AC Hotel Málaga Palacio,Bienal Arte Flamenco de Málaga,Flamenco,Flamenco de altura,Málaga
ATTACH;FMTTYPE=image/jpeg:https://www.mientrada.net/wp-content/uploads/2025/04/Cartel-Bienal-2025-Flamenco-de-altura.jpg
END:VEVENT
BEGIN:VEVENT
DTSTART;TZID=Europe/Madrid:20250704T200000
DTEND;TZID=Europe/Madrid:20250704T200000
DTSTAMP:20260420T203937
CREATED:20250401T082757Z
LAST-MODIFIED:20250422T170357Z
UID:84784-1751659200-1751659200@www.mientrada.net
SUMMARY:María del alma mía - Sandra Cisneros
DESCRIPTION:IX BIENAL ARTE FLAMENCO DE MÁLAGA. \nEl espectáculo María del alma mía se adentra en el pensamiento de la filósofa malagueña María Zambrano a través de las entrañas del flamenco. En esta propuesta escénica\, recorreremos\, a través de la música y la danza\, la vida de esta brillante pensadora\, permitiendo al público descubrir o\, en términos de la propia María\, revelar una existencia marcada por el profundo sentimiento de arraigo andaluz\, de raíces\, de añoranza\, de fortaleza y de exilio. \n  \nElenco artístico: \n\nBaile: Sandra Cisneros.\nCuerpo de baile: Reyes López.\nCantaores: José Manuel Fernández y David Vázquez.\nGuitarra: Carlos Haro.\nPercusión: David Galiano.\nViolín: Nelson Doblas.\n\n  \nLa bailaora malagueña Sandra Cisneros\, con raíces en Almáchar\, es titulada en la especialidad de Baile Flamenco por el Conservatorio Profesional ‘Pepa Flores’ y graduada en el itinerario de Coreografía de Flamenco por el Conservatorio Superior ‘Ángel Pericet’\, en Málaga. Tras años de formación con maestros como Antonio Canales\, Farruquito\, La Lupi\, Joaquín Grilo o Eva Yerbabuena y parte del elenco habitual de tablaos como ‘Los Amayas’ y ‘Cal y Canto’ en Málaga\, el mítico Tablao Flamenco ‘Los Gallos’ en Sevilla y el ‘Teatro Flamenco Madrid’. \nSus proyectos artísticos y didácticos han llegado a escenarios internacionales en Francia\, Polonia\, República Dominicana\, Camerún\, Marruecos\, Canadá y Rusia. Y es a partir de 2015\, tras su participación en la Bienal de Flamenco de Málaga\, cuando su carrera experimenta un notable ascenso\, con espectáculos en el Festival Flamenco de Lyon\, el Festival Duende de Poznań y el Festival Flamenco de Tánger. \nHa sido galardonada recientemente con el segundo premio en el prestigioso Concurso Flamenco del Tablao ‘Villa Rosa’. Es\, sin duda\, entre las jóvenes figuras más destacadas del panorama flamenco actual. \n  \nPuede compartir este evento en:
URL:https://www.mientrada.net/evento/ix-bienal-flamenco-malaga-maria-del-alma/
LOCATION:Teatro Municipal Antonio Gala\, Av. Alcalde Antonio Solano\, Alhaurín el Grande\, Málaga\, 29120\, España
CATEGORIES:Alhaurín el Grande,Bienal Arte Flamenco de Málaga,Flamenco,Teatro Antonio Gala
ATTACH;FMTTYPE=image/jpeg:https://www.mientrada.net/wp-content/uploads/2025/04/Cartel-Bienal-2025-07-04-Maria.jpg
END:VEVENT
BEGIN:VEVENT
DTSTART;TZID=Europe/Madrid:20250709T220000
DTEND;TZID=Europe/Madrid:20250709T220000
DTSTAMP:20260420T203937
CREATED:20250401T082757Z
LAST-MODIFIED:20250630T082115Z
UID:84866-1752098400-1752098400@www.mientrada.net
SUMMARY:Flamenco de altura - José de Chaparro
DESCRIPTION:IX BIENAL ARTE FLAMENCO DE MÁLAGA. \n\n02/07/2025: Cante: Fabiola Santiago\, Guitarra: Carlos Haro\n09/07/2025: Cante: José de Chaparro\, Guitarra: Chaparro de Málaga\n16/07/2025: Cante: Vanessa Fernández\, Guitarra: Carlos Caro\n23/07/2025: Cante: Barquerito\, Guitarra: Andrés Cansino\n30/07/2025: Cante: Ana Fargas\, Guitarra: Paco Javier Jimeno\n\n  \nPrecios: \n\nEntrada + Consumición*: 20€\nEntrada (sin consumición): 15€\n* No incluye bebidas premium ni cocteles.\n\n  \nPuede compartir este evento en:
URL:https://www.mientrada.net/evento/ix-bienal-flamenco-malaga-flamenco-altura-jose-de-chaparro/
LOCATION:AC Hotel Málaga Palacio\, Calle Cortina del Muelle\, 1\, Málaga\, Málaga\, 29015\, España
CATEGORIES:AC Hotel Málaga Palacio,Bienal Arte Flamenco de Málaga,Flamenco,Flamenco de altura,Málaga
ATTACH;FMTTYPE=image/jpeg:https://www.mientrada.net/wp-content/uploads/2025/04/Cartel-Bienal-2025-Flamenco-de-altura.jpg
END:VEVENT
BEGIN:VEVENT
DTSTART;TZID=Europe/Madrid:20250712T220000
DTEND;TZID=Europe/Madrid:20250712T220000
DTSTAMP:20260420T203937
CREATED:20250401T082757Z
LAST-MODIFIED:20250707T165534Z
UID:84785-1752357600-1752357600@www.mientrada.net
SUMMARY:Arpaora - Ana Crismán
DESCRIPTION:IX BIENAL ARTE FLAMENCO DE MÁLAGA. \nAna Crismán\, pionera en la interpretación y composición de flamenco con el arpa\, presenta “Arpaora”\, su álbum debut y primer disco en la historia del flamenco con este instrumento como protagonista. Tras desarrollar de forma autodidacta una técnica innovadora\, Crismán logra una fusión única entre la tradición jonda y la expresividad del arpa\, ofreciendo un recorrido por los palos flamencos con la participación de figuras como Jorge Pardo\, Jesús Méndez y La Macanita. Con estrenos en el Festival de Jerez y Ellas Crean en 2025\, Arpaora se erige como una referencia mundial del arpa flamenca\, consolidando el camino iniciado por la artista en escenarios internacionales desde Arpa Jonda (2019). \n  \n \n  \nElenco artístico: \n\nArpa: Ana Crismán\nCantaor: José Valencia\nPercusión: Perico Navarro\n\n  \nPROGRAMA \nEntretelas (soleá)\nRiqueza (tientos tangos)\nAlegría de Girasoles (alegrías de Cadiz)\nCasa Jereles (bulerías)\nQuien tiene un don (seguiriyas)\nZambra de la luz (zambra)\nVereas del Sonío (granaína) \n  \nPuede compartir este evento en:
URL:https://www.mientrada.net/evento/ix-bienal-flamenco-malaga-arpaora/
LOCATION:Finca El Portón\, Calle Juan Carlos I\, Alhaurín de la Torre\, Málaga\, 29130\, España
CATEGORIES:Alhaurín de la Torre,Bienal Arte Flamenco de Málaga,Finca El Portón,Flamenco
ATTACH;FMTTYPE=image/jpeg:https://www.mientrada.net/wp-content/uploads/2025/04/Cartel-Bienal-2025-07-12-Arpaora.jpg
END:VEVENT
BEGIN:VEVENT
DTSTART;TZID=Europe/Madrid:20250716T220000
DTEND;TZID=Europe/Madrid:20250716T220000
DTSTAMP:20260420T203937
CREATED:20250401T082757Z
LAST-MODIFIED:20250630T082138Z
UID:84867-1752703200-1752703200@www.mientrada.net
SUMMARY:Flamenco de altura - Vanessa Fernández
DESCRIPTION:IX BIENAL ARTE FLAMENCO DE MÁLAGA. \n\n02/07/2025: Cante: Fabiola Santiago\, Guitarra: Carlos Haro\n09/07/2025: Cante: José de Chaparro\, Guitarra: Chaparro de Málaga\n16/07/2025: Cante: Vanessa Fernández\, Guitarra: Carlos Caro\n23/07/2025: Cante: Barquerito\, Guitarra: Andrés Cansino\n30/07/2025: Cante: Ana Fargas\, Guitarra: Paco Javier Jimeno\n\n  \nPrecios: \n\nEntrada + Consumición*: 20€\nEntrada (sin consumición): 15€\n* No incluye bebidas premium ni cocteles.\n\n  \nPuede compartir este evento en:
URL:https://www.mientrada.net/evento/ix-bienal-flamenco-malaga-flamenco-altura-vanessa-fernandez/
LOCATION:AC Hotel Málaga Palacio\, Calle Cortina del Muelle\, 1\, Málaga\, Málaga\, 29015\, España
CATEGORIES:AC Hotel Málaga Palacio,Bienal Arte Flamenco de Málaga,Flamenco,Flamenco de altura,Málaga
ATTACH;FMTTYPE=image/jpeg:https://www.mientrada.net/wp-content/uploads/2025/04/Cartel-Bienal-2025-Flamenco-de-altura.jpg
END:VEVENT
BEGIN:VEVENT
DTSTART;TZID=Europe/Madrid:20250717T220000
DTEND;TZID=Europe/Madrid:20250717T220000
DTSTAMP:20260420T203937
CREATED:20250401T082757Z
LAST-MODIFIED:20250510T124548Z
UID:84786-1752789600-1752789600@www.mientrada.net
SUMMARY:100 veces Perla - David Palomar
DESCRIPTION:IX BIENAL ARTE FLAMENCO DE MÁLAGA. \nCien años después de su nacimiento\, cien formas de recordarla: sus maneras\, su cante\, su estampa\, su energía\, su legado\, la influencia que ejerció sobre otros cantaores. Hoy su cante vuelve a sonar en la voz de Palomar\, su esencia sigue viva. ¡Cien veces Perla\, cien veces eterna! Un recital que revive su esencia a través de tientos\, alegrías\, soleá y otros cantes que hicieron de ella un referente del flamenco. \n  \nElenco artístico: \n\nCante: David Palomar\nGuitarra: Rubén Lara\nPercusión: Roberto Jaén\nPalmas y coros: Anabel Rivera\, Reyes Martín\, Jorge Bautista\n\n  \nDavid Palomar. \nA los 16 años da los primeros pasos profesionales en academias de la ciudad. En Sevilla realiza lo que podríamos denominar su licenciatura\, dedicando más de diez años de su vida al cante para atrás\, trabajando para artistas de la talla de Cristina Hoyos\, Javier Barón\, Carmen Cortés\, Antonio Canales\, Javier Latorre\, Farruquito\, Carmen Ledesma\, Milagros Mengíbar\, Isabel Bayón\, Mercedes Ruiz o Paco Peña\, entre otros. Ha recorrido medio mundo y ha pisado escenarios como la Ópera de Sídney\, el Concert Hall de las Torres Petronas\, el Teatro Bolshói de Moscú\, el Teatro Real de Madrid o el Palau de la Música de Barcelona. \nColabora con figuras como el director de cine Carlos Saura\, Vicente Amigo\, Pepe de Lucía\, José Mercé\, Juan Villar\, Rancapino\, etc. Entre sus numerosos premios destaca en 2016 la «Bandera de Andalucía» por su labor de «promoción de Cádiz en el exterior» y el doble Premio Nacional en el XVIII Concurso de Cante Flamenco de Córdoba\, obteniendo los premios «Manolo Caracol» y «Camarón». En su discografía contamos con los siguientes registros: «Levantito» (1998)\, «La Viña\, Cantón Independiente» (2010)\, «Denominación de Origen» (2015) y «8 Miradas» (2022). \n  \nPuede compartir este evento en:
URL:https://www.mientrada.net/evento/ix-bienal-flamenco-malaga-100-veces-perla/
LOCATION:Auditorio José Pernía Calderón\, Parque de la Constitución\, Marbella\, Málaga\, 29601\, España
CATEGORIES:Auditorio José Pernía Calderón (Marbella),Bienal Arte Flamenco de Málaga,Flamenco,Marbella
ATTACH;FMTTYPE=image/jpeg:https://www.mientrada.net/wp-content/uploads/2025/04/Cartel-Bienal-2025-07-17-Perla.jpg
END:VEVENT
BEGIN:VEVENT
DTSTART;TZID=Europe/Madrid:20250718T213000
DTEND;TZID=Europe/Madrid:20250718T213000
DTSTAMP:20260420T203937
CREATED:20250401T082757Z
LAST-MODIFIED:20250422T165336Z
UID:84787-1752874200-1752874200@www.mientrada.net
SUMMARY:Viaje al centro de mí mismo
DESCRIPTION:IX BIENAL ARTE FLAMENCO DE MÁLAGA. \nEl guitarrista malagueño Francisco Vinuesa nos invita a su apasionante epopeya interior\, al centro mismo de sus creaciones\, a bordo de su bajel de seis cuerdas y un inmejorable grupo de marineros de luces (y sombras)\, en forma de bailaores geniales\, que le harán reencontrarse con el brillante guitarrista que le dicen ser y\, sobre todo\, con él mismo: un intérprete que siempre navega\, humilde y ufano\, en busca de una dorada quimera artística. \n  \nElenco artístico: \n\nGuitarra: Francisco Vinuesa.\nBaile: Rocío Molina\, Alfonso Losa\, Manuel Liñán y Remache de Málaga.\nCantaores: Antonio Luque Cortés ‘Canito’\, Ismael de La Rosa ‘El bola’ y Dani Bonilla.\nPercusión: Javier Teruel ‘El Claqueta’.\nArtista invitado: Rocío Molina\, Manuel Liñán\, Alfonso Losa y Remache de Málaga.\n\n  \nPuede compartir este evento en:
URL:https://www.mientrada.net/evento/ix-bienal-flamenco-malaga-viaje-centro-mi-mismo/
LOCATION:Teatro Auditorio Felipe VI\, Calle Juan Benitez\, 143\, Estepona\, Málaga\, 29680\, España
CATEGORIES:Bienal Arte Flamenco de Málaga,Estepona,Flamenco,Teatro Auditorio Felipe VI
ATTACH;FMTTYPE=image/jpeg:https://www.mientrada.net/wp-content/uploads/2025/04/Cartel-Bienal-2025-07-18-Viaje.jpg
END:VEVENT
BEGIN:VEVENT
DTSTART;TZID=Europe/Madrid:20250720T210000
DTEND;TZID=Europe/Madrid:20250720T210000
DTSTAMP:20260420T203937
CREATED:20250401T082757Z
LAST-MODIFIED:20250710T112310Z
UID:84788-1753045200-1753045200@www.mientrada.net
SUMMARY:Tierra Bendita - Ballet Flamenco de Andalucía
DESCRIPTION:IX BIENAL ARTE FLAMENCO DE MÁLAGA. \nTierra Bendita transita por los rincones más pintorescos y particulares de Andalucía. Es un recorrido por los cantes y bailes más representativos del flamenco\, una suite repleta de tradición y modernidad\, de lo antiguo y lo nuevo\, de la estética del siglo XVIII y la estética del siglo XXI\, desde el modo frigio al mixolidio\, de quejíos ancestrales y otros que los evocan en la actualidad. \nEs una línea en la que tradición y contemporaneidad se entrelazan y se alimentan mutuamente\, un mundo flamenco sin tapujos ni vergüenzas que pone en valor a las nuevas generaciones de creadores\, desnudando al artista frente al público. Un trabajo minucioso\, lleno de matices\, que transforma las estructuras sin desvirtuar la esencia\, sin el yugo de ninguna de las disciplinas expuestas y con una construcción que permite a cada parte sostenerse de manera independiente. De la puesta en común surge la obra completa. \n  \nElenco artístico: \n\nBaile: Adriana Gómez\, Agustín Barajas\, Álvaro Aguilera\, Ángel Fariña\, Araceli Muñoz\, Blanca Lorente\, Claudia “La Debla”\, David Vargas\, Hugo Aguilar\, Jasiel Nahin\, Lucía “La Bronce”\, María Carrasco y Sofía Suárez.\nCantaores: Ámparo Lagares y Manuel de Gines.\nGuitarras: Jesús Rodríguez y José Luís Medina.\nPercusión: David Chupete.\nDirección escénica y coreografía: Patricia Guerrero.\n\n  \nPROGRAMA \nTerritorios\nTaranta del niño\nVenta el pobre\nEncarnación\nTierra bendita\nMadrugá\nPaseo de los tristes\nDel Cabo a la Alcazaba\nPlaza de las Flores\nFiesta en la Gloria. Poema Manuel Benítez Carraco.\nAlameda\nAndaluza \n  \nAviso: el evento se traslada por causas técnicas al Teatro Las Lagunas de Mijas. Las personas que habían comprado sus entradas para el Auditorio se les facilitará una nueva entrada para el teatro. \n  \nPuede compartir este evento en:
URL:https://www.mientrada.net/evento/ix-bienal-flamenco-malaga-tierra-bendita/
LOCATION:Teatro Las Lagunas de Mijas\, Camino del Albero 16\, Mijas\, Málaga\, España
CATEGORIES:Bienal Arte Flamenco de Málaga,Flamenco,Mijas,Teatro Las Lagunas
ATTACH;FMTTYPE=image/jpeg:https://www.mientrada.net/wp-content/uploads/2025/04/Cartel-Bienal-2025-07-20-Bendita-2.jpg
END:VEVENT
BEGIN:VEVENT
DTSTART;TZID=Europe/Madrid:20250723T220000
DTEND;TZID=Europe/Madrid:20250723T220000
DTSTAMP:20260420T203937
CREATED:20250401T082757Z
LAST-MODIFIED:20250630T082203Z
UID:84868-1753308000-1753308000@www.mientrada.net
SUMMARY:Flamenco de altura - Barquerito
DESCRIPTION:IX BIENAL ARTE FLAMENCO DE MÁLAGA. \n\n02/07/2025: Cante: Fabiola Santiago\, Guitarra: Carlos Haro\n09/07/2025: Cante: José de Chaparro\, Guitarra: Chaparro de Málaga\n16/07/2025: Cante: Vanessa Fernández\, Guitarra: Carlos Caro\n23/07/2025: Cante: Barquerito\, Guitarra: Andrés Cansino\n30/07/2025: Cante: Ana Fargas\, Guitarra: Paco Javier Jimeno\n\n  \nPrecios: \n\nEntrada + Consumición*: 20€\nEntrada (sin consumición): 15€\n* No incluye bebidas premium ni cocteles.\n\n  \nPuede compartir este evento en:
URL:https://www.mientrada.net/evento/ix-bienal-flamenco-malaga-flamenco-altura-barquerito/
LOCATION:AC Hotel Málaga Palacio\, Calle Cortina del Muelle\, 1\, Málaga\, Málaga\, 29015\, España
CATEGORIES:AC Hotel Málaga Palacio,Bienal Arte Flamenco de Málaga,Flamenco,Flamenco de altura,Málaga
ATTACH;FMTTYPE=image/jpeg:https://www.mientrada.net/wp-content/uploads/2025/04/Cartel-Bienal-2025-Flamenco-de-altura.jpg
END:VEVENT
BEGIN:VEVENT
DTSTART;TZID=Europe/Madrid:20250725T200000
DTEND;TZID=Europe/Madrid:20250725T200000
DTSTAMP:20260420T203937
CREATED:20250401T082757Z
LAST-MODIFIED:20250422T165035Z
UID:84789-1753473600-1753473600@www.mientrada.net
SUMMARY:Lo inédito - La Lupi
DESCRIPTION:IX BIENAL ARTE FLAMENCO DE MÁLAGA. \nLa Lupi y sus mil renaceres\, un viaje compartido. Una bailarina que encarna a todas. Una persona que nos representa a todas. Que hace de su viaje el nuestro. Que su cuerpo es atravesado por muchas historias conocidas y desconocidas. Una chamana que conecta lo inexplicable con el movimiento. Un reflejo. Recortes de mil caras\, de mil expresiones. Cuerpos inventados. Espejos deformados que nos devuelven realidades soñadas y expresiones de movimientos nuevos. Una bailarina renacida y brillante compuesta por trozos de ella misma del pasado y hacia el futuro. Atmosfera de ensueño y humo que dibuja un espacio onírico y desdibuja los cuerpos. Realidad y sueño son lo mismo. Risa\, sonrisa y pecho encogido.  \nAlberto Velasco. \n  \nElenco artístico: \n\nBaile: La Lupi\, Iván Amaya y Miguel Ángel Corbacho.\nCantaores: Alfredo Tejada.\nGuitarra: Antonio González.\nPercusión: David Galiano.\nArtista invitado al baile: Miguel Ángel Corbacho e Iván Amaya.\nColaboración especial: Curro de María.\n\n  \nPROGRAMA \nLa rebelión del cuerpo (mundo sonoro)\nInvocación a la danza\nMal fario (patanera)\nDesencaje de bolillos (cantiñas)\nRedescubrimiento (jaleos extremeños)\nComo la vida misma (mundo sonoro)\nCuerpo infinito (bulería instrumental)\nMantón\, mantón\, eterno mantón (cuplé por bulería)\nLa Moretta (soleá apolá)\nLa Lupi se confiesa \n  \nPuede compartir este evento en:
URL:https://www.mientrada.net/evento/ix-bienal-flamenco-malaga-lo-inedito/
LOCATION:Auditorio Edgar Neville\, Calle Pacífico\, 54\, Málaga\, Málaga\, 29004\, España
CATEGORIES:Auditorio Edgar Neville,Bienal Arte Flamenco de Málaga,Flamenco,Málaga
ATTACH;FMTTYPE=image/jpeg:https://www.mientrada.net/wp-content/uploads/2025/04/Cartel-Bienal-2025-07-25-Inedito-2.jpg
END:VEVENT
BEGIN:VEVENT
DTSTART;TZID=Europe/Madrid:20250726T203000
DTEND;TZID=Europe/Madrid:20250726T203000
DTSTAMP:20260420T203937
CREATED:20250401T082757Z
LAST-MODIFIED:20250705T142314Z
UID:84790-1753561800-1753561800@www.mientrada.net
SUMMARY:Bailando a Manuela
DESCRIPTION:IX BIENAL ARTE FLAMENCO DE MÁLAGA. \nBailando a Manuela es un espectáculo de baile flamenco que rinde homenaje a la legendaria bailaora Manuela Carrasco. A través de una serie de actuaciones vibrantes y emotivas\, el espectáculo celebra la rica tradición del flamenco y la influencia de Manuela en este arte. Con un elenco de talentosas bailaoras y músicos\, Bailando a Manuela promete una experiencia inolvidable llena de pasión\, ritmo y duende. \n  \nElenco artístico: \n\nBaile: Manuela Carrasco\, Pastora Galván\, Gema Moneo\, Manuela Carrasco hija y Saray de Los Reyes.\nBaile y Cante: Zamara Carrasco.\nCante: Enrique El Extremeño\, El Tañé y Pepe de Pura.\nGuitarras: Pedro Sierra y Antonio Santiago Ñoño.\nPercusión: José Carrasco\nPalmas: Petete y Juan Mateo.\n\n  \nManuela Carrasco es una de las figuras más destacadas del flamenco.Conocida como “La Diosa del Baile Flamenco”\, ha dejado una huella imborrable en el mundo del flamenco con su estilo puro y apasionado. Ha recibido numerosos premios\, incluyendo la Medalla de Andalucía y el Premio Nacional de Danza. Así como la medalla de oro a las bellas artes. \nPastora Galván es una bailaora sevillana reconocida por su estilo único y su fuerza en el escenario. Ha trabajado con grandes figuras del flamenco y ha llevado su arte a escenarios internacionales. \nGema Moneo es una joven promesa del flamenco\, conocida por su energía arrolladora y su capacidad para transmitir emociones a través del baile. Ha participado en numerosos festivales y espectáculos de flamenco. Siguiendo los pasos de su madre\, Manuela Carrasco hija ha desarrollado su propio estilo dentro del flamenco. Su talento y dedicación la han convertido en una digna heredera del legado de su madre. \nSaray de Los Reyes es una bailaora con una gran presencia escénica. Su estilo combina la tradición flamenca con toques contemporáneos\, lo que la hace destacar en cada actuación. \nZamara Carrasco es una artista versátil que combina baile y cante con maestría. Su capacidad para moverse entre ambos roles la convierte en una pieza clave del espectáculo. \nEnrique El Extremeño es un cantaor con una voz profunda y emotiva. Su capacidad para transmitir el sentimiento flamenco lo ha llevado a colaborar con grandes figuras del flamenco. \nEl Tañé es un cantaor conocido por su estilo auténtico y poderoso. Su voz y su presencia en el escenario lo han convertido en un referente del cante flamenco. \nPepe de Pura es un cantaor reconocido por su capacidad para transmitir el sentimiento flamenco. Su estilo y su voz lo han llevado a ser una figura\ndestacada en el mundo del flamenco. \nPedro Sierra es un guitarrista virtuoso con una técnica impecable. Su habilidad para acompañar a los cantaores y bailaores lo ha convertido en un músico muy solicitado en el mundo del flamenco. \nAntonio Santiago Ñoño es un maestro de la guitarra flamenca con un toque inconfundible. Su talento y su dedicación al flamenco lo han llevado a colaborar con grandes artistas. \nJosé Carrasco es un percusionista que aporta ritmo y compás al espectáculo. Su habilidad para marcar el pulso del flamenco lo convierte en una pieza fundamental del elenco. \nPetete es un palmero que añade fuerza y dinamismo al espectáculo con sus palmas. Su habilidad rítmica y su presencia en el escenario lo hacen destacar en cada actuación. \nJuan Mateo es un palmero que complementa perfectamente con su habilidad rítmica. Su talento para las palmas añade una capa adicional de profundidad al espectáculo. \n  \nPrecios: \n\npatio de butacas: 35€\nanfiteatro: 30€ y 25€\n\n  \nPuede compartir este evento en:
URL:https://www.mientrada.net/evento/ix-bienal-flamenco-malaga-bailando-manuela/
LOCATION:Teatro del Soho CaixaBank\, Calle Córdoba 13\, Málaga\, Málaga\, 29001\, España
CATEGORIES:Bienal Arte Flamenco de Málaga,Flamenco,Málaga,Teatro del Soho CaixaBank
ATTACH;FMTTYPE=image/jpeg:https://www.mientrada.net/wp-content/uploads/2025/04/Cartel-Bienal-2025-07-26-Manuela-3.jpg
END:VEVENT
BEGIN:VEVENT
DTSTART;TZID=Europe/Madrid:20250730T220000
DTEND;TZID=Europe/Madrid:20250730T220000
DTSTAMP:20260420T203937
CREATED:20250401T082757Z
LAST-MODIFIED:20250630T082233Z
UID:84869-1753912800-1753912800@www.mientrada.net
SUMMARY:Flamenco de altura - Ana Fargas
DESCRIPTION:IX BIENAL ARTE FLAMENCO DE MÁLAGA. \n\n02/07/2025: Cante: Fabiola Santiago\, Guitarra: Carlos Haro\n09/07/2025: Cante: José de Chaparro\, Guitarra: Chaparro de Málaga\n16/07/2025: Cante: Vanessa Fernández\, Guitarra: Carlos Caro\n23/07/2025: Cante: Barquerito\, Guitarra: Andrés Cansino\n30/07/2025: Cante: Ana Fargas\, Guitarra: Paco Javier Jimeno\n\n  \nPrecios: \n\nEntrada + Consumición*: 20€\nEntrada (sin consumición): 15€\n* No incluye bebidas premium ni cocteles.\n\n  \nPuede compartir este evento en:
URL:https://www.mientrada.net/evento/ix-bienal-flamenco-malaga-flamenco-altura-ana-fargas/
LOCATION:AC Hotel Málaga Palacio\, Calle Cortina del Muelle\, 1\, Málaga\, Málaga\, 29015\, España
CATEGORIES:AC Hotel Málaga Palacio,Bienal Arte Flamenco de Málaga,Flamenco,Flamenco de altura,Málaga
ATTACH;FMTTYPE=image/jpeg:https://www.mientrada.net/wp-content/uploads/2025/04/Cartel-Bienal-2025-Flamenco-de-altura.jpg
END:VEVENT
END:VCALENDAR