BEGIN:VCALENDAR
VERSION:2.0
PRODID:-//mientrada.net - ECPv5.16.0//NONSGML v1.0//EN
CALSCALE:GREGORIAN
METHOD:PUBLISH
X-WR-CALNAME:mientrada.net
X-ORIGINAL-URL:https://www.mientrada.net
X-WR-CALDESC:Eventos para mientrada.net
REFRESH-INTERVAL;VALUE=DURATION:PT1H
X-Robots-Tag:noindex
X-PUBLISHED-TTL:PT1H
BEGIN:VTIMEZONE
TZID:Europe/Madrid
BEGIN:DAYLIGHT
TZOFFSETFROM:+0100
TZOFFSETTO:+0200
TZNAME:CEST
DTSTART:20250330T010000
END:DAYLIGHT
BEGIN:STANDARD
TZOFFSETFROM:+0200
TZOFFSETTO:+0100
TZNAME:CET
DTSTART:20251026T010000
END:STANDARD
END:VTIMEZONE
BEGIN:VEVENT
DTSTART;TZID=Europe/Madrid:20250801T220000
DTEND;TZID=Europe/Madrid:20250801T220000
DTSTAMP:20260420T222742
CREATED:20250401T082757Z
LAST-MODIFIED:20250422T155423Z
UID:84791-1754085600-1754085600@www.mientrada.net
SUMMARY:Identidad
DESCRIPTION:IX BIENAL ARTE FLAMENCO DE MÁLAGA. \nAurora Vargas\, Antonio Reyes\, Jesús Méndez y Manuela Carpio. \nEs un espectáculo en el que se podrá degustar el mejor flamenco\, fusionando la raza de Aurora Vargas\, la dulzura de Antonio Reyes\, la fuerza arrolladora de Jesús Méndez y la gitanería de la bailaora Manuela Carpio. \nLos cantes más ortodoxos se entrelazarán con los más festeros\, donde Aurora Vargas los adornará con su inconfundible cante y baile; Antonio Reyes aportará la dulzura que lo caracteriza con letras rescatadas del flamenco más puro; Jesús Méndez arrasará con su torrente de voz\, impregnando sus cantes con los sones característicos de La Plazuela de Jerez; y Manuela Carpio esbozará\, con su baile\, el estilo más puro y festero de su tierra jerezana. \nAsí es «Identidad»\, un espectáculo en el que cada artista brilla con su propio sello\, dando sentido a su nombre. \n  \nElenco artístico: \n\n Aurora Vargas:\nGuitarra: Miguel Salado.\nPalmas: Diego Montoya\, Javi Peña y Manuel Salado.\nAntonio Reyes:\nGuitarra: Nono Reyes.\nPalmas: Tate Nuñez y Ramoni.\nJesús Méndez:\nGuitarrista: Pepe del Morao.\nPalmas: Diego Montoya y Manuel Salado.\nManuela Carpio:\nGuitarra: Juan Requena.\nCante: Manuel Tañe y Miguel Lavi.\nPalmas: Cachorro de Juanillorro e Iván de Manuela.\n\n  \nPuede compartir este evento en:
URL:https://www.mientrada.net/evento/ix-bienal-flamenco-malaga-identidad/
LOCATION:Auditorio Parque Leonor\, Zona Sgal. 3\, 115\, Coín\, Málaga\, 29100\, España
CATEGORIES:Auditorio Parque Leonor,Bienal Arte Flamenco de Málaga,Coín,Flamenco
ATTACH;FMTTYPE=image/jpeg:https://www.mientrada.net/wp-content/uploads/2025/04/Cartel-Bienal-2025-08-01-Identidad.jpg
END:VEVENT
BEGIN:VEVENT
DTSTART;TZID=Europe/Madrid:20250802T220000
DTEND;TZID=Europe/Madrid:20250802T220000
DTSTAMP:20260420T222742
CREATED:20250401T082757Z
LAST-MODIFIED:20250801T154850Z
UID:84792-1754172000-1754172000@www.mientrada.net
SUMMARY:Soy gitano
DESCRIPTION:IX BIENAL ARTE FLAMENCO DE MÁLAGA. \nFarruquito\, Duquende\, Pedro el Granaíno y Orquesta Sinfónica de Málaga (dirigida por el Maestro Rubén Díez). \nLas dos voces más camaroneras del flamenco actual\, Duquende y Pedro El Granaíno\, protagonizan ‘Soy gitano’\, junto al bailaor Juan Fernández ‘Farruquito’ y la Orquesta Sinfónica de Málaga. Se trata de un gran espectáculo de producción propia con el que se clausurará la IX Bienal de Arte Flamenco de Málaga\, el 2 de agosto\, en el auditorio de Rincón de la Victoria. \nLos cantes que popularizó y grabó Camarón de la Isla forman la columna vertebral de este espectáculo como la ‘Nana del caballo grande’\, ‘La tarara’ (taranta)\, ‘Calle Real’ (fandangos)\, ‘La leyenda del tiempo’ (jaleos) y ‘Soy gitano’ (tangos)\, entre otros\, que nos transportarán a los mejores momentos del genio de San Fernando. Los arreglos y la orquestación corresponden al compositor Jesús Bola. \nDuración: 80 minutos \n  \nFILA ARTÍSTICA Y TÉCNICA: \n\nCANTE: Pedro El Granaíno Duquende\nBAILE: Farruquito\nMÚSICA: Orquesta Sinfónica de Málaga\nGUITARRAS: Manuel Valencia y Paco Cruzado\nPERCUSIÓN: Paco Vega\nCOROS Y PALMAS: Bolita\, Manuel de la Nina\, Gema Monje Montoya y Rocío Monje Montoya\nDIRECCIÓN MUSICAL: Jesús Bola\nDISEÑO DE SONIDO: Cheluis Salmerón\nDISEÑO DE LUMINACIÓN: Israel Si\nCOORDINACIÓN TÉCNICA Y REGIDURÍA: Patricia Gea\nPRODUCCIÓN: Belén López Cordero\nASISTENTE DE PRODUCCIÓN: Coral Graciani\nAYUDANTE DE PRODUCCIÓN: Paula Astuy\nEMPRESA TÉCNICA: Isoluz\nIDEA ORIGINAL: Antonio Roche González\n\n  \nPuede compartir este evento en:
URL:https://www.mientrada.net/evento/ix-bienal-flamenco-malaga-soy-gitano/
LOCATION:Auditorio Municipal del Rincon de la Victoria\, Av. Cotomar\, 20\, Rincón de la Victoria\, Málaga\, 29730\, España
CATEGORIES:Auditorio Rincón de la Victoria,Bienal Arte Flamenco de Málaga,Flamenco,Rincón de la Victoria
ATTACH;FMTTYPE=image/jpeg:https://www.mientrada.net/wp-content/uploads/2025/04/Cartel-Bienal-2025-08-02-Gitano.jpg
END:VEVENT
END:VCALENDAR