BEGIN:VCALENDAR
VERSION:2.0
PRODID:-//mientrada.net - ECPv5.16.0//NONSGML v1.0//EN
CALSCALE:GREGORIAN
METHOD:PUBLISH
X-WR-CALNAME:mientrada.net
X-ORIGINAL-URL:https://www.mientrada.net
X-WR-CALDESC:Eventos para mientrada.net
REFRESH-INTERVAL;VALUE=DURATION:PT1H
X-Robots-Tag:noindex
X-PUBLISHED-TTL:PT1H
BEGIN:VTIMEZONE
TZID:Europe/Madrid
BEGIN:DAYLIGHT
TZOFFSETFROM:+0100
TZOFFSETTO:+0200
TZNAME:CEST
DTSTART:20250330T010000
END:DAYLIGHT
BEGIN:STANDARD
TZOFFSETFROM:+0200
TZOFFSETTO:+0100
TZNAME:CET
DTSTART:20251026T010000
END:STANDARD
END:VTIMEZONE
BEGIN:VEVENT
DTSTART;TZID=Europe/Madrid:20250531T200000
DTEND;TZID=Europe/Madrid:20250531T200000
DTSTAMP:20260420T092912
CREATED:20250401T082757Z
LAST-MODIFIED:20250410T084626Z
UID:84793-1748721600-1748721600@www.mientrada.net
SUMMARY:De mi soleá - Luisa Chicano
DESCRIPTION:IX BIENAL ARTE FLAMENCO DE MÁLAGA. \nLUISA CHICANO. \nLa soleá forma parte de mi vida\, es una manera de expresar mis sentimientos en el flamenco. Si tuviera que identificarme con un palo sería sin duda la soleá. Es uno de los palos más difíciles del flamenco por su complejidad del cante y del ritmo\, y porque el bailador(a) que lo realice\, tiene que ser poseedor de un gran conocimiento y un gran temple a través de su baile. \n  \nElenco artístico: \n\nBaile: Luisa Chicano\nCantaores: José Manuel Fernández\, Manuel de la Curra\, Antonio Luque Cortes “Canito”\nGuitarras: Francisco Vinuesa\nDireccion artística: La Lupi\nArtista invitado: Cristóbal García\n\n  \nPROGRAMA \nSoleá-Cantiñas\nSolo de guitarra\nAbandolao\nSeguirilla\nCaña\nFin de fiesta \n  \nPuede compartir este evento en:
URL:https://www.mientrada.net/evento/ix-bienal-flamenco-malaga-de-mi-solea/
LOCATION:Centro Cultural Villa de Nerja\, Calle Granada 45\, Nerja\, Málaga\, 29780\, España
CATEGORIES:Bienal Arte Flamenco de Málaga,Centro Cultural Villa de Nerja,Flamenco,Nerja
ATTACH;FMTTYPE=image/jpeg:https://www.mientrada.net/wp-content/uploads/2025/04/Cartel-Bienal-2025-05-31-Solea-2.jpg
END:VEVENT
END:VCALENDAR