BEGIN:VCALENDAR
VERSION:2.0
PRODID:-//mientrada.net - ECPv5.16.0//NONSGML v1.0//EN
CALSCALE:GREGORIAN
METHOD:PUBLISH
X-WR-CALNAME:mientrada.net
X-ORIGINAL-URL:https://www.mientrada.net
X-WR-CALDESC:Eventos para mientrada.net
REFRESH-INTERVAL;VALUE=DURATION:PT1H
X-Robots-Tag:noindex
X-PUBLISHED-TTL:PT1H
BEGIN:VTIMEZONE
TZID:Europe/Madrid
BEGIN:DAYLIGHT
TZOFFSETFROM:+0100
TZOFFSETTO:+0200
TZNAME:CEST
DTSTART:20250330T010000
END:DAYLIGHT
BEGIN:STANDARD
TZOFFSETFROM:+0200
TZOFFSETTO:+0100
TZNAME:CET
DTSTART:20251026T010000
END:STANDARD
END:VTIMEZONE
BEGIN:VEVENT
DTSTART;TZID=Europe/Madrid:20250605T200000
DTEND;TZID=Europe/Madrid:20250605T200000
DTSTAMP:20260420T175050
CREATED:20250401T082757Z
LAST-MODIFIED:20250422T172626Z
UID:84777-1749153600-1749153600@www.mientrada.net
SUMMARY:El mar no puede morir - Carmen Camacho
DESCRIPTION:IX BIENAL ARTE FLAMENCO DE MÁLAGA. \nLa inspiración de vivir junto al mar. El mar no puede morir evoca de forma muy conceptual y con el Flamenco como lenguaje los elementos culturales\, religiosos e históricos que identifican la vida mediterránea. Un mundo mágico donde confluyen marineros\, fenicios\, diosas\, gaviotas y se venera a la Virgen del mar\, catalejo por donde acercarnos a lo lejano y admirar el legado y la riqueza de nuestra cultura milenaria. ¿Y si aquella Diosa de la Luna que bajaba a bañarse al mar nos estuviera observando? Vería gentes que se siguen maravillando al contemplar su mar\, divisando delfines acróbatas y contando gaviotas. \n  \nElenco artístico: \n\nBaile: Carmen Camacho\, Alejandro Rodriguez y Ángel Reyes.\nCantaoras: Delia Membrive\, Fabiola Santiago y Rosa Linero.\nGuitarra: Carlos Haro.\nPercusión: David Galiano.\nIdea original: Carmen Camacho.\nDirección escénica: La Lupi.\nComposición musical: Carlos Haro.\nCoreografía: Carmen Camacho y La Lupi.\nIluminación: Javier Arjona y Adolfo Rodriguez.\nVestuario: Enrique Vicent\, Victoria Angulo\, Belén de la Quintana y Mantones Foronda.\nEscenografía: Cecyp.\nArtista invitado: Chaparro de Málaga.\n\n  \nPROGRAMA \nCatalejo (Chaparro de Málaga)\nNoctiluca (Seguiriya)\nFenicios (Fandango)\nManuel (Solo de cante)\nVirgen del Mar (Tientos/tangos)\nMarineros (Bulería de Cádiz)\nDiosa de la Luna (Cantiñas)\nGaviotas (Paso a dos)\nOrillas (Guajira)\nNiña en la playa (Bulería) \n  \nCarmen Camacho\, titulada en Baile Flamenco por el Conservatorio Superior de Danza de Málaga.Ha formado parte de importantes compañías como la Cía. Flamenca de La Lupi\, durante más de 10 años y la Compañía Flamenca de Sara Baras\, con las cuales ha recorrido los mejores festivales flamencos de la geografía nacional e internacional\, en teatros como Royal Albert Hall y Sadler’s Wells de Londres\, Teatro Maestranza de Sevilla\, Teatro Liceo de Barcelona o el Teatro Real de Madrid. Además\, es bailaora invitada habitual de la cantaora Antonia Contreras (Lámpara Minera 2017) y el guitarrista Juan Ramón Caro\, en diversas creaciones. \nComo bailaora solista ha tenido presencia en importantes festivales como Liechtenstein\, Estrasburgo\, Bilbao\, Stuttgart\, Bulgaria\, Bienal de Flamenco de Málaga en varias ediciones\, y es bailaora habitual en tablaos y festivales de la geografía nacional. Como docente\, ha impartido numerosos talleres y cursos en Bilbao\, Camerún\, Ucrania\, Alemania\, Francia\, Polonia\, contando con una amplia experiencia en la enseñanza\, ya que dirige su propia escuela de flamenco en Málaga desde 2015. \n  \nPuede compartir este evento en:
URL:https://www.mientrada.net/evento/ix-bienal-flamenco-malaga-mar-no-puede-morir/
LOCATION:Auditorio Edgar Neville\, Calle Pacífico\, 54\, Málaga\, Málaga\, 29004\, España
CATEGORIES:Auditorio Edgar Neville,Bienal Arte Flamenco de Málaga,Flamenco,Málaga
ATTACH;FMTTYPE=image/jpeg:https://www.mientrada.net/wp-content/uploads/2025/04/Cartel-Bienal-2025-06-05-Mar.jpg
END:VEVENT
END:VCALENDAR