BEGIN:VCALENDAR
VERSION:2.0
PRODID:-//mientrada.net - ECPv5.16.0//NONSGML v1.0//EN
CALSCALE:GREGORIAN
METHOD:PUBLISH
X-ORIGINAL-URL:https://www.mientrada.net
X-WR-CALDESC:Eventos para mientrada.net
REFRESH-INTERVAL;VALUE=DURATION:PT1H
X-Robots-Tag:noindex
X-PUBLISHED-TTL:PT1H
BEGIN:VTIMEZONE
TZID:Europe/Madrid
BEGIN:DAYLIGHT
TZOFFSETFROM:+0100
TZOFFSETTO:+0200
TZNAME:CEST
DTSTART:20250330T010000
END:DAYLIGHT
BEGIN:STANDARD
TZOFFSETFROM:+0200
TZOFFSETTO:+0100
TZNAME:CET
DTSTART:20251026T010000
END:STANDARD
END:VTIMEZONE
BEGIN:VEVENT
DTSTART;TZID=Europe/Madrid:20250612T200000
DTEND;TZID=Europe/Madrid:20250612T200000
DTSTAMP:20260420T223504
CREATED:20250401T082757Z
LAST-MODIFIED:20250422T171949Z
UID:84781-1749758400-1749758400@www.mientrada.net
SUMMARY:Ana Almagro x el amor
DESCRIPTION:IX BIENAL ARTE FLAMENCO DE MÁLAGA. \nLa bailaora Ana Almagro y Eduardo Rivero\, director de ‘El amor’\, crean un solo de flamenco con espacio sonoro electrónico basado en grabaciones de estudio del baile de Ana que desde la rítmica y el calentamiento flamenco pasa por los aprendizajes de una bailarina de compañía. Así mismo se refuerza con tres voces flamencas que desde la nana de la mosca de Pepe Marchena crea libre y adaptada la letra a compás de Romance\, Bulerías al golpe. \nSe hace un recorrido de palos flamencos donde se centra en el cante y el baile sin aditivos. Con la influencia de grandes artistas como Carmen Mora\, Manuela Vargas o Ana María Bueno\, se baila por Soleá donde introduce el compás de 12 mediante la música grabada de la danza previamente. Aumenta la velocidad y la intensidad hasta llegar a Jerez para terminar por bulerías. Mediante una transición de voces con letras cortas de bulerías por solea nos introducimos en el Martinete que eleva\, intensifica y llega una polifonía de voces. Por último\, la pieza concluye con un último fragmento donde se mezcla todo lo sucedido generando la posibilidad de un amanecer. \n  \nElenco artístico y técnico:  \n\nBaile: Ana Almagro.\nCantaores: José Luis Hernández\, Rosario Heredia y Gabriel de la Tomasa.\nArtista invitado: Gabriel de la Tomasa.\nDirección: Eduardo Rivero.\nEspacio sonoro: Abel Hernández.\nCoreografía: Ana Almagro.\nIluminación: Alván Prado.\nSonido: Pablo Martínez.\nEstilismo: Lucia Lomas.\n\n  \nAna Almagro es bailarina en el Ballet Nacional de España desde el año 2022. Se inició en el mundo del flamenco a los siete años\, tras acabar el conservatorio\, se trasladó a Sevilla donde compaginó su formación con su participación en la compañía de Jose Antonio Ruiz e ingresó en el Ballet Flamenco de Andalucía bajo la dirección de Úrsula Lopez. Su primera propuesta en solitario que se presentaría en la VII Bienal de Arte Flamenco de Málaga y actualmente combina su trabajo en el BNE con sus propias creaciones. \nEduardo Rivero funda ‘El Amor’ desde dónde co-crea y co-dirige piezas de danza en espacios no convencionales. Desde 2019\, trabaja con Mar Aguiló y Manuel Rodríguez. Asi mismo potencia un grupo de investigación con Miranda Alfonso\, Rocío Guzmán\, Leonor Leal\, Antonio Moreno y Marina de Remedios. También trabaja como comisario de danza para diferentes instituciones como los Museos Nacionales\, Museo Thyssen y Goethe-Institut. \n  \nPuede compartir este evento en:
URL:https://www.mientrada.net/evento/ix-bienal-flamenco-malaga-ana-almagro-x-amor/
LOCATION:Auditorio Edgar Neville\, Calle Pacífico\, 54\, Málaga\, Málaga\, 29004\, España
CATEGORIES:Auditorio Edgar Neville,Bienal Arte Flamenco de Málaga,Flamenco,Málaga
ATTACH;FMTTYPE=image/jpeg:https://www.mientrada.net/wp-content/uploads/2025/04/Cartel-Bienal-2025-06-12-Almagro.jpg
END:VEVENT
END:VCALENDAR