BEGIN:VCALENDAR
VERSION:2.0
PRODID:-//mientrada.net - ECPv5.16.0//NONSGML v1.0//EN
CALSCALE:GREGORIAN
METHOD:PUBLISH
X-WR-CALNAME:mientrada.net
X-ORIGINAL-URL:https://www.mientrada.net
X-WR-CALDESC:Eventos para mientrada.net
REFRESH-INTERVAL;VALUE=DURATION:PT1H
X-Robots-Tag:noindex
X-PUBLISHED-TTL:PT1H
BEGIN:VTIMEZONE
TZID:Europe/Madrid
BEGIN:DAYLIGHT
TZOFFSETFROM:+0100
TZOFFSETTO:+0200
TZNAME:CEST
DTSTART:20250330T010000
END:DAYLIGHT
BEGIN:STANDARD
TZOFFSETFROM:+0200
TZOFFSETTO:+0100
TZNAME:CET
DTSTART:20251026T010000
END:STANDARD
END:VTIMEZONE
BEGIN:VEVENT
DTSTART;TZID=Europe/Madrid:20250619T200000
DTEND;TZID=Europe/Madrid:20250619T200000
DTSTAMP:20260421T001350
CREATED:20250401T082757Z
LAST-MODIFIED:20250422T171500Z
UID:84782-1750363200-1750363200@www.mientrada.net
SUMMARY:Lucía en vivo
DESCRIPTION:IX BIENAL ARTE FLAMENCO DE MÁLAGA. \nEn Lucía en vivo subimos el volumen para disfrutar del legado más fresco\, natural y canalla de lo jondo\, pero también de sus callejones más sórdidos\, los palos más solemnes y su eco más estremecedor. Hurgando en sus sonidos internos\, amplificando los compases con las palmas y el tacón\, dibujando las melodías con movimientos\, marcando las notas con los ojos y la piel\, convocando el silencio y levantando la voz. \nAquí lo que conectamos es la energía para invitar al espectador a vivir una propuesta orgánica\, abierta y mutable en la que la guitarra flamenca de Ramón Amador\, el bajo eléctrico de Juanfe Pérez\, la batería de Javier Rabadán\, la voz de Manuel Pajares y el baile de Lucía golpean cómplices al unísono. Para decirlo cantando\, para decirlo bailando. \n  \nElenco artístico: \n\nBaile: Lucía Álvarez.\nCantaores: Manuel Pajares.\nGuitarras: Ramón Amador.\nPercusión: Javier Rabadán.\nBajo eléctrico: Juanfe Pérez.\n\n  \nPuede compartir este evento en:
URL:https://www.mientrada.net/evento/ix-bienal-flamenco-malaga-lucia-en-vivo/
LOCATION:Auditorio Edgar Neville\, Calle Pacífico\, 54\, Málaga\, Málaga\, 29004\, España
CATEGORIES:Auditorio Edgar Neville,Bienal Arte Flamenco de Málaga,Flamenco,Málaga
ATTACH;FMTTYPE=image/jpeg:https://www.mientrada.net/wp-content/uploads/2025/04/Cartel-Bienal-2025-06-19-Lucia.jpg
END:VEVENT
END:VCALENDAR