BEGIN:VCALENDAR
VERSION:2.0
PRODID:-//mientrada.net - ECPv5.16.0//NONSGML v1.0//EN
CALSCALE:GREGORIAN
METHOD:PUBLISH
X-ORIGINAL-URL:https://www.mientrada.net
X-WR-CALDESC:Eventos para mientrada.net
REFRESH-INTERVAL;VALUE=DURATION:PT1H
X-Robots-Tag:noindex
X-PUBLISHED-TTL:PT1H
BEGIN:VTIMEZONE
TZID:Europe/Madrid
BEGIN:DAYLIGHT
TZOFFSETFROM:+0100
TZOFFSETTO:+0200
TZNAME:CEST
DTSTART:20220327T010000
END:DAYLIGHT
BEGIN:STANDARD
TZOFFSETFROM:+0200
TZOFFSETTO:+0100
TZNAME:CET
DTSTART:20221030T010000
END:STANDARD
END:VTIMEZONE
BEGIN:VEVENT
DTSTART;TZID=Europe/Madrid:20220930T210000
DTEND;TZID=Europe/Madrid:20220930T220000
DTSTAMP:20260421T070350
CREATED:20220822T094408Z
LAST-MODIFIED:20220930T105440Z
UID:13337-1664571600-1664575200@www.mientrada.net
SUMMARY:Amancio Prada – Libremente
DESCRIPTION:Pepe Romero Guitar Festival Málaga\n22/09/2022: Concierto de Aranjuez – Orquesta Filarmónica Málaga \n23/09/2022: Rafael Aguirre \n24/09/2022: Héctor Alterio & José L. Merlín – Como hace 3000 años \n25/09/2022: Daniel Casares \n28/09/2022: José Miguel Moreno \n30/09/2022:  Amancio Prada – Libremente \n \nAmancio Prada es memoria viva de España. Leyenda de la música española\, vuelve a Málaga tras varios años para regalarnos lo mejor de su repertorio junto a su guitarra\, de la que es un magnífico intérprete y que usa para componer y acompañar su gloriosa voz. Un concierto que dejará huella en su memoria en un marco incomparable como la Plaza de Armas del Castillo de Gibralfaro. \n  \nIMPORTANTE: Para los conciertos que se celebren en el Castillo de Gibralfaro no se permitirá la subida al mismo en vehículos privados ni el estacionamiento de los mismos en los márgenes de la carretera de acceso al Castillo los días de los conciertos allí programados. \nPor ello habrá un servicio gratuito de transporte de subida y bajada para el público asistente\, mediante autobuses – lanzadera\, con salida en el Pº de Reding\, esquina con C/Cervantes\, desde las 19:30 a las 20:30 horas y regreso al punto de origen al finalizar los conciertos. \n  \nPrograma de mano: clic aquí \n  \nPuede compartir este evento en:
URL:https://www.mientrada.net/evento/amancio-prada-libremente/
LOCATION:Castillo de Gibralfaro\, Camino Gibralfaro\, 11\, Málaga\, Málaga\, 29016\, España
CATEGORIES:Castillo de Gibralfaro Málaga,Málaga,Pepe Romero Guitar Festival
ATTACH;FMTTYPE=image/png:https://www.mientrada.net/wp-content/uploads/2022/08/A.png
END:VEVENT
END:VCALENDAR