BEGIN:VCALENDAR
VERSION:2.0
PRODID:-//mientrada.net - ECPv5.16.0//NONSGML v1.0//EN
CALSCALE:GREGORIAN
METHOD:PUBLISH
X-WR-CALNAME:mientrada.net
X-ORIGINAL-URL:https://www.mientrada.net
X-WR-CALDESC:Eventos para mientrada.net
REFRESH-INTERVAL;VALUE=DURATION:PT1H
X-Robots-Tag:noindex
X-PUBLISHED-TTL:PT1H
BEGIN:VTIMEZONE
TZID:Europe/Madrid
BEGIN:DAYLIGHT
TZOFFSETFROM:+0100
TZOFFSETTO:+0200
TZNAME:CEST
DTSTART:20220327T010000
END:DAYLIGHT
BEGIN:STANDARD
TZOFFSETFROM:+0200
TZOFFSETTO:+0100
TZNAME:CET
DTSTART:20221030T010000
END:STANDARD
END:VTIMEZONE
BEGIN:VEVENT
DTSTART;TZID=Europe/Madrid:20221022T200000
DTEND;TZID=Europe/Madrid:20221022T213000
DTSTAMP:20260426T020046
CREATED:20220929T092143Z
LAST-MODIFIED:20221006T085209Z
UID:14031-1666468800-1666474200@www.mientrada.net
SUMMARY:Un Atípico Quarteto Lírico
DESCRIPTION:PROGRAMA \nIntermedio (Fedora) – Por el humo se sabe… – (Doña Francisquita) – Canción del gitano – Borrico (Linda Tapada) – Dúo Elixir D’Amour (Donizetti) – Dúo Querubini y Giussepini (El dúo de la africana) – La Calumnia (Rosini) – Nessum Dorma – (Rigoletto) – Intermezzo (La Traviata) – Granada (Lara) – Plasir d’Amour (J. Martini) – Tres morillas (Garcia Lorca) – O del mío amato ben (Donaudy) – Tercetto Este es el sitio (Barberillo de Lavapies) – Madrid\, Madrid\, Madrid (A. Lara) – Del cabello más sutil (Obradors) – Le van a oír (Dúo Doña Francisquita-A. Vives). – Final Traviata. \n  \n¡Solo para gente hedonista! \nCuatro grandes artistas pondrán el broche de oro a este atípico otoño. Un instrumento\, cuatro voces\, una aterciopelada escenografía y una delicada iluminación serán los elementos principales del show. Entre sus líneas melódicas no solo sonarán compositores de ópera\, música clásica o española como Granados o Mozart\, también tendrán cabida algunos autores y poetas como Mario Benedetti y Gioconda Belli. \nEste Atípico Quarteto Lírico\, ligado a los tiempos que corren\, rescatará por unos instantes las bellas armonías de los compositores más criticados y halagados. De esta forma\, sólo se recomienda asistir para volver a sentir y disfrutar del mágico sentimiento eufórico del placer. \n  \nCOMPONENTES: \n\nLuca Espinosa\nJosé Manuel Más\nJavier Rubio\nAdrián Quiñones\nShlomo Rodríguez\n\n  \nPuede compartir el evento en:
URL:https://www.mientrada.net/evento/un-atipico-quarteto-lirico/
LOCATION:Centro Cultural Vicente Aleixandre\, Calle Jabalcuza\, 9\, Alhaurín de la Torre\, 29130\, España
CATEGORIES:Alhaurín de la Torre,Centro Cultural Vicente Aleixandre,Concierto
ATTACH;FMTTYPE=image/jpeg:https://www.mientrada.net/wp-content/uploads/2022/09/22_10_22-Un-atipico-cuarteto-lirico-1.jpeg
END:VEVENT
BEGIN:VEVENT
DTSTART;TZID=Europe/Madrid:20221031T200000
DTEND;TZID=Europe/Madrid:20221031T213000
DTSTAMP:20260426T020047
CREATED:20221020T090017Z
LAST-MODIFIED:20221020T092030Z
UID:14272-1667246400-1667251800@www.mientrada.net
SUMMARY:Don Juan Tenorio - José Zorrilla
DESCRIPTION:Amarillo Producciones. \nDon Juan Tenorio y don Luis Mejía\, dos galanes\, dos aventureros\, dos seductores sin principios\, salvo los bizarros del amor y de la guerra\, rivalizan sobre sus conquistas. Un desafío que salta por encima de los límites concebibles. Don Juan\, que seduce doña Inés tras burlar a su rival seduciendo también a su futura esposa\, pondrá en la balanza de su apuesta incluso su vida al ser sorprendido por la aparición del amor hacia la joven novicia. En una atmósfera sensual que la ciudad de Sevilla potencia\, entre los símbolos de la muerte que la iconografía hispana pone a disposición del drama\, asistimos a un canto al amor y a la vida sustentado por el arrepentimiento y el concepto cristiano del perdón. \nHace doscientos años don José Zorrilla supo trasladar a la escena magistralmente esta historia de burladores que siglos atrás ya venía emocionando al público. Con ese objetivo\, emocionar\, y con el gozo de disfrutar de unos versos que son inmortales en nuestro teatro\, ponemos a su disposición este Don Juan Tenorio. \nAutor: José Zorrilla\nVersión: Miguel Murillo\nCon: Guillermo Serrano\, Ana Batuecas\, Fermín Núñez\, Francis Lucas\, Rafa Núñez\, Memé Tabares\, Juan Carlos Castillejo\, Javier Herrera\, Elena de Miguel y Gema González\nDirección: Pedro A. Penco \n  \nPremiso al mejor espectáculo\, mejor dirección\, mejor actor de reparto y premio del público en el XX Certamen nacional de teatro Garnacha de Rioja. Esta producción fue seleccionada para ser el Don Juan en Alcalá de Henares de 2017\, donde pudieron disfrutarla más de 30.000 personas. \n  \nPuede compartir este evento en:
URL:https://www.mientrada.net/evento/don-juan-tenorio-jose-zorrilla/
LOCATION:Centro Cultural Vicente Aleixandre\, Calle Jabalcuza\, 9\, Alhaurín de la Torre\, 29130\, España
CATEGORIES:Alhaurín de la Torre,Centro Cultural Vicente Aleixandre,Teatro
ATTACH;FMTTYPE=image/png:https://www.mientrada.net/wp-content/uploads/2022/10/Don-Juan-Tenorio.png
END:VEVENT
END:VCALENDAR