BEGIN:VCALENDAR
VERSION:2.0
PRODID:-//mientrada.net - ECPv5.16.0//NONSGML v1.0//EN
CALSCALE:GREGORIAN
METHOD:PUBLISH
X-WR-CALNAME:mientrada.net
X-ORIGINAL-URL:https://www.mientrada.net
X-WR-CALDESC:Eventos para mientrada.net
REFRESH-INTERVAL;VALUE=DURATION:PT1H
X-Robots-Tag:noindex
X-PUBLISHED-TTL:PT1H
BEGIN:VTIMEZONE
TZID:Europe/Madrid
BEGIN:DAYLIGHT
TZOFFSETFROM:+0100
TZOFFSETTO:+0200
TZNAME:CEST
DTSTART:20230326T010000
END:DAYLIGHT
BEGIN:STANDARD
TZOFFSETFROM:+0200
TZOFFSETTO:+0100
TZNAME:CET
DTSTART:20231029T010000
END:STANDARD
END:VTIMEZONE
BEGIN:VEVENT
DTSTART;TZID=Europe/Madrid:20230514T190000
DTEND;TZID=Europe/Madrid:20230514T203000
DTSTAMP:20260425T150925
CREATED:20230405T162440Z
LAST-MODIFIED:20230424T155446Z
UID:18960-1684090800-1684096200@www.mientrada.net
SUMMARY:A Gaya - Antonia Jiménez & Inma La Carbonera
DESCRIPTION:VIII Bienal de Arte Flamenco de Málaga. \nLa propuesta es una idea original de Inma La Carbonera\, en el que Antonia Jiménez\, basándose en un proceso de investigación en músicas antiguas\, ha musicalizado versos de Lorca hasta ahora nunca cantados en el flamenco y que cobran una nueva dimensión en la maravillosa voz de la cantaora\, Inma La Carbonera. \nEn palabras de La Carbonera\, A Gaya es la expresión de una idea\, una emoción: “La mujer es la madre de la humanidad\, de todos los hombres y mujeres de La Tierra. La Mujer\, la madre\, es la voz\, el cante. La Tierra\, es la guitarra… el tiempo. Mujer y Tierra\, la evolución de ambas a través del tiempo\, eso es A Gaya. \nA Gaya hace referencia a la fuerza de la mujer y la importancia de la tierra que es la madre La madre tierra es el sustento\, el útero en el que se conforma la vida y el regazo donde los seres vivos cumplen el ciclo de su existencia al igual que la mujer tallece en lo profundo de su esencia. \n  \nFICHA ARTÍSTICA: \n\nCante: Inma La Carbonera\nGuitarra: Antonia Jiménez\n\n  \nPROGRAMA: \nMariana «la colorá»\nRomance «dos hermanas»\nTangos «la gema de oriente»\nPetenera “materna”\nTanguillo «Candié»\nAlegrías de Córdoba\nSoleá por bulerías\nSerrana \n  \nPrecio: 10€ \n  \nPuede compartir este evento en:
URL:https://www.mientrada.net/evento/bienal-flamenco-malaga-a-gaya/
LOCATION:Centro Cultural Vicente Aleixandre\, Calle Jabalcuza\, 9\, Alhaurín de la Torre\, 29130\, España
CATEGORIES:Alhaurín de la Torre,Centro Cultural Vicente Aleixandre,Flamenco,VIII Bienal de Arte Flamenco de Málaga
ATTACH;FMTTYPE=image/jpeg:https://www.mientrada.net/wp-content/uploads/2023/04/arc_398023_g.jpg
END:VEVENT
END:VCALENDAR