BEGIN:VCALENDAR
VERSION:2.0
PRODID:-//mientrada.net - ECPv5.16.0//NONSGML v1.0//EN
CALSCALE:GREGORIAN
METHOD:PUBLISH
X-ORIGINAL-URL:https://www.mientrada.net
X-WR-CALDESC:Eventos para mientrada.net
REFRESH-INTERVAL;VALUE=DURATION:PT1H
X-Robots-Tag:noindex
X-PUBLISHED-TTL:PT1H
BEGIN:VTIMEZONE
TZID:Europe/Madrid
BEGIN:DAYLIGHT
TZOFFSETFROM:+0100
TZOFFSETTO:+0200
TZNAME:CEST
DTSTART:20230326T010000
END:DAYLIGHT
BEGIN:STANDARD
TZOFFSETFROM:+0200
TZOFFSETTO:+0100
TZNAME:CET
DTSTART:20231029T010000
END:STANDARD
END:VTIMEZONE
BEGIN:VEVENT
DTSTART;TZID=Europe/Madrid:20231007T193000
DTEND;TZID=Europe/Madrid:20231007T193000
DTSTAMP:20260425T011232
CREATED:20220517T084920Z
LAST-MODIFIED:20230918T170107Z
UID:79647-1696707000-1696707000@www.mientrada.net
SUMMARY:La sombra de doña Inés
DESCRIPTION:Maynake Teatro. \nLa sombra de Doña Inés es una adaptación sobre una parte de la obra teatral Don Juan Tenorio de José Zorrilla. Concretamente abordamos la Parte II del conocido texto. Tratándose de un drama tan conocido y representado hemos podido centrarnos en unas escenas concretas dando por hecho que el espectador sabe de donde viene el conflicto que representamos. Enmarcado en el movimiento romántico que vivió el autor\, Zorrilla recoge toda la esencia del mito del siglo de oro dándole un final más acorde a su ideología. Patriota y católico\, José de Zorrilla envía a Don Juan al purgatorio a diferencia de otros autores que trabajaron el mítico personaje de la escena española. \nTras innumerables maldades y muertes de amigos de mi niñez\, o testigos de mi audacia y mi valor\, Don Juan Tenorio vuelve a Sevilla cinco años después de haber huído. A su regreso encuentra un panteón construido donde estuviera su casa y\, en su interior\, la tumba de Doña Inés que murió de pena en su ausencia. Los espectros de Don Gonzalo de Ulloa y Doña Inés visitan allí a Tenorio para: llevarlo consigo al infierno el uno\, y concederle la salvación la otra. \n  \nFicha artística y técnica: \n\nDon Juan Tenorio: Antonio Ángel\nDoña Inés: Inmaculada Asín / Elízabet Domínguez\nDon Gonzalo de Ulloa: Santiago Messa\nEl espectro de Don Juan: María José Becerra\nEscultor: Carlos Messa\nCiutti: Encarni Alba\nCapitán Centellas: Joaquín Cortés\nAvellaneda: Fernando Montero\nControl técnico: Nuria Ogalla y Manolo González\nDiseño iluminación: Fran Burgos\nVestuario: María José Macías\, M. José Becerra\, Encarni Alba\nDirección: Fernando Montero\n\n  \nPrecio: 5 euros \n  \nGénero: drama\nDuración: 60 minutos\nEdad recomendada: a partir de 14 años \n  \nPuede compartir este evento en:
URL:https://www.mientrada.net/evento/alhaurin-torre-sombra-dona-ines/
LOCATION:Centro Cultural Vicente Aleixandre\, Calle Jabalcuza\, 9\, Alhaurín de la Torre\, 29130\, España
CATEGORIES:Alhaurín de la Torre,Centro Cultural Vicente Aleixandre,Teatro
ATTACH;FMTTYPE=image/jpeg:https://www.mientrada.net/wp-content/uploads/2022/05/Cartel-general-Sombra-Ines.jpg
END:VEVENT
BEGIN:VEVENT
DTSTART;TZID=Europe/Madrid:20231027T200000
DTEND;TZID=Europe/Madrid:20231027T200000
DTSTAMP:20260425T011232
CREATED:20231016T072706Z
LAST-MODIFIED:20231016T090057Z
UID:79916-1698436800-1698436800@www.mientrada.net
SUMMARY:Soul Station - Alhaurín Suena en Femenino
DESCRIPTION:Soul Station es una Banda llena de ganas y pasión por la música Soul\, Rock\, interpretan de Canciones de artistas como: Otis Redding\, Aretha Franklin\, Amy Winehouse\, Erikah Badu… Transmiten un Feeling y modo de sentir el soul único en todos sus conciertos. \nTomás Sánchez: guitarra\nIrene Martínez: saxo\nNoemi Moncrief: voz\nSr. Josete: bajo\nBelinda Conde: batería \n  \nPuede compartir este evento en:
URL:https://www.mientrada.net/evento/soul-station-alhaurin-suena-en-femenino/
LOCATION:Centro Cultural Vicente Aleixandre\, Calle Jabalcuza\, 9\, Alhaurín de la Torre\, 29130\, España
CATEGORIES:Alhaurín de la Torre,Alhaurín suena en Femenino,Centro Cultural Vicente Aleixandre
ATTACH;FMTTYPE=image/jpeg:https://www.mientrada.net/wp-content/uploads/2023/10/Cartel-Soul-Station.jpg
END:VEVENT
BEGIN:VEVENT
DTSTART;TZID=Europe/Madrid:20231028T200000
DTEND;TZID=Europe/Madrid:20231028T200000
DTSTAMP:20260425T011232
CREATED:20230918T173600Z
LAST-MODIFIED:20231016T154654Z
UID:79652-1698523200-1698523200@www.mientrada.net
SUMMARY:Guillermo Klein Septet
DESCRIPTION:Amantes del jazz y apasionados de la música en vivo\, prepárense para una experiencia única. Les presentamos a un extraordinario Septeto de Jazz liderado por Guillermo Klein\, pianista y compositor conocido por sus conceptos armónicos y estilísticos muy originales\, que nos cautivará con un grupo formado por maestros de la improvisación y la creatividad musical\, ellos ofrecerán un concierto de una calidad impresionante al que nadie debe faltar. \n  \nPuede compartir este evento en:
URL:https://www.mientrada.net/evento/guillermo-klein-septet/
LOCATION:Centro Cultural Vicente Aleixandre\, Calle Jabalcuza\, 9\, Alhaurín de la Torre\, 29130\, España
CATEGORIES:Alhaurín de la Torre,Centro Cultural Vicente Aleixandre,Jazz
ATTACH;FMTTYPE=image/jpeg:https://www.mientrada.net/wp-content/uploads/2023/09/Cartel-Guillermo-Klein-Septet.jpg
END:VEVENT
END:VCALENDAR