BEGIN:VCALENDAR
VERSION:2.0
PRODID:-//mientrada.net - ECPv5.16.0//NONSGML v1.0//EN
CALSCALE:GREGORIAN
METHOD:PUBLISH
X-WR-CALNAME:mientrada.net
X-ORIGINAL-URL:https://www.mientrada.net
X-WR-CALDESC:Eventos para mientrada.net
REFRESH-INTERVAL;VALUE=DURATION:PT1H
X-Robots-Tag:noindex
X-PUBLISHED-TTL:PT1H
BEGIN:VTIMEZONE
TZID:Europe/Madrid
BEGIN:DAYLIGHT
TZOFFSETFROM:+0100
TZOFFSETTO:+0200
TZNAME:CEST
DTSTART:20230326T010000
END:DAYLIGHT
BEGIN:STANDARD
TZOFFSETFROM:+0200
TZOFFSETTO:+0100
TZNAME:CET
DTSTART:20231029T010000
END:STANDARD
END:VTIMEZONE
BEGIN:VEVENT
DTSTART;TZID=Europe/Madrid:20231209T200000
DTEND;TZID=Europe/Madrid:20231209T200000
DTSTAMP:20260424T221046
CREATED:20231016T073025Z
LAST-MODIFIED:20231016T090243Z
UID:79921-1702152000-1702152000@www.mientrada.net
SUMMARY:María Esther Quartet - Alhaurín suena en Femenino
DESCRIPTION:María Esther García es una saxofonista de jazz que ha cautivado a su público con su increíble talento y su pasión por la música. Desde muy joven\, supo que su vocación estaba en el mundo de la música\, por lo que comenzó sus estudios en la escuela municipal de música de su municipio. Su habilidad y dedicación la llevaron a continuar su formación en el Conservatorio Profesional Martín Tenllado\, donde obtuvo el título de grado medio en la especialidad de clarinete clásico. Sin embargo\, su verdadera pasión siempre fue el jazz\, un género que la atrapó desde sus primeros acordes. \nSiempre inmersa en el entorno del jazz\, María Esther participó en diversos seminarios de jazz y música moderna con reconocidos profesores como Seamus Blake\, Ralph Moore y Eric Alexander. Estas experiencias la enriquecieron enormemente y la ayudaron a consolidar su estilo propio y su identidad como artista. \nActualmente\, María Esther ha completado su formación musical becada por la Fundación Ferrer-Salat en el Conservatori Liceu de Barcelona\, donde sigue perfeccionando sus habilidades y explorando nuevas posibilidades sonoras. Su objetivo es seguir evolucionando como músico y continuar compartiendo su música con el mundo. \nHa sido finalista en el Concurso Nacional de Jazz de Talavera de la Reina\, y Portón del jazz\, además de participar en muchos Festivales de jazz en España y también en Roma. \n  \nPuede compartir este evento en:
URL:https://www.mientrada.net/evento/maria-esther-quartet-alhaurin-suena-en-femenino/
LOCATION:Centro Cultural Vicente Aleixandre\, Calle Jabalcuza\, 9\, Alhaurín de la Torre\, 29130\, España
CATEGORIES:Alhaurín de la Torre,Alhaurín suena en Femenino,Centro Cultural Vicente Aleixandre
ATTACH;FMTTYPE=image/jpeg:https://www.mientrada.net/wp-content/uploads/2023/10/Cartel-Maria-Esther.jpg
END:VEVENT
END:VCALENDAR