BEGIN:VCALENDAR
VERSION:2.0
PRODID:-//mientrada.net - ECPv5.16.0//NONSGML v1.0//EN
CALSCALE:GREGORIAN
METHOD:PUBLISH
X-ORIGINAL-URL:https://www.mientrada.net
X-WR-CALDESC:Eventos para mientrada.net
REFRESH-INTERVAL;VALUE=DURATION:PT1H
X-Robots-Tag:noindex
X-PUBLISHED-TTL:PT1H
BEGIN:VTIMEZONE
TZID:Europe/Madrid
BEGIN:DAYLIGHT
TZOFFSETFROM:+0100
TZOFFSETTO:+0200
TZNAME:CEST
DTSTART:20240331T010000
END:DAYLIGHT
BEGIN:STANDARD
TZOFFSETFROM:+0200
TZOFFSETTO:+0100
TZNAME:CET
DTSTART:20241027T010000
END:STANDARD
END:VTIMEZONE
BEGIN:VEVENT
DTSTART;TZID=Europe/Madrid:20240113T200000
DTEND;TZID=Europe/Madrid:20240113T200000
DTSTAMP:20260424T204745
CREATED:20231016T085807Z
LAST-MODIFIED:20231016T090313Z
UID:79929-1705176000-1705176000@www.mientrada.net
SUMMARY:Belén Vega - Alhaurín suena en Femenino
DESCRIPTION:Belén Vega\, cantaora y profesora de cante flamenco en el Conservatorio “Comandante Fortea” de Madrid . Máster en Investigación y Análisis del Flamenco por la UCA y Máster en Investigación Musical por la Universidad Internacional de Valencia. En la actualidad\, compagina su labor artística con su labor docente. Se ve involucrada en el mundo del flamenco desde la cuna\, gracias a sus padres que siempre mostraron afición a este arte. En el año 2008 con tan solo 14 años\, comienza a participar en diversas actuaciones como cantaora solista por las peñas\, festivales y concursos de flamenco de todo el territorio español\, participando más tarde también como cantaora para acompañar al baile. A su corta edad\, ya ha compartido cartel con cantaores de la talla de Jesús Méndez\, Pedro el Granaíno\, Carmen Linares\, La Macanita\, El Cabrero\, etc. También ha actuado en lugares como Lyon (Francia)\, Zanzibar (Tanzania) y cabe destacar su pasada actuación en el XXVIII Festival Flamenco de Nîmes (Francia)\, o la participación con la Compañía Renacer Flamenco en Latina (Italia). \nBelén Vega se encuentra en un constante estudio e investigación de la interpretación flamenca\, siendo su mayor pasión el vínculo que se crea entre el cantaor y el público que escucha. Premios destacados: 2023: 1º Premio Torre del Cante “Alhaurín de la Torre” 2023: 1º Premio Certamen “Flamencos y Mestizos” Ciudad de Úbeda 2018: «Premio extraordinario fin de estudios» por el Conservatorio Superior de Música “Rafael Orozco” de Córdoba. 2018: 1er Premio en el XIX Concurso Nacional de Cante Flamenco “El Candil” de Manlleu. 2012 / 2013: 1er Premio Provincial en la III y IV Edición del Certamen Andaluz de Jóvenes Flamencos. 2011: 1er Premio en el XIX Concurso de Cante de las Minas de Cataluña. \nBelén Vega: cante\nRubén Portillo: guitarra \n  \nPuede compartir este evento en:
URL:https://www.mientrada.net/evento/belen-vega-alhaurin-suena-en-femenino/
LOCATION:Centro Cultural Vicente Aleixandre\, Calle Jabalcuza\, 9\, Alhaurín de la Torre\, 29130\, España
CATEGORIES:Alhaurín de la Torre,Alhaurín suena en Femenino,Centro Cultural Vicente Aleixandre
ATTACH;FMTTYPE=image/jpeg:https://www.mientrada.net/wp-content/uploads/2023/10/Cartel-Belen-Vega.jpg
END:VEVENT
BEGIN:VEVENT
DTSTART;TZID=Europe/Madrid:20240126T193000
DTEND;TZID=Europe/Madrid:20240126T193000
DTSTAMP:20260424T204745
CREATED:20240116T134443Z
LAST-MODIFIED:20240116T135938Z
UID:80706-1706297400-1706297400@www.mientrada.net
SUMMARY:AMAT - 25 Aniversario y Presentación Torre de Coplas
DESCRIPTION:La Asociación de Mujeres por Alhaurín de la Torre (AMAT) celebra su 25º Aniversario y quiere celebrarlo con todos vosotros. \nEste año se aúnan el 25º Aniversario de la Asociación y el 20º Certamen Torre de Coplas\, y con este motivo de celebración tiene lugar este evento en el que se presentará el Cartel anunciador del Certamen Torre de Coplas de este año 2024. Un evento donde tendremos como artista invitado a Juanlu Campayo\, un artista jienense polifacético que asentó su carrera profesional en programas de televisión como «Se llama Copla» y «Original y Copla»\, siendo finalista en ambas ediciones. \nTambién tendremos una breve representación teatral donde se podrá conocer parte de la labor social que realiza la Asociación a lo largo del año. Y finalizaremos con un pequeño Ágape con historia en el mismo recinto\, donde el público y las socias podrán conversar y comentar en un ambiente relajado y rodeado de la historia del Certamen Torre de Coplas y de la Asociación AMAT. \nSe trata de un evento totalmente benéfico y toda la recaudación será destinada a las labores sociales de la Asociación. \n¡Os esperamos! \n  \nPuede compartir este evento en:
URL:https://www.mientrada.net/evento/amat-25-aniversario-y-presentacion-torre-de-coplas/
LOCATION:Centro Cultural Vicente Aleixandre\, Calle Jabalcuza\, 9\, Alhaurín de la Torre\, 29130\, España
CATEGORIES:Alhaurín de la Torre,Centro Cultural Vicente Aleixandre
ATTACH;FMTTYPE=image/jpeg:https://www.mientrada.net/wp-content/uploads/2024/01/Cartel-Amat-5-Aniversario.jpg
END:VEVENT
BEGIN:VEVENT
DTSTART;TZID=Europe/Madrid:20240127T200000
DTEND;TZID=Europe/Madrid:20240127T200000
DTSTAMP:20260424T204745
CREATED:20231016T073333Z
LAST-MODIFIED:20231017T091120Z
UID:79923-1706385600-1706385600@www.mientrada.net
SUMMARY:Elvira Montoya - Alhaurín suena en Femenino
DESCRIPTION:Elvira Montoya García Nacida en Málaga\, concluye en 2018 la titulación Superior de Música en la especialidad de clarinete en el Conservatorio Superior de Música de Málaga. Amplía su formación con el Máster de Interpretación de la Universidad de Évora (Portugal) con el profesor Luis Gomes\, así como con el Máster de Profesorado en Educación Secundaria en la especialidad de música en la Universidad de Málaga. Ha colaborado con la Orquesta Sinfónica Provincial de Málaga y la Orquesta Filarmónica de Málaga\, y ha formado parte de la plantilla la Banda Sinfónica Municipal de Sevilla y la Banda Municipal de Música de Málaga. Ha obtenido diversos premios en concursos internacionales de clarinete\, y en 2023 obtiene la plaza de profesora en la especialidad de clarinete en el cuerpo de profesores de conservatorio de la Junta de Andalucía. \nVíctor López Rodríguez Cursa sus estudios Superiores de Música de piano y órgano en su ciudad natal\, Málaga. Completa su formación académica con el Máster de Investigación Musical en la Universidad Internacional de Valencia\, y actualmente se encuentra realizando su Tesis Doctoral en la Universidad de Filosofía y Letras de Granada. En 2020 obtiene la plaza de Catedrático en la especialidad de Repertorio con Pianista acompañante en el Conservatorio Superior de Música de Málaga. Destaca su actividad en el ámbito de la música de cámara con clarinete\, realizando giras de conciertos por diferentes países europeos. A su vez\, participa activamente en la difusión de la música contemporánea\, realizando diversas grabaciones y ciclos de conciertos. \n  \nPuede compartir este evento en:
URL:https://www.mientrada.net/evento/elvira-montoya-alhaurin-suena-en-femenino/
LOCATION:Centro Cultural Vicente Aleixandre\, Calle Jabalcuza\, 9\, Alhaurín de la Torre\, 29130\, España
CATEGORIES:Alhaurín de la Torre,Alhaurín suena en Femenino,Centro Cultural Vicente Aleixandre
ATTACH;FMTTYPE=image/jpeg:https://www.mientrada.net/wp-content/uploads/2023/10/Cartel-Elvira-Montoya.jpg
END:VEVENT
END:VCALENDAR