BEGIN:VCALENDAR
VERSION:2.0
PRODID:-//mientrada.net - ECPv5.16.0//NONSGML v1.0//EN
CALSCALE:GREGORIAN
METHOD:PUBLISH
X-WR-CALNAME:mientrada.net
X-ORIGINAL-URL:https://www.mientrada.net
X-WR-CALDESC:Eventos para mientrada.net
REFRESH-INTERVAL;VALUE=DURATION:PT1H
X-Robots-Tag:noindex
X-PUBLISHED-TTL:PT1H
BEGIN:VTIMEZONE
TZID:Europe/Madrid
BEGIN:DAYLIGHT
TZOFFSETFROM:+0100
TZOFFSETTO:+0200
TZNAME:CEST
DTSTART:20240331T010000
END:DAYLIGHT
BEGIN:STANDARD
TZOFFSETFROM:+0200
TZOFFSETTO:+0100
TZNAME:CET
DTSTART:20241027T010000
END:STANDARD
END:VTIMEZONE
BEGIN:VEVENT
DTSTART;TZID=Europe/Madrid:20240301T200000
DTEND;TZID=Europe/Madrid:20240301T200000
DTSTAMP:20260424T145501
CREATED:20240208T114928Z
LAST-MODIFIED:20240209T115733Z
UID:81147-1709323200-1709323200@www.mientrada.net
SUMMARY:Efecto Mariposa
DESCRIPTION:Efecto Mariposa: Una Comedia sobre la Teoría del Caos se sumerge en la dinámica caótica de una familia durante una cena de Nochebuena. La trama toma un giro inesperado cuando Pedro propone utilizar un dado para decidir quién será el encargado de ir a la cocina y sacar la cena del horno. Este simple acto desencadena un fenómeno inusual: se despliegan seis líneas de tiempo diferentes\, cada una mostrando cómo el grupo se ve afectado por la ausencia de uno de sus miembros. A medida que las líneas temporales se despliegan\, los secretos de la familia emergen\, y las verdaderas intenciones de los personajes se revelan de manera sorprendente. La obra navega por las complejidades de las relaciones familiares\, llevando al público a través de situaciones cómicas\, emotivas y a veces desconcertantes. Las apariencias se desvanecen y las verdades incómodas salen a la luz\, desafiando las expectativas y llevando a la audiencia a un viaje inesperado. \nCon un toque humorístico y perspicaz\, «Efecto Mariposa» lleva al público a un viaje a través de las diferentes realidades creadas por el azar\, mostrando cómo las elecciones aparentemente insignificantes pueden desencadenar una serie de eventos impredecibles. La cena de Nochebuena se convierte así en un escenario revelador donde los lazos familiares se ponen a prueba y los protagonistas descubren que\, a veces\, la realidad es más extraña y reveladora de lo que podrían haber imaginado. \n  \nPuede compartir este evento en:
URL:https://www.mientrada.net/evento/efecto-mariposa-alhaurin-torre/
LOCATION:Centro Cultural Vicente Aleixandre\, Calle Jabalcuza\, 9\, Alhaurín de la Torre\, 29130\, España
CATEGORIES:Alhaurín de la Torre,Centro Cultural Vicente Aleixandre,Teatro
ATTACH;FMTTYPE=image/jpeg:https://www.mientrada.net/wp-content/uploads/2024/02/Cartel-Efecto-mariposa-Alh.Torre_.jpg
END:VEVENT
BEGIN:VEVENT
DTSTART;TZID=Europe/Madrid:20240314T200000
DTEND;TZID=Europe/Madrid:20240314T200000
DTSTAMP:20260424T145501
CREATED:20240219T194347Z
LAST-MODIFIED:20240219T195453Z
UID:81216-1710446400-1710446400@www.mientrada.net
SUMMARY:Salterios medievales
DESCRIPTION:Begoña Olavide y Carlos Paniagua nos proponen un recorrido histórico y musical sobre un notable instrumento desaparecido\, olvidado por el transcurrir del tiempo y ausente en museos y colecciones. La importancia del Salterio durante toda la Edad Media queda confirmada por la cantidad de representaciones en esculturas\, pinturas y miniaturas de códices en toda Europa que han llegado hasta nosotros\, especialmente por el Camino de Santiago. \nOlavide y Paniagua unen sus conocimientos y su larga experiencia en la recuperación de este instrumento medieval para realizar una ponencia/concierto\, donde presentan reproducciones de distintos tipos de salterios construidos en su taller de lutería de Mojácar\, explicando sus características\, mostrando imágenes y el peculiar sonido de cada uno de ellos. Interpretan una selección de obras del Códice Calixtino (s. XII)\, Cantigas de Amigo de Martín Codax (s. XIII)\, Cantigas de Alfonso X El Sabio (s. XIII)\, Al-Shustarî de Guadix (s.XIII). Músicas de la tradición oral de Al-Ándalus y del romancero antiguo español\, en suma. \n  \nEntrada con invitación\, a retirar en el Centro Cultural Vicente Aleixandre. \n  \nPuede compartir este evento en:
URL:https://www.mientrada.net/evento/salterios-medievales/
LOCATION:Centro Cultural Vicente Aleixandre\, Calle Jabalcuza\, 9\, Alhaurín de la Torre\, 29130\, España
CATEGORIES:Alhaurín de la Torre,Centro Cultural Vicente Aleixandre,Música
ATTACH;FMTTYPE=image/jpeg:https://www.mientrada.net/wp-content/uploads/2024/02/Cartel-Salterios-medievales.jpg
END:VEVENT
BEGIN:VEVENT
DTSTART;TZID=Europe/Madrid:20240315T200000
DTEND;TZID=Europe/Madrid:20240315T200000
DTSTAMP:20260424T145501
CREATED:20240214T123457Z
LAST-MODIFIED:20240214T123736Z
UID:81182-1710532800-1710532800@www.mientrada.net
SUMMARY:Orquesta de Flautas de Málaga 2024
DESCRIPTION:La OFMA (Orquesta de Flautas de Málaga) se conformó a mediados del año 2014\, bajo la denominación Orquesta de Flautas Martín Tenllado (OFMT)\, con la intención de dar la oportunidad a flautistas de participar en un tipo de agrupación instrumental poco usual. Esta agrupación la forman diferentes instrumentos de la familia de la flauta como son la flauta travesera\, el flautín\, la flauta contralto\, la flauta baja y la flauta contrabaja. Tiene como finalidad la difusión de la cultura musical y en especial la flautística\, así como el disfrute tanto de músicos como de oyentes. En el año 2020\, se decide conformar esta agrupación como Asociación ante la Junta de Andalucía bajo el nombre de Orquesta de Flautas de Málaga. \nEn la primera parte del concierto la OFMA ofrecerá la interpretación de obras musicales de diferentes estilos\, desde el clasicismo de Mozart hasta la sorprendente pieza de Gareth McLearnon que dará paso al descanso. Para la segunda parte\, la Orquesta interpretará una de las obras más conocidas del escritor Henrik Ibsen\, el poema dramático romántico «Peer Gynt». Bajo una cautivadora narración acompañada de imágenes escucharemos una de las músicas más interpretadas en los últimos tiempos. \n  \nPuede compartir este evento en:
URL:https://www.mientrada.net/evento/orquesta-flautas-malaga-2024/
LOCATION:Centro Cultural Vicente Aleixandre\, Calle Jabalcuza\, 9\, Alhaurín de la Torre\, 29130\, España
CATEGORIES:Alhaurín de la Torre,Centro Cultural Vicente Aleixandre,Música
ATTACH;FMTTYPE=image/jpeg:https://www.mientrada.net/wp-content/uploads/2024/02/Cartel-Orquesta-de-flautas-2024.jpg
END:VEVENT
BEGIN:VEVENT
DTSTART;TZID=Europe/Madrid:20240316T200000
DTEND;TZID=Europe/Madrid:20240316T200000
DTSTAMP:20260424T145501
CREATED:20240208T114928Z
LAST-MODIFIED:20240209T120311Z
UID:81156-1710619200-1710619200@www.mientrada.net
SUMMARY:Música de Cine
DESCRIPTION:Sesión Contínua en concierto. \nSesión Contínua es un proyecto musical que nace de la Asociación Lauro Musical de Alhaurín de la Torre\, el propósito no es otro que llevar la música más representativa del cine a un formato reducido\, contando con instrumentos como el violín\, la guitarra y el acordeón. El mundo de las Bandas Sonoras de películas es gigantesco\, mayormente es género orquestal\, nosotros hemos intentado adaptar y arreglar temas de grandes compositores como Ennio Morricone\, Hans Zimmer\, John Willians\, etc\, entre los cuales se podrían destacar películas como Amelie\, Gladiator\, la lista de Schindler\, etc. \n  \nJavier Santiago – Violín. \nProfesor de violín\, compositor\, arreglista\, letrista y guitarrista. En el campo de la música moderna\, formó parte de La Comparsa Electroacústica\, grupo orientado al rock progresivo con el que gana\, ex aequo con “Danza Invisible”\, el 1er Concurso Expo-juventud de Málaga. Ha compuesto para algunas producciones y performances teatrales con Anthares Teatro\, también las canciones para espectáculos infantiles (Anthares Teatro\, Alamar Teatro) y ha colaborado con el pintor Manuel Cabello. Miembro de Dunas (Tributo a Triana). \n  \nIsidro Tomé – Guitarra. \nEstudia con Antonio Losada y Pedro Blanco (profesor en la Peña «Juan Breva» y privadamente\, maestro de numerosos profesionales de la actualidad). Profesionalmente viene acompañando en ferias y actos. Junto a Andrew Maer forma dúo con actuaciones por la provincia de Málaga\, inaugurando conciertos en El Portón (actual Portón del Jazz) y en Canal sur televisión. Miembro de Dunas (Tributo a Triana). \n  \nJavier Flores – Acordeón. \nEstudios en el C.S.M. de Málaga de piano\, violoncello y composición\, presentando en estreno varias obras sinfónicas y de música de cámara. Cofundador de la Escuela de Música de Alh. De la Torre y autor de la música del himno oficial. Miembro fundador de los grupos Im-pulse (tributo a Pink Floyd) y Dunas (tributo a Triana). Ejerce como profesor numerario del Conservatorio. \n  \nDuración: 1 hora y cuarto. \n  \nPuede compartir este evento en:
URL:https://www.mientrada.net/evento/musica-de-cine-alhaurin-torre/
LOCATION:Centro Cultural Vicente Aleixandre\, Calle Jabalcuza\, 9\, Alhaurín de la Torre\, 29130\, España
CATEGORIES:Alhaurín de la Torre,Centro Cultural Vicente Aleixandre,Música
ATTACH;FMTTYPE=image/jpeg:https://www.mientrada.net/wp-content/uploads/2024/02/Cartel-Musica-de-cine.jpg
END:VEVENT
END:VCALENDAR