BEGIN:VCALENDAR
VERSION:2.0
PRODID:-//mientrada.net - ECPv5.16.0//NONSGML v1.0//EN
CALSCALE:GREGORIAN
METHOD:PUBLISH
X-ORIGINAL-URL:https://www.mientrada.net
X-WR-CALDESC:Eventos para mientrada.net
REFRESH-INTERVAL;VALUE=DURATION:PT1H
X-Robots-Tag:noindex
X-PUBLISHED-TTL:PT1H
BEGIN:VTIMEZONE
TZID:Europe/Madrid
BEGIN:DAYLIGHT
TZOFFSETFROM:+0100
TZOFFSETTO:+0200
TZNAME:CEST
DTSTART:20250330T010000
END:DAYLIGHT
BEGIN:STANDARD
TZOFFSETFROM:+0200
TZOFFSETTO:+0100
TZNAME:CET
DTSTART:20251026T010000
END:STANDARD
END:VTIMEZONE
BEGIN:VEVENT
DTSTART;TZID=Europe/Madrid:20250201T120000
DTEND;TZID=Europe/Madrid:20250201T120000
DTSTAMP:20260425T201447
CREATED:20240116T110639Z
LAST-MODIFIED:20250107T125537Z
UID:83980-1738411200-1738411200@www.mientrada.net
SUMMARY:La verdadera historia del Ratoncito Pérez
DESCRIPTION:XIX CICLO DE TEATRO INFANTIL 2025. \nCompañía La Fábrica de los Cuentos. \nComo cada noche Fito\, un pequeño ratón\, le pide a su abuelo que le cuente más historias sobre su superhéroe favorito\, El Ratoncito Pérez\, pero se hace tarde y tiene que dormir\, ya que al día siguiente tiene cole. A Fito no le gusta mucho el cole\, pero no porque no le guste estudiar\, sino porque allí está Nelson\, el abusón\, un compañero con mal carácter que le humilla y le quita su bocadillo todos los días. \nSin embargo Fito conocerá a su compañera ideal\, la pájara Loreto que le contará un secreto que cambiará por completo su vida: ¡Su abuelo es el verdadero Ratón Pérez! Esa misma noche\, su abuelo fue descubierto por un niño cuando cambiaba su diente por una moneda\, y será Fito\, junto con su nueva amiga Loreto\, quien se tendrá que encargar de salvar a su abuelo. \n  \nPuede compartir este evento en:
URL:https://www.mientrada.net/evento/teatro-infantil-2025-ratoncito-perez/
LOCATION:Centro Cultural Vicente Aleixandre\, Calle Jabalcuza\, 9\, Alhaurín de la Torre\, 29130\, España
CATEGORIES:Alhaurín de la Torre,Centro Cultural Vicente Aleixandre,Ciclo Teatro Infantil Alh. de la Torre
ATTACH;FMTTYPE=image/jpeg:https://www.mientrada.net/wp-content/uploads/2024/01/Cartel-Ratoncito-Perez.jpg
END:VEVENT
BEGIN:VEVENT
DTSTART;TZID=Europe/Madrid:20250207T200000
DTEND;TZID=Europe/Madrid:20250207T200000
DTSTAMP:20260425T201447
CREATED:20240214T123457Z
LAST-MODIFIED:20250124T171134Z
UID:83998-1738958400-1738958400@www.mientrada.net
SUMMARY:Orquesta de Flautas de Málaga 2025
DESCRIPTION:La OFMA (Orquesta de Flautas de Málaga) se conformó a mediados del año 2014\, bajo la denominación Orquesta de Flautas Martín Tenllado (OFMT)\, con la intención de dar la oportunidad a flautistas de participar en un tipo de agrupación instrumental poco usual. Esta agrupación la forman diferentes instrumentos de la familia de la flauta como son la flauta travesera\, el flautín\, la flauta contralto\, la flauta baja y la flauta contrabaja. Tiene como finalidad la difusión de la cultura musical y en especial la flautística\, así como el disfrute tanto de músicos como de oyentes. En el año 2020\, se decide conformar esta agrupación como Asociación ante la Junta de Andalucía bajo el nombre de Orquesta de Flautas de Málaga. \n  \nPuede compartir este evento en:
URL:https://www.mientrada.net/evento/orquesta-flautas-malaga-2025/
LOCATION:Centro Cultural Vicente Aleixandre\, Calle Jabalcuza\, 9\, Alhaurín de la Torre\, 29130\, España
CATEGORIES:Alhaurín de la Torre,Centro Cultural Vicente Aleixandre,Música
ATTACH;FMTTYPE=image/jpeg:https://www.mientrada.net/wp-content/uploads/2024/02/Cartel-Orquesta-de-flautas-27-02-2025.jpg
END:VEVENT
BEGIN:VEVENT
DTSTART;TZID=Europe/Madrid:20250208T120000
DTEND;TZID=Europe/Madrid:20250208T120000
DTSTAMP:20260425T201447
CREATED:20240116T110639Z
LAST-MODIFIED:20250107T125839Z
UID:83988-1739016000-1739016000@www.mientrada.net
SUMMARY:Doble Burbuja
DESCRIPTION:XIX CICLO DE TEATRO INFANTIL 2025. \nCompañía 7 burbujas.\nEspectáculo familiar de pompas de jabón y clown. \nBienvenidas y bienvenidos a nuestra loca comedia de pompas de jabón donde el público es protagonista clave. Con ella hemos recorrido innumerables aventuras\, despertando la magia en grandes y pequeños y desarrollando un lenguaje común a todos\, la alegría de la vida que nos une. Con el juego y la creación de nuevas imágenes y texturas en el juego dramático\, BURBUJA siempre recibe sonrisas y aplausos entusiastas. Porque una burbuja vale más que mil palabras\, no pierdas la ocasión de verla. Y recuerda que\, aunque las pompas de jabón desaparezcan\, su belleza y su magia podemos guardarlas para siempre. \n  \nPuede compartir este evento en:
URL:https://www.mientrada.net/evento/teatro-infantil-2025-doble-burbuja/
LOCATION:Centro Cultural Vicente Aleixandre\, Calle Jabalcuza\, 9\, Alhaurín de la Torre\, 29130\, España
CATEGORIES:Alhaurín de la Torre,Centro Cultural Vicente Aleixandre,Ciclo Teatro Infantil Alh. de la Torre
ATTACH;FMTTYPE=image/jpeg:https://www.mientrada.net/wp-content/uploads/2024/01/Cartel-Burbuja.jpg
END:VEVENT
BEGIN:VEVENT
DTSTART;TZID=Europe/Madrid:20250215T120000
DTEND;TZID=Europe/Madrid:20250215T120000
DTSTAMP:20260425T201447
CREATED:20240116T110639Z
LAST-MODIFIED:20250107T130348Z
UID:83989-1739620800-1739620800@www.mientrada.net
SUMMARY:Baby-Lonia
DESCRIPTION:XIX CICLO DE TEATRO INFANTIL 2025. \nCompañía Petit Teatro.\nTeatro para bebés y primera infancia (de 9 meses a 5 años). \nBaby-Lonia conjuga la música\, la danza y las marionetas. Las texturas\, los colores y las formas llevarán a los pequeños a una ilusión compartida con los mayores. Baby-Lonia nos muestra un día cualquiera en un lugar de juego donde ocurrirán situaciones mágicas\, divertidas\, acercándonos\, con amor\, al mundo de la Naturaleza\, de los Animales\, de los Sueños\, del Circo y del Espacio. Desde el amanecer hasta el anochecer ocurrirán cosas sorprendentes en Baby-Lonia. Su personaje principal\, Conejo\, conocerá a Pájaro\, a Sol\, a Luna y jugará con las Estrellas. \n  \nPuede compartir este evento en:
URL:https://www.mientrada.net/evento/teatro-infantil-2025-baby-lonia/
LOCATION:Centro Cultural Vicente Aleixandre\, Calle Jabalcuza\, 9\, Alhaurín de la Torre\, 29130\, España
CATEGORIES:Alhaurín de la Torre,Centro Cultural Vicente Aleixandre,Ciclo Teatro Infantil Alh. de la Torre
ATTACH;FMTTYPE=image/jpeg:https://www.mientrada.net/wp-content/uploads/2024/01/Cartel-Babylonia.jpg
END:VEVENT
BEGIN:VEVENT
DTSTART;TZID=Europe/Madrid:20250221T200000
DTEND;TZID=Europe/Madrid:20250221T200000
DTSTAMP:20260425T201447
CREATED:20241022T161812Z
LAST-MODIFIED:20241115T113555Z
UID:83445-1740168000-1740168000@www.mientrada.net
SUMMARY:Dúo Tonali en concierto
DESCRIPTION:Tonali (que significa “luz del sol” en el idioma Nahuatl Azteca) es un dúo con sede en Ámsterdam formado por la flautista italo-española Alice Allegri y la marimbista mexicana Wendy Palomeque. Ambas son apasionadas de la música de cámara y del descubrimiento de nuevo repertorio y les encanta crear programas de conciertos que cuenten historias. Con su música y su elocuente presentación\, guían al público a través de un programa cautivador\, que puede abarcar desde la música tradicional de América Latina\, piezas originalmente escritas para dúo de marimba y flauta o arreglos de obras del repertorio clásico. Este proyecto aporta una dimensión estilística única al repertorio de flauta y marimba. \nWendy Palomeque nació y creció en Chiapas\, en el sur de México\, un estado donde la marimba es un ícono musical y el instrumento folclórico predominante. Ella representa la cuarta generación de marimbistas en la reconocida familia Palomeque. En 2014\, Wendy se graduó con una Licenciatura en Música de la Universidad de Ciencias y Artes de Chiapas (UNICACH). En 2018\, completó su Maestría en Interpretación Clásica-Contemporánea en la misma institución. En 2019\, se mudó a Bélgica para cursar una Maestría en música de cámara con el renombrado marimbista Ludwig Albert en la Universidad LUCA (Leuven College of Arts)\, donde se graduó cum laude. Actualmente\, Wendy vive en Ámsterdam\, donde trabaja como música freelance y profesora de percusión en diferentes escuelas. \nAlice Allegri es una flautista española/italiana con sede en Ámsterdam. Comenzó a estudiar flauta en Málaga\, España\, y pronto participó en varias clases magistrales con solistas internacionales y en concursos. A los 18 años\, Alice se mudó a los Países Bajos para estudiar su Grado Superior en el Conservatorio de Ámsterdam\, el cual obtuvo en 2017 en la clase de Vincent Cortvrint (solista de flautín de la Royal Concertgebouw Orchestra). Posteriormente\, obtuvo su Máster en el mismo conservatorio en 2019 con el Prof. Kersten McCall (flautista principal de la Royal Concertgebouw Orchestra). Hoy en día\, Alice trabaja como flautista freelance y profesora en Ámsterdam\, con una amplia práctica docente en varias escuelas de música dentro y fuera de la ciudad. A menudo colabora con orquestas y conjuntos profesionales tanto en su país como en el extranjero. \n  \nPuede compartir este evento en:
URL:https://www.mientrada.net/evento/duo-tonali-en-concierto/
LOCATION:Centro Cultural Vicente Aleixandre\, Calle Jabalcuza\, 9\, Alhaurín de la Torre\, 29130\, España
CATEGORIES:Alhaurín de la Torre,Centro Cultural Vicente Aleixandre,Concierto
ATTACH;FMTTYPE=image/jpeg:https://www.mientrada.net/wp-content/uploads/2024/10/Cartel-Duo-Tonali-3.jpg
END:VEVENT
BEGIN:VEVENT
DTSTART;TZID=Europe/Madrid:20250222T120000
DTEND;TZID=Europe/Madrid:20250222T120000
DTSTAMP:20260425T201447
CREATED:20240116T110639Z
LAST-MODIFIED:20250107T130852Z
UID:83990-1740225600-1740225600@www.mientrada.net
SUMMARY:La Camisa del Hombre Feliz
DESCRIPTION:XIX CICLO DE TEATRO INFANTIL 2025. \nCompañía Zum Zum Teatro. \nHabía una vez un Zar que cayó gravemente enfermo. El diagnóstico: «este hombre no es feliz». El remedio: «tenéis que encontrar a un hombre feliz y que se ponga su camisa». \nZum-Zum Teatro os invita a participar de una de las grandes aventuras de la humanidad\, ¡la búsqueda de la felicidad! Y para hacerlo queremos asociar las nuevas tecnologías a la más pura teatralidad para crear un universo de imágenes animadas\, de objetos\, de músicas y situaciones para responder una gran pregunta: ¿quién es el hombre o la mujer más feliz del mundo? \n  \nPuede compartir este evento en:
URL:https://www.mientrada.net/evento/teatro-infantil-2025-camisa-hombre-feliz/
LOCATION:Centro Cultural Vicente Aleixandre\, Calle Jabalcuza\, 9\, Alhaurín de la Torre\, 29130\, España
CATEGORIES:Alhaurín de la Torre,Centro Cultural Vicente Aleixandre,Ciclo Teatro Infantil Alh. de la Torre
ATTACH;FMTTYPE=image/jpeg:https://www.mientrada.net/wp-content/uploads/2024/01/Cartel-Camisa-hombre-feliz.jpg
END:VEVENT
END:VCALENDAR