BEGIN:VCALENDAR
VERSION:2.0
PRODID:-//mientrada.net - ECPv5.16.0//NONSGML v1.0//EN
CALSCALE:GREGORIAN
METHOD:PUBLISH
X-ORIGINAL-URL:https://www.mientrada.net
X-WR-CALDESC:Eventos para mientrada.net
REFRESH-INTERVAL;VALUE=DURATION:PT1H
X-Robots-Tag:noindex
X-PUBLISHED-TTL:PT1H
BEGIN:VTIMEZONE
TZID:Europe/Madrid
BEGIN:DAYLIGHT
TZOFFSETFROM:+0100
TZOFFSETTO:+0200
TZNAME:CEST
DTSTART:20250330T010000
END:DAYLIGHT
BEGIN:STANDARD
TZOFFSETFROM:+0200
TZOFFSETTO:+0100
TZNAME:CET
DTSTART:20251026T010000
END:STANDARD
END:VTIMEZONE
BEGIN:VEVENT
DTSTART;TZID=Europe/Madrid:20250509T200000
DTEND;TZID=Europe/Madrid:20250509T200000
DTSTAMP:20260426T022616
CREATED:20250331T182940Z
LAST-MODIFIED:20250331T184929Z
UID:84769-1746820800-1746820800@www.mientrada.net
SUMMARY:Tango Boheme
DESCRIPTION:Cuarteto de clarinete y pareja de tango argentino. \n  \nPROGRAMA \nLibertango\, Piazzola\, A. (arr. des.) \nHistoria del tango\, Piazzola\, A. (arr. Lemoine\, H.)\nBordel 1900\nCafé 1930.\nNight Club 1960 \n3 tangos\, Piazzola\, A. (arr. Troilo\, A.)\nContrabajeando\nLa misma pena\nAdiós nonino \n8 tangos\, Piazzola\, A. (arr. Labaste\, J.P.)\nRecuerdo New York\nMisteriosa vida\nYo canto un canto\nVilleguita\nMi exaltación\nSe armó\nPsicosis\nOblivion \n  \nPuede compartir este evento en:
URL:https://www.mientrada.net/evento/tango-boheme/
LOCATION:Centro Cultural Vicente Aleixandre\, Calle Jabalcuza\, 9\, Alhaurín de la Torre\, 29130\, España
CATEGORIES:Alhaurín de la Torre,Centro Cultural Vicente Aleixandre,Música
ATTACH;FMTTYPE=image/jpeg:https://www.mientrada.net/wp-content/uploads/2025/03/Cartel-Tango-Boheme.jpg
END:VEVENT
BEGIN:VEVENT
DTSTART;TZID=Europe/Madrid:20250514T193000
DTEND;TZID=Europe/Madrid:20250514T193000
DTSTAMP:20260426T022616
CREATED:20250409T101927Z
LAST-MODIFIED:20250409T102023Z
UID:84923-1747251000-1747251000@www.mientrada.net
SUMMARY:Revés de zurda - Marc García
DESCRIPTION:Entrada con invitación\, a recoger en el Centro Cultural Vicente Aleixandre. \n  \nPuede compartir este evento en:
URL:https://www.mientrada.net/evento/reves-de-zurda-marc-garcia/
LOCATION:Centro Cultural Vicente Aleixandre\, Calle Jabalcuza\, 9\, Alhaurín de la Torre\, 29130\, España
CATEGORIES:Alhaurín de la Torre,Centro Cultural Vicente Aleixandre,Concierto
ATTACH;FMTTYPE=image/jpeg:https://www.mientrada.net/wp-content/uploads/2025/04/Cartel-Marc-Garcia.jpg
END:VEVENT
BEGIN:VEVENT
DTSTART;TZID=Europe/Madrid:20250516T200000
DTEND;TZID=Europe/Madrid:20250516T200000
DTSTAMP:20260426T022616
CREATED:20250331T184231Z
LAST-MODIFIED:20250331T184231Z
UID:84772-1747425600-1747425600@www.mientrada.net
SUMMARY:Las Bingueras de Eurípides
DESCRIPTION:Las Niñas de Cádiz. \nDionisio baja a la Tierra en forma de mujer para enfrentarse a El Suasenaguer\, un policía que está empeñado en cerrar un bingo ilegal de barrio\, donde se reúne cada tarde un grupo de mujeres no solo para jugar\, sino también para compartir sus intimidades\, sus penas\, sus alegrías\, y alguna que otra copita de anís. Servando\, compañero de trabajo de El Suasenaguer\, intentará disuadirlo de sus intenciones\, mostrándole que en la vida a veces hay que ser más flexible y permisivo. Pero el joven y fanático policía\, obsesionado con el cumplimiento de la ley\, desoirá sus consejos\, arrastrando a todos a un final trágico y espeluznante. \nUna versión libérrima de Las Bacantes en la que abordamos\, siempre desde el humor\, la eterna lucha entre lo apolíneo y lo dionisíaco\, entre la rigidez autoritaria representada por El Suasenaguer y el mundo hedonista de Dionisia y sus acólitas. \n  \nPuede compartir este evento en:
URL:https://www.mientrada.net/evento/las-bingueras-de-euripides/
LOCATION:Centro Cultural Vicente Aleixandre\, Calle Jabalcuza\, 9\, Alhaurín de la Torre\, 29130\, España
CATEGORIES:Alhaurín de la Torre,Centro Cultural Vicente Aleixandre,Teatro
ATTACH;FMTTYPE=image/jpeg:https://www.mientrada.net/wp-content/uploads/2025/03/Cartel-Las-Bingueras.jpg
END:VEVENT
BEGIN:VEVENT
DTSTART;TZID=Europe/Madrid:20250523T200000
DTEND;TZID=Europe/Madrid:20250523T200000
DTSTAMP:20260426T022616
CREATED:20250409T104658Z
LAST-MODIFIED:20250419T121243Z
UID:84927-1748030400-1748030400@www.mientrada.net
SUMMARY:FAN
DESCRIPTION:La Corona Producciones. \nMadrid. Noche. \nNoche lluviosa\, para ser exactos\, de esas que te calan los tacones. Podría ser una noche cualquiera en la que Canadá vuelve a casa de trabajar\, se ducha y se acuesta\, pero\, por suerte o por desgracia\, no lo es. \nEn su portal\, encuentra a Mónica\, una chica que llora desconsoladamente bajo la lluvia. Canadá podría pasar de largo y obviar el hecho de que Mónica parece muy afectada por algo. Podría\, pero no lo hace. Se para y le pregunta qué le pasa. Mónica contesta y\, sin saber muy bien cómo\, acaban en el ático de Canadá. \nLo que sucede a continuación podríamos contártelo. Podríamos\, pero no tendría ninguna gracia porque queremos que tú también subas a casa de Canadá. Lo único que te diremos es que no es una noche cualquiera. \nFAN es una comedia sobre relaciones humanas\, personas atípicas y episodios por cerrar. Una comedia que podría ser una tragedia sobre el ego en la que cualquier parecido con la realidad es pura coincidencia. O no. \n \nPuede compartir este evento en:
URL:https://www.mientrada.net/evento/fan/
LOCATION:Centro Cultural Vicente Aleixandre\, Calle Jabalcuza\, 9\, Alhaurín de la Torre\, 29130\, España
CATEGORIES:Alhaurín de la Torre,Centro Cultural Vicente Aleixandre,Teatro
ATTACH;FMTTYPE=image/jpeg:https://www.mientrada.net/wp-content/uploads/2025/04/Cartel-Fan-2.jpg
END:VEVENT
BEGIN:VEVENT
DTSTART;TZID=Europe/Madrid:20250527T190000
DTEND;TZID=Europe/Madrid:20250527T190000
DTSTAMP:20260426T022616
CREATED:20250419T134939Z
LAST-MODIFIED:20250507T111439Z
UID:84968-1748372400-1748372400@www.mientrada.net
SUMMARY:Jesucristo Superstar - 50 Aniversario
DESCRIPTION:Puede compartir este evento en:
URL:https://www.mientrada.net/evento/jesucristo-superstar-alhaurin-torre/2025-05-27/
LOCATION:Centro Cultural Vicente Aleixandre\, Calle Jabalcuza\, 9\, Alhaurín de la Torre\, 29130\, España
CATEGORIES:Alhaurín de la Torre,Centro Cultural Vicente Aleixandre
ATTACH;FMTTYPE=image/jpeg:https://www.mientrada.net/wp-content/uploads/2025/04/Cartel-Jesucristo-Superstar.jpg
END:VEVENT
BEGIN:VEVENT
DTSTART;TZID=Europe/Madrid:20250528T190000
DTEND;TZID=Europe/Madrid:20250528T190000
DTSTAMP:20260426T022616
CREATED:20250419T134939Z
LAST-MODIFIED:20250507T111439Z
UID:84971-1748458800-1748458800@www.mientrada.net
SUMMARY:Jesucristo Superstar - 50 Aniversario
DESCRIPTION:Puede compartir este evento en:
URL:https://www.mientrada.net/evento/jesucristo-superstar-alhaurin-torre/2025-05-28/
LOCATION:Centro Cultural Vicente Aleixandre\, Calle Jabalcuza\, 9\, Alhaurín de la Torre\, 29130\, España
CATEGORIES:Alhaurín de la Torre,Centro Cultural Vicente Aleixandre
ATTACH;FMTTYPE=image/jpeg:https://www.mientrada.net/wp-content/uploads/2025/04/Cartel-Jesucristo-Superstar.jpg
END:VEVENT
BEGIN:VEVENT
DTSTART;TZID=Europe/Madrid:20250529T190000
DTEND;TZID=Europe/Madrid:20250529T190000
DTSTAMP:20260426T022616
CREATED:20250419T134939Z
LAST-MODIFIED:20250507T111439Z
UID:84972-1748545200-1748545200@www.mientrada.net
SUMMARY:Jesucristo Superstar - 50 Aniversario
DESCRIPTION:Puede compartir este evento en:
URL:https://www.mientrada.net/evento/jesucristo-superstar-alhaurin-torre/2025-05-29/
LOCATION:Centro Cultural Vicente Aleixandre\, Calle Jabalcuza\, 9\, Alhaurín de la Torre\, 29130\, España
CATEGORIES:Alhaurín de la Torre,Centro Cultural Vicente Aleixandre
ATTACH;FMTTYPE=image/jpeg:https://www.mientrada.net/wp-content/uploads/2025/04/Cartel-Jesucristo-Superstar.jpg
END:VEVENT
BEGIN:VEVENT
DTSTART;TZID=Europe/Madrid:20250530T190000
DTEND;TZID=Europe/Madrid:20250530T190000
DTSTAMP:20260426T022616
CREATED:20250419T134939Z
LAST-MODIFIED:20250507T111439Z
UID:84973-1748631600-1748631600@www.mientrada.net
SUMMARY:Jesucristo Superstar - 50 Aniversario
DESCRIPTION:Puede compartir este evento en:
URL:https://www.mientrada.net/evento/jesucristo-superstar-alhaurin-torre/2025-05-30/
LOCATION:Centro Cultural Vicente Aleixandre\, Calle Jabalcuza\, 9\, Alhaurín de la Torre\, 29130\, España
CATEGORIES:Alhaurín de la Torre,Centro Cultural Vicente Aleixandre
ATTACH;FMTTYPE=image/jpeg:https://www.mientrada.net/wp-content/uploads/2025/04/Cartel-Jesucristo-Superstar.jpg
END:VEVENT
BEGIN:VEVENT
DTSTART;TZID=Europe/Madrid:20250531T120000
DTEND;TZID=Europe/Madrid:20250531T120000
DTSTAMP:20260426T022616
CREATED:20250419T134939Z
LAST-MODIFIED:20250507T111440Z
UID:85117-1748692800-1748692800@www.mientrada.net
SUMMARY:Jesucristo Superstar - 50 Aniversario
DESCRIPTION:Puede compartir este evento en:
URL:https://www.mientrada.net/evento/jesucristo-superstar-alhaurin-torre/2025-05-31/
LOCATION:Centro Cultural Vicente Aleixandre\, Calle Jabalcuza\, 9\, Alhaurín de la Torre\, 29130\, España
CATEGORIES:Alhaurín de la Torre,Centro Cultural Vicente Aleixandre
ATTACH;FMTTYPE=image/jpeg:https://www.mientrada.net/wp-content/uploads/2025/04/Cartel-Jesucristo-Superstar.jpg
END:VEVENT
BEGIN:VEVENT
DTSTART;TZID=Europe/Madrid:20250531T200000
DTEND;TZID=Europe/Madrid:20250531T200000
DTSTAMP:20260426T022616
CREATED:20250506T111723Z
LAST-MODIFIED:20250506T114058Z
UID:85110-1748721600-1748721600@www.mientrada.net
SUMMARY:Coral Santa Cecilia en la Ópera
DESCRIPTION:Director: Alejandro de Palma Garrido. \nEl concierto en una primera parte mostrará gran parte de nuestro repertorio actual\, obras que en su inmensa mayoría no hemos interpretado nunca y en las que llevamos meses trabajando\, desde Palestrina en el Renacimiento tardío italiano hasta los mismísimos años 90 en España\, desde el motete mas exigente al pop mas accesible. En esta primera parte contaremos además por primera vez con la participación en algún tema de la increíble artista local Rocío García Fernández. Un talento innato de enorme proyección y fuerte influencia flamenca con el que hemos colaborado en algún evento con resultados\, como mínimo\, sorprendentes y con la que nos hemos adentrado en nuevos territorios artísticos. \nLa segunda parte de nuestros conciertos suelen ser fuertemente temáticos. Y si en el pasado la hemos dedicado a obras únicas y representativas de nuestro tiempo como Los Miserables o Frozen\, en esta ocasión hemos elegido una selección de obras representativas del género lírico por excelencia: La Ópera. Un viaje a través de muchas épocas del Bel Canto\, desde el barroco inglés a la exuberancia italiana. Interpretaremos obras de Ravel\, Purcell\, Verdi\, Wagner o Delibes. La mezcla de estilos\, idiomas\, sensibilidades\, estados de ánimo y la propia dificultad técnica de las obras elegidas han supuesto el mayor reto al que nunca se ha enfrentado la Coral Santa Cecilia. \nCreemos haber superado este reto con la dirección de Alejandro de Palma Garrido\, que nos dirige desde finales de 2023. Esperamos que el público disfrute con nosotros de esta selección que esperamos interpretar con el estilo didáctico y desenfadado que nos ha caracterizado en los últimos tiempos. \nSi el público de Alhaurín disfruta del evento y se acerca a la música coral\, y quien sabe si considera unirse a nosotros en el futuro\, todos nuestros esfuerzos habrán merecido la pena. \nCoral Santa Cecilia. \nPuede compartir este evento en:
URL:https://www.mientrada.net/evento/coral-santa-cecilia-en-la-opera/
LOCATION:Centro Cultural Vicente Aleixandre\, Calle Jabalcuza\, 9\, Alhaurín de la Torre\, 29130\, España
CATEGORIES:Alhaurín de la Torre,Centro Cultural Vicente Aleixandre,Música
ATTACH;FMTTYPE=image/jpeg:https://www.mientrada.net/wp-content/uploads/2025/05/Cartel-Coral-Santa-Cecilia-en-la-opera.jpg
END:VEVENT
END:VCALENDAR