BEGIN:VCALENDAR
VERSION:2.0
PRODID:-//mientrada.net - ECPv5.16.0//NONSGML v1.0//EN
CALSCALE:GREGORIAN
METHOD:PUBLISH
X-ORIGINAL-URL:https://www.mientrada.net
X-WR-CALDESC:Eventos para mientrada.net
REFRESH-INTERVAL;VALUE=DURATION:PT1H
X-Robots-Tag:noindex
X-PUBLISHED-TTL:PT1H
BEGIN:VTIMEZONE
TZID:Europe/Madrid
BEGIN:DAYLIGHT
TZOFFSETFROM:+0100
TZOFFSETTO:+0200
TZNAME:CEST
DTSTART:20250330T010000
END:DAYLIGHT
BEGIN:STANDARD
TZOFFSETFROM:+0200
TZOFFSETTO:+0100
TZNAME:CET
DTSTART:20251026T010000
END:STANDARD
END:VTIMEZONE
BEGIN:VEVENT
DTSTART;TZID=Europe/Madrid:20250613T200000
DTEND;TZID=Europe/Madrid:20250613T200000
DTSTAMP:20260426T051210
CREATED:20250419T141202Z
LAST-MODIFIED:20250419T141202Z
UID:84974-1749844800-1749844800@www.mientrada.net
SUMMARY:SOULFUL
DESCRIPTION:SOULFUL es la evolución de los antiguos grupos Leeloo music y Summervibes\, Si te gusta el Funk\, Soul\, Jazz\, Bossa\, o sea la música\, no puedes perderte a SoulFul\, porque las versiones que realizan rompen con lo que puedas esperar de alguna canción. Una amplitud de registros que van desde el pop comercial \, al Funky\, ello sin dejar atrás a multitud de estilos\, como el blues \, el regaee\, etc. No tenemos prejuicios musicales a la hora de abordar cualquier canción\, meterla en la batidora y transformarla\, para degustar algo conocido pero diferente en interpretación y concepción armónica. \nIris Vicent. Voz principal\, Alhaurín de la Torre. Amplia experiencia en diferentes formaciones. Su magnífica voz y dotes interpretativas\, nos dan un empaste musical ideal para el estilo que queremos transmitir. \nReimon GA. Teclista\, Lagos (Vélez-Málaga). Promotor de eventos\, técnico de sonido. Integrante de formaciones como Velosolex\, Pick Up (Sevilla)\, Rsol (Mallorca)\, Habitación 107\, Habbibi\, Jaranda. Más de 35 años de experiencia en el sector. \nSebastian García Vega. Guitarra\, Alhaurín de la Torre. Dilatada experiencia en el panorama musical malagueño\, con multitud de colaboraciones e integrante de los grupos con más solera de la provincia\, además de participar en numerosos programas de producción musical\, especialmente en el Jazz. \n  \nPuede compartir este evento en:
URL:https://www.mientrada.net/evento/soulful/
LOCATION:Centro Cultural Vicente Aleixandre\, Calle Jabalcuza\, 9\, Alhaurín de la Torre\, 29130\, España
CATEGORIES:Alhaurín de la Torre,Centro Cultural Vicente Aleixandre
ATTACH;FMTTYPE=image/jpeg:https://www.mientrada.net/wp-content/uploads/2025/04/Cartel-Soulful.jpg
END:VEVENT
BEGIN:VEVENT
DTSTART;TZID=Europe/Madrid:20250619T200000
DTEND;TZID=Europe/Madrid:20250619T200000
DTSTAMP:20260426T051210
CREATED:20250529T085123Z
LAST-MODIFIED:20250529T085353Z
UID:85311-1750363200-1750363200@www.mientrada.net
SUMMARY:Otros aires - Naufragio
DESCRIPTION:IX Festival Teatro Circo de Málaga.\nCirkorama. Diputación Provincial de Málaga.\n \nEntrada solo con invitación. Disponibles desde el lunes 2 de junio en el Centro Cultural. \n  \nNAUFRAGIO. \nUn espectáculo con un lenguaje propio\, mediante la manipulación de objetos\, malabares\, teatro físico y humor absurdo\, da forma a esta pieza\, tratando la amistad desde la alegoría de un naufragio. \nFicha artística: \n\nIDEA ORIGINAL E INTÉRPRETES/CREACIÓN DE COREOGRAFÍAS: Fernando Orozco y Mauro Bajo\nMIRADA EXTERNA: Sergio Rey y Angy Amaya\nPRODUCCIÓN EJECUTIVA: Fernando Orozco\, Mauro Bajo\nASESORÍA EXTERNA: Claudio Martínez\, Sergio Rey y Angy Amaya\nDISEÑO VESTUARIO Y CONFECCIÓN: Fernando Orozco y Mauro Bajo\nFOTOGRAFÍA: Alejandro Cácua\nCOPRODUCCIÓN: Circada\nDURACIÓN: 30 minutos\n\n  \nOTROS AIRES. \nCombinando la acrobacia\, la danza\, la comedia y el tango como herramientas para transmitir y expresar un mundo artístico muy particular. Además plantea una visión sobre las relaciones humanas\, lo femenino y lo masculino. Afrontando incertidumbres que nos presenta la vida. \nFicha artística: \n\nIDEA Y DIRECCIÓN: Cia. Duo Laos\nMIRADA EXTERNA: Blancaluz Capella\nCOREOGRAFÍAS: Juan Ruggeri\, Damian Rossenthal y Vanessa Fatauros\nVESTUARIO: Marina Cindré y Lotta Paavilainen\nDURACIÓN: 30 minutos\n\n  \nPuede compartir este evento en:
URL:https://www.mientrada.net/evento/otros-aires-naufragio/
LOCATION:Centro Cultural Vicente Aleixandre\, Calle Jabalcuza\, 9\, Alhaurín de la Torre\, 29130\, España
CATEGORIES:Alhaurín de la Torre,Centro Cultural Vicente Aleixandre,Cirkorama
ATTACH;FMTTYPE=image/jpeg:https://www.mientrada.net/wp-content/uploads/2025/05/Cartel-Otros-aires-Naufragio.jpg
END:VEVENT
END:VCALENDAR