BEGIN:VCALENDAR
VERSION:2.0
PRODID:-//mientrada.net - ECPv5.16.0//NONSGML v1.0//EN
CALSCALE:GREGORIAN
METHOD:PUBLISH
X-ORIGINAL-URL:https://www.mientrada.net
X-WR-CALDESC:Eventos para mientrada.net
REFRESH-INTERVAL;VALUE=DURATION:PT1H
X-Robots-Tag:noindex
X-PUBLISHED-TTL:PT1H
BEGIN:VTIMEZONE
TZID:Europe/Madrid
BEGIN:DAYLIGHT
TZOFFSETFROM:+0100
TZOFFSETTO:+0200
TZNAME:CEST
DTSTART:20220327T010000
END:DAYLIGHT
BEGIN:STANDARD
TZOFFSETFROM:+0200
TZOFFSETTO:+0100
TZNAME:CET
DTSTART:20221030T010000
END:STANDARD
END:VTIMEZONE
BEGIN:VEVENT
DTSTART;TZID=Europe/Madrid:20220930T193000
DTEND;TZID=Europe/Madrid:20220930T203000
DTSTAMP:20260426T033510
CREATED:20220830T102924Z
LAST-MODIFIED:20220906T111103Z
UID:13430-1664566200-1664569800@www.mientrada.net
SUMMARY:La razón de la sinrazón
DESCRIPTION:Basada en la obra cumbre de Miguel de Cervantes\, el personaje principal\, Don Pablo de Quejada\, se nos presenta como un nuevo Quijote en pleno siglo XXI. La acción se desarrolla en una vieja imprenta a punto de ser demolida por las garras de la especulación para construir en su lugar unos grandes almacenes. \nDon Pablo se encerrará en la imprenta en la que había trabajado en su juventud con el objetivo de reescribir “El Quijote” y editarlo de nuevo ya que\, a su juicio\, algunos valores de la obra cervantina se han quedado caducos y han de ser revisados. \nEl antagonismo lo encontraremos en el personaje de Blas\, amigo de la infancia de Don Pablo\, enviado por la familia de éste para que lo rescate de su empeño y lo devuelva a su casa. Blas se convertirá en el Sancho que todo Quijote necesita para luchar contra los poderes especulativos. \n  \nPuede compartir este evento en:
URL:https://www.mientrada.net/evento/la-razon-de-la-sinrazon/
LOCATION:Centro Cultural Vicente Aleixandre\, Calle Jabalcuza\, 9\, Alhaurín de la Torre\, 29130\, España
CATEGORIES:Alhaurín de la Torre,Centro Cultural Vicente Aleixandre,Teatro
ATTACH;FMTTYPE=image/jpeg:https://www.mientrada.net/wp-content/uploads/2022/08/30_09_2022-LA-CURA-DE-BATAN.jpg
END:VEVENT
END:VCALENDAR