BEGIN:VCALENDAR
VERSION:2.0
PRODID:-//mientrada.net - ECPv5.16.0//NONSGML v1.0//EN
CALSCALE:GREGORIAN
METHOD:PUBLISH
X-ORIGINAL-URL:https://www.mientrada.net
X-WR-CALDESC:Eventos para mientrada.net
REFRESH-INTERVAL;VALUE=DURATION:PT1H
X-Robots-Tag:noindex
X-PUBLISHED-TTL:PT1H
BEGIN:VTIMEZONE
TZID:Europe/Madrid
BEGIN:DAYLIGHT
TZOFFSETFROM:+0100
TZOFFSETTO:+0200
TZNAME:CEST
DTSTART:20230326T010000
END:DAYLIGHT
BEGIN:STANDARD
TZOFFSETFROM:+0200
TZOFFSETTO:+0100
TZNAME:CET
DTSTART:20231029T010000
END:STANDARD
END:VTIMEZONE
BEGIN:VEVENT
DTSTART;TZID=Europe/Madrid:20231103T200000
DTEND;TZID=Europe/Madrid:20231103T200000
DTSTAMP:20260425T025719
CREATED:20231010T153819Z
LAST-MODIFIED:20231103T133639Z
UID:79881-1699041600-1699041600@www.mientrada.net
SUMMARY:Teatro Otoño 2023 - El siglo de Oro no da pá comer
DESCRIPTION:¡ENTRADAS AGOTADAS PARA HOY! \nCiclo Teatro de Otoño 2023: \n\n03/11/2023: El siglo de Oro no da pá comer\n17/11/2023: Trash!\n18/11/2023: La Psicología del color\n24/11/2023: Inés de Ulloa\n\n  \nTeatro Los Menesteres. \nDos hombres de teatro son desterrados de su siglo tras años sin pagar los impuestos de su arte. Llegan a la época actual para representar las mejores escenas de su tiempo ante el nuevo público y así saldar su deuda y regresar a casa. Armados con su alarmante falta de talento\, plagiarán a Shakespeare\, Moliere\, algunos clásicos españoles e\, incluso\, a la comunidad dell arte italiana. \nPara público familiar. \nPrecio: 5€ \nServicio gratuito de Ludoteca durante la representación.\nNiños a partir de 2 años. \n  \nPuede compartir este evento en:
URL:https://www.mientrada.net/evento/teatro-otono-2023-el-siglo-de-oro-no-da-pa-comer/
LOCATION:Centro Cultural Vicente Aleixandre\, Calle Jabalcuza\, 9\, Alhaurín de la Torre\, 29130\, España
CATEGORIES:Alhaurín de la Torre,Centro Cultural Vicente Aleixandre,Ciclo de Teatro de Otoño (Alhaurín de la Torre),Teatro
ATTACH;FMTTYPE=image/jpeg:https://www.mientrada.net/wp-content/uploads/2023/10/Imagen-Teatro-Otono-2023.jpg
END:VEVENT
END:VCALENDAR