BEGIN:VCALENDAR
VERSION:2.0
PRODID:-//mientrada.net - ECPv5.16.0//NONSGML v1.0//EN
CALSCALE:GREGORIAN
METHOD:PUBLISH
X-ORIGINAL-URL:https://www.mientrada.net
X-WR-CALDESC:Eventos para mientrada.net
REFRESH-INTERVAL;VALUE=DURATION:PT1H
X-Robots-Tag:noindex
X-PUBLISHED-TTL:PT1H
BEGIN:VTIMEZONE
TZID:Europe/Madrid
BEGIN:DAYLIGHT
TZOFFSETFROM:+0100
TZOFFSETTO:+0200
TZNAME:CEST
DTSTART:20230326T010000
END:DAYLIGHT
BEGIN:STANDARD
TZOFFSETFROM:+0200
TZOFFSETTO:+0100
TZNAME:CET
DTSTART:20231029T010000
END:STANDARD
END:VTIMEZONE
BEGIN:VEVENT
DTSTART;TZID=Europe/Madrid:20231110T200000
DTEND;TZID=Europe/Madrid:20231110T200000
DTSTAMP:20260425T025719
CREATED:20231010T153819Z
LAST-MODIFIED:20231030T121904Z
UID:80085-1699646400-1699646400@www.mientrada.net
SUMMARY:Teatro Otoño 2023 - Mujer en cinta de correr sobre fondo negro
DESCRIPTION:Ciclo Teatro de Otoño 2023: \n\n03/11/2023: El siglo de Oro no da pá comer\n17/11/2023: Trash!\n18/11/2023: La Psicología del color\n24/11/2023: Inés de Ulloa\n\n  \nDirección\, textos e intérprete: Alessandra García. \nEstrenada en 2021 dentro del 38 Festival de Teatro de Málaga\, Mujer en cinta de correr sobre fondo negro es una pieza escénica que funciona a modo de radiografía del ciudadano de barrio humilde. Pero\, sobre todo\, esta historia es risa y pensamiento. La mujer reflexiona sobre la superproducción textil\, el capitalismo\, el entretenimiento\, la cultura\, los idiomas\, el mote y el sector servicios. La mujer ha escrito\, ha dirigido e interpreta esta obra y lo hace con la ayuda de su alter ego Merdellón. La mujer esgrime un discurso que señala con el dedo todo aquello que le habría llevado irremediablemente a ser así. Es como hacer un recorrido intelectualizado por su vida laboral y por todos los espacios por donde ha pasado: barrio\, iglesia\, tele\, hostelería y teatro dividido en tres cuadros. Si la pieza se pudiera comer sabría a Málaga. \nmalagadecultura.com \nPremios MAX 2022: Mejor espectáculo revelación\, Finalista Mejor autoría revelación y Finalista Mejor actriz.\nPremios Ateneo 2021: Mejor intérprete. \nPara público adulto. \n  \nEntradas con invitación a recoger en el C.C.Vicente Aleixandre. \n  \nPuede compartir este evento en:
URL:https://www.mientrada.net/evento/teatro-otono-2023-mujer-cinta-correr/
LOCATION:Centro Cultural Vicente Aleixandre\, Calle Jabalcuza\, 9\, Alhaurín de la Torre\, 29130\, España
CATEGORIES:Alhaurín de la Torre,Centro Cultural Vicente Aleixandre,Ciclo de Teatro de Otoño (Alhaurín de la Torre),Teatro
ATTACH;FMTTYPE=image/jpeg:https://www.mientrada.net/wp-content/uploads/2023/10/Imagen-Teatro-Otono-2023.jpg
END:VEVENT
END:VCALENDAR