BEGIN:VCALENDAR
VERSION:2.0
PRODID:-//mientrada.net - ECPv5.16.0//NONSGML v1.0//EN
CALSCALE:GREGORIAN
METHOD:PUBLISH
X-ORIGINAL-URL:https://www.mientrada.net
X-WR-CALDESC:Eventos para mientrada.net
REFRESH-INTERVAL;VALUE=DURATION:PT1H
X-Robots-Tag:noindex
X-PUBLISHED-TTL:PT1H
BEGIN:VTIMEZONE
TZID:Europe/Madrid
BEGIN:DAYLIGHT
TZOFFSETFROM:+0100
TZOFFSETTO:+0200
TZNAME:CEST
DTSTART:20240331T010000
END:DAYLIGHT
BEGIN:STANDARD
TZOFFSETFROM:+0200
TZOFFSETTO:+0100
TZNAME:CET
DTSTART:20241027T010000
END:STANDARD
END:VTIMEZONE
BEGIN:VEVENT
DTSTART;TZID=Europe/Madrid:20240505T190000
DTEND;TZID=Europe/Madrid:20240505T190000
DTSTAMP:20260424T103807
CREATED:20240305T101608Z
LAST-MODIFIED:20240305T101705Z
UID:81357-1714935600-1714935600@www.mientrada.net
SUMMARY:Enigma Shakespeare
DESCRIPTION:Entrada con invitación\, a retirar en el Centro Cultural Vicente Aleixandre. \nFestival Clásicos de Teatro de Málaga 2024.\nTeatro de Poniente. \nEsta es una historia que comienza con un final y no un final cualquiera\, comienza con la muerte de William Shakespeare. El 23 de abril de 1616\, en mitad de la noche\, un caballero cabalga hacia Londres con una terrible noticia: el gran bardo de la pérfida Albión ha muerto. En el teatro del Globe\, Robert Field y su compañía esperan la última gran obra del dramaturgo inglés para su inminente estreno\, mas la trágica noticia les deja sin aliento\, sin obra y con una deuda descomunal. \nPero Shakespeare siempre sorprende y aún estando muerto\, quiere jugar. Esta noche\, su espectro\,  confiesa a los cómicos una impactante noticia: «no he muerto\, he sido asesinado». El tiempo corre y para dar con el asesino\, el propio autor ha escondido claves y enigmas en sus obras más emblemáticas para encontrar la solución a la pregunta. ¿Quién es el asesino de William Shakespeare? \n  \nPuede compartir este evento en:
URL:https://www.mientrada.net/evento/enigma-shakespeare/
LOCATION:Centro Cultural Vicente Aleixandre\, Calle Jabalcuza\, 9\, Alhaurín de la Torre\, 29130\, España
CATEGORIES:Alhaurín de la Torre,Centro Cultural Vicente Aleixandre,Teatro
ATTACH;FMTTYPE=image/jpeg:https://www.mientrada.net/wp-content/uploads/2024/03/Cartel-Enigma-Shakespeare.jpg
END:VEVENT
END:VCALENDAR