BEGIN:VCALENDAR
VERSION:2.0
PRODID:-//mientrada.net - ECPv5.16.0//NONSGML v1.0//EN
CALSCALE:GREGORIAN
METHOD:PUBLISH
X-WR-CALNAME:mientrada.net
X-ORIGINAL-URL:https://www.mientrada.net
X-WR-CALDESC:Eventos para mientrada.net
REFRESH-INTERVAL;VALUE=DURATION:PT1H
X-Robots-Tag:noindex
X-PUBLISHED-TTL:PT1H
BEGIN:VTIMEZONE
TZID:Europe/Madrid
BEGIN:DAYLIGHT
TZOFFSETFROM:+0100
TZOFFSETTO:+0200
TZNAME:CEST
DTSTART:20240331T010000
END:DAYLIGHT
BEGIN:STANDARD
TZOFFSETFROM:+0200
TZOFFSETTO:+0100
TZNAME:CET
DTSTART:20241027T010000
END:STANDARD
END:VTIMEZONE
BEGIN:VEVENT
DTSTART;TZID=Europe/Madrid:20240516T200000
DTEND;TZID=Europe/Madrid:20240516T200000
DTSTAMP:20260424T133522
CREATED:20240219T192345Z
LAST-MODIFIED:20240402T085517Z
UID:81579-1715889600-1715889600@www.mientrada.net
SUMMARY:Vestidos por dentro
DESCRIPTION:¡ENTRADAS AGOTADAS! \nProvokarte Teatro. \n¿Somos tal y como nos mostramos\, o fingimos ser otros para encajar en este mundo de apariencias? Este es el punto de partida de esta propuesta con la que Provokarte Teatro quiere que te plantees quién eres en realidad. No sabemos si te encontrarás\, lo que sí sabemos es que podrás empezar tu búsqueda con una sonrisa. \nDirigida y adaptada por Helena Soria. \n  \nDonativo: 5€ \n  \nPuede compartir este evento en:
URL:https://www.mientrada.net/evento/vestidos-por-dentro-2/
LOCATION:Centro Cultural Vicente Aleixandre\, Calle Jabalcuza\, 9\, Alhaurín de la Torre\, 29130\, España
CATEGORIES:Alhaurín de la Torre,Centro Cultural Vicente Aleixandre,Teatro
ATTACH;FMTTYPE=image/jpeg:https://www.mientrada.net/wp-content/uploads/2024/02/Cartel-Vestidos-por-dentro.jpg
END:VEVENT
END:VCALENDAR