BEGIN:VCALENDAR
VERSION:2.0
PRODID:-//mientrada.net - ECPv5.16.0//NONSGML v1.0//EN
CALSCALE:GREGORIAN
METHOD:PUBLISH
X-ORIGINAL-URL:https://www.mientrada.net
X-WR-CALDESC:Eventos para mientrada.net
REFRESH-INTERVAL;VALUE=DURATION:PT1H
X-Robots-Tag:noindex
X-PUBLISHED-TTL:PT1H
BEGIN:VTIMEZONE
TZID:Europe/Madrid
BEGIN:DAYLIGHT
TZOFFSETFROM:+0100
TZOFFSETTO:+0200
TZNAME:CEST
DTSTART:20240331T010000
END:DAYLIGHT
BEGIN:STANDARD
TZOFFSETFROM:+0200
TZOFFSETTO:+0100
TZNAME:CET
DTSTART:20241027T010000
END:STANDARD
END:VTIMEZONE
BEGIN:VEVENT
DTSTART;TZID=Europe/Madrid:20240607T200000
DTEND;TZID=Europe/Madrid:20240607T200000
DTSTAMP:20260424T161101
CREATED:20240425T085723Z
LAST-MODIFIED:20240502T120656Z
UID:81806-1717790400-1717790400@www.mientrada.net
SUMMARY:Cuadro flamenco - El Turrano
DESCRIPTION:Comienza sus estudios a las edad de 6 años en la Escuela Municipal de Alhaurín de la Torre. Después continúa formándose en la Peña Flamenca Torre del Cante hasta los 16 años\, bailando en el Festival Torre del Cante durante 3 años consecutivos\, compartiendo cartel con artistas de renombre como Camarón\, Aurora Vargas y El Pele entre otros. En su afán incansable por seguir formándose\, trabajó con grandes bailaores como Rafael de Carmen\, Antonio Canales\, la Trini de Málaga\, Pastora Galván\, Torombo y un largo etcétera. \nSin olvidar sus raíces\, ha difundido sin parar el arte del flamenco más allá de las fronteras de la Península a través de galas flamencas en Francia\, Londres\, Alemania\, Marruecos e Islas Azores\, además de un amplio recorrido por las Islas Canarias con diversas compañías flamencas como Carmen Reyes o Tierra y Fuego sin olvidar la Costa del Sol\, lugar donde trabajó con otras compañías y tablaos como El Tiriri\, Los Tarantos\, Pepe López o Vista Andalucía. \nActualmente\, dirige desde hace 6 años su propia escuela en Melilla\, donde fue presidente de La Peña Flamenca y director artístico\, compaginando su labor como docente en el Centro Cultural alhaurino “La Platea”\, municipio en el que presentó en la Finca el Portón varios espectáculos entre los cuales destacan Añoranza y Rememorando y su participación en el 40 aniversario del Festival Torre del Cante. \n  \nPuede compartir este evento en:
URL:https://www.mientrada.net/evento/cuadro-flamenco-el-turrano/
LOCATION:Centro Cultural Vicente Aleixandre\, Calle Jabalcuza\, 9\, Alhaurín de la Torre\, 29130\, España
CATEGORIES:Alhaurín de la Torre,Centro Cultural Vicente Aleixandre,Flamenco
ATTACH;FMTTYPE=image/jpeg:https://www.mientrada.net/wp-content/uploads/2024/04/Cartel-El-Turrano.jpg
END:VEVENT
END:VCALENDAR