BEGIN:VCALENDAR
VERSION:2.0
PRODID:-//mientrada.net - ECPv5.16.0//NONSGML v1.0//EN
CALSCALE:GREGORIAN
METHOD:PUBLISH
X-ORIGINAL-URL:https://www.mientrada.net
X-WR-CALDESC:Eventos para mientrada.net
REFRESH-INTERVAL;VALUE=DURATION:PT1H
X-Robots-Tag:noindex
X-PUBLISHED-TTL:PT1H
BEGIN:VTIMEZONE
TZID:Europe/Madrid
BEGIN:DAYLIGHT
TZOFFSETFROM:+0100
TZOFFSETTO:+0200
TZNAME:CEST
DTSTART:20240331T010000
END:DAYLIGHT
BEGIN:STANDARD
TZOFFSETFROM:+0200
TZOFFSETTO:+0100
TZNAME:CET
DTSTART:20241027T010000
END:STANDARD
END:VTIMEZONE
BEGIN:VEVENT
DTSTART;TZID=Europe/Madrid:20241004T203000
DTEND;TZID=Europe/Madrid:20241004T203000
DTSTAMP:20260424T234549
CREATED:20240905T103403Z
LAST-MODIFIED:20240905T103657Z
UID:82837-1728073800-1728073800@www.mientrada.net
SUMMARY:Juan Beny Sax
DESCRIPTION:A beneficio de la Asociación Vites. \nJuan Beny Sax lleva 20 años en la música y nos presenta su primer disco Evolución. Además lo hace con un concierto a beneficio de la Asociación VITES\, una asociación que trabaja por promocionar y atender a personas en dificultad y/o exclusión social\, fomenta la educación y la cultura\, la formación y la realización de actividades de cooperación local e internacional para el desarrollo y la igualdad de oportunidades. \n  \nPuede compartir este evento en:
URL:https://www.mientrada.net/evento/juan-beny-sax/
LOCATION:Centro Cultural Vicente Aleixandre\, Calle Jabalcuza\, 9\, Alhaurín de la Torre\, 29130\, España
CATEGORIES:Alhaurín de la Torre,Centro Cultural Vicente Aleixandre
ATTACH;FMTTYPE=image/jpeg:https://www.mientrada.net/wp-content/uploads/2024/09/Cartel-Juan-Beny-Sax.jpg
END:VEVENT
END:VCALENDAR