BEGIN:VCALENDAR
VERSION:2.0
PRODID:-//mientrada.net - ECPv5.16.0//NONSGML v1.0//EN
CALSCALE:GREGORIAN
METHOD:PUBLISH
X-WR-CALNAME:mientrada.net
X-ORIGINAL-URL:https://www.mientrada.net
X-WR-CALDESC:Eventos para mientrada.net
REFRESH-INTERVAL;VALUE=DURATION:PT1H
X-Robots-Tag:noindex
X-PUBLISHED-TTL:PT1H
BEGIN:VTIMEZONE
TZID:Europe/Madrid
BEGIN:DAYLIGHT
TZOFFSETFROM:+0100
TZOFFSETTO:+0200
TZNAME:CEST
DTSTART:20240331T010000
END:DAYLIGHT
BEGIN:STANDARD
TZOFFSETFROM:+0200
TZOFFSETTO:+0100
TZNAME:CET
DTSTART:20241027T010000
END:STANDARD
END:VTIMEZONE
BEGIN:VEVENT
DTSTART;TZID=Europe/Madrid:20241005T200000
DTEND;TZID=Europe/Madrid:20241005T200000
DTSTAMP:20260424T221105
CREATED:20240913T104553Z
LAST-MODIFIED:20240913T104553Z
UID:82926-1728158400-1728158400@www.mientrada.net
SUMMARY:Donde mueren las palabras
DESCRIPTION:Los actores de las series “La Promesa” y “Amar es para siempre” se reúnen en la función teatral “Donde mueren las palabras”. Después de su estreno en el Teatro Lara de Madrid\, donde permaneció en cartelera durante cuatro temporadas\, y de su éxito en Latinoamérica (Considerada como una de las 10 mejores obras de 2021)\, la comedia dramática “Donde mueren las palabras”\, obra finalista al Premio Nacional de Literatura Dramática 2020\, vuelve con un nuevo montaje estrenado dentro del marco del 40 Festival de teatro de Málaga\, y que recorrerá algunas de las principales ciudades de la geografía española como Valladolid\, Almería o Melilla\, entre otras. \nEn marzo de 2023 esta reposición volvió al Teatro Lara de Madrid\, siendo el mejor estreno en taquilla de la temporada. Los actores Alejandro Vergara (que actualmente protagoniza la serie diaria La Promesa)\, Nacho Nugo (al que también podemos ver en Amar es para siempre) e Iván Montes (Protagonista de El secreto de Puente Viejo) y su autor y director Ángel Caballero (Desaparecidos\, Brigada Costa del sol) se suben a las tablas en esta obra que\, con la risa como salvoconducto\, nos habla de temas tan necesarios como la falta de comunicación\, la salud mental y la amistad. \n  \nPuede compartir este evento en:
URL:https://www.mientrada.net/evento/donde-mueren-las-palabras/
LOCATION:Centro Cultural Vicente Aleixandre\, Calle Jabalcuza\, 9\, Alhaurín de la Torre\, 29130\, España
CATEGORIES:Alhaurín de la Torre,Centro Cultural Vicente Aleixandre,Teatro
ATTACH;FMTTYPE=image/jpeg:https://www.mientrada.net/wp-content/uploads/2024/09/Cartel-Donde-mueren-las-palabras.jpg
END:VEVENT
END:VCALENDAR