BEGIN:VCALENDAR
VERSION:2.0
PRODID:-//mientrada.net - ECPv5.16.0//NONSGML v1.0//EN
CALSCALE:GREGORIAN
METHOD:PUBLISH
X-ORIGINAL-URL:https://www.mientrada.net
X-WR-CALDESC:Eventos para mientrada.net
REFRESH-INTERVAL;VALUE=DURATION:PT1H
X-Robots-Tag:noindex
X-PUBLISHED-TTL:PT1H
BEGIN:VTIMEZONE
TZID:Europe/Madrid
BEGIN:DAYLIGHT
TZOFFSETFROM:+0100
TZOFFSETTO:+0200
TZNAME:CEST
DTSTART:20240331T010000
END:DAYLIGHT
BEGIN:STANDARD
TZOFFSETFROM:+0200
TZOFFSETTO:+0100
TZNAME:CET
DTSTART:20241027T010000
END:STANDARD
END:VTIMEZONE
BEGIN:VEVENT
DTSTART;TZID=Europe/Madrid:20241026T120000
DTEND;TZID=Europe/Madrid:20241026T120000
DTSTAMP:20260425T000902
CREATED:20240925T153033Z
LAST-MODIFIED:20240925T153804Z
UID:83097-1729944000-1729944000@www.mientrada.net
SUMMARY:Trapito Viajero
DESCRIPTION:Espectáculo de títeres. \nA Trapito\, un trozo de sábana elegido por la niña Mara para ser su compañero inseparable\, lo pierden un día. Trapito sabe que Mara lo necesita y él la necesita a ella así que decide ir a buscarla siguiendo sus recuerdos. Estos lo llevará desde un lugar muy frío como es el Polo a un lugar muy cálido como la Sabana. Pero aún le quedan recuerdos para seguir buscándola. \nBajo la dirección comunitaria de «La Gotera de Lazotea»\, como es norma en todos sus espectáculos\, «Trapito viajero» cuenta una historia a un público infantil con canciones\, diálogos y música en directo con la que se quiere transmitir\, entre otros valores\, la importancia de la infancia para el desarrollo del adulto en que hemos de convertirnos\, el respeto a las diferencias\, a la diversidad cultural\, a las distintas culturas y razas\, y a la tolerancia. \n  \nPuede compartir este evento en:
URL:https://www.mientrada.net/evento/trapito-viajero/
LOCATION:Centro Cultural Vicente Aleixandre\, Calle Jabalcuza\, 9\, Alhaurín de la Torre\, 29130\, España
CATEGORIES:Alhaurín de la Torre,Centro Cultural Vicente Aleixandre,Infantil
ATTACH;FMTTYPE=image/jpeg:https://www.mientrada.net/wp-content/uploads/2024/09/Cartel-Trapito-viajero-2.jpg
END:VEVENT
BEGIN:VEVENT
DTSTART;TZID=Europe/Madrid:20241026T200000
DTEND;TZID=Europe/Madrid:20241026T200000
DTSTAMP:20260425T000902
CREATED:20240913T104027Z
LAST-MODIFIED:20240917T091201Z
UID:82953-1729972800-1729972800@www.mientrada.net
SUMMARY:World Citizen Band
DESCRIPTION:La estrella ‘Antares’ ha sido fuente de fascinación por su energía distintiva\, y World Citizen Band (WCB) ha tomado su nombre como inspiración para su segundo álbum. Esta producción de jazz contemporáneo nace de la colaboración de un quinteto formado en Berlín en 2013\, cuyo objetivo es entrelazar culturas a través de la música. Los miembros de la banda\, provenientes de distintas partes del mundo\, incluyen a Uri Gurvich (Israel)\, Ramiro Olaciregui (Argentina)\, Marcos Merino (España)\, Kenneth Dahl Knudsen (Dinamarca) y Rodolfo Zúñiga (Costa Rica). \nEn ‘Antares’\, cada integrante aporta sus composiciones\, ofreciendo una mirada diversa y personal al jazz actual. Con influencias que abarcan desde América del Sur hasta Europa y Oriente Medio\, el álbum transita por una variedad de estilos: desde la energía de ‘Verás Mijín’\, la fusión de rock y jazz en el tema homónimo\, el aire blues de ‘CM’s Blues’\, la samba en ‘Samba Pra Kuki’\, hasta los grooves más contemporáneos de ‘Lotus’. La banda muestra así su capacidad de moverse con soltura entre diferentes géneros musicales. \nEl disco destaca la profunda conexión entre los músicos de WCB. A través de sus composiciones\, las individualidades y el trabajo conjunto de la banda se hacen evidentes\, creando una música que fluye con naturalidad. El resultado es un viaje sonoro que fusiona tradiciones\, influencias culturales y estilos únicos en una expresión global auténtica. \n  \nPuede compartir este evento en:
URL:https://www.mientrada.net/evento/world-citizen-band/
LOCATION:Centro Cultural Vicente Aleixandre\, Calle Jabalcuza\, 9\, Alhaurín de la Torre\, 29130\, España
CATEGORIES:Alhaurín de la Torre,Centro Cultural Vicente Aleixandre,Jazz
ATTACH;FMTTYPE=image/jpeg:https://www.mientrada.net/wp-content/uploads/2024/09/Cartel-World-Citizen-Band.jpg
END:VEVENT
END:VCALENDAR