BEGIN:VCALENDAR
VERSION:2.0
PRODID:-//mientrada.net - ECPv5.16.0//NONSGML v1.0//EN
CALSCALE:GREGORIAN
METHOD:PUBLISH
X-ORIGINAL-URL:https://www.mientrada.net
X-WR-CALDESC:Eventos para mientrada.net
REFRESH-INTERVAL;VALUE=DURATION:PT1H
X-Robots-Tag:noindex
X-PUBLISHED-TTL:PT1H
BEGIN:VTIMEZONE
TZID:Europe/Madrid
BEGIN:DAYLIGHT
TZOFFSETFROM:+0100
TZOFFSETTO:+0200
TZNAME:CEST
DTSTART:20240331T010000
END:DAYLIGHT
BEGIN:STANDARD
TZOFFSETFROM:+0200
TZOFFSETTO:+0100
TZNAME:CET
DTSTART:20241027T010000
END:STANDARD
END:VTIMEZONE
BEGIN:VEVENT
DTSTART;TZID=Europe/Madrid:20241108T200000
DTEND;TZID=Europe/Madrid:20241108T200000
DTSTAMP:20260424T221049
CREATED:20241021T103513Z
LAST-MODIFIED:20241021T103513Z
UID:83409-1731096000-1731096000@www.mientrada.net
SUMMARY:El viento es salvaje
DESCRIPTION:Mientras que una crecía confiada\nMimada por la vida y sonriente\nLa otra se sentía desgraciada… \nDespojamos a Fedra y a Medea de sus peplos y las traemos hasta nuestros días\, convirtiéndolas en seres grises. Solo cuando surja el conflicto asumirán de pronto una fatalidad antigua\, bajo cuya influencia arrasarán con cuanto se interponga en su camino. De fondo\, Cádiz\, una ciudad de perfil macondiano\, donde todos los elementos cotidianos adquieren una dimensión mágica que presagia la tragedia: el perturbador viento de levante\, anunciado por la flauta del afilador y por la presencia del circo en las afueras de la ciudad\, el trino de los pájaros\, el coro de los vecinos. \nNuestro nuevo espectáculo es una reflexión lúdica y «jonda» sobre la suerte y la culpa. Una tragedia atravesada por la carcajada\, como no podía ser de otra manera en un espectáculo de Las Niñas de Cádiz. Porque sabemos que en toda historia terrible hay una paradoja que puede llevar a la comedia; y\, al contrario\, en todo arranque de humor hay siempre un fondo trágico. \n  \nPuede compartir este evento en:
URL:https://www.mientrada.net/evento/el-viento-es-salvaje/
LOCATION:Centro Cultural Vicente Aleixandre\, Calle Jabalcuza\, 9\, Alhaurín de la Torre\, 29130\, España
CATEGORIES:Alhaurín de la Torre,Centro Cultural Vicente Aleixandre,Teatro
ATTACH;FMTTYPE=image/jpeg:https://www.mientrada.net/wp-content/uploads/2024/01/Cartel-El-viento-es-salvaje.jpg
END:VEVENT
END:VCALENDAR