BEGIN:VCALENDAR
VERSION:2.0
PRODID:-//mientrada.net - ECPv5.16.0//NONSGML v1.0//EN
CALSCALE:GREGORIAN
METHOD:PUBLISH
X-WR-CALNAME:mientrada.net
X-ORIGINAL-URL:https://www.mientrada.net
X-WR-CALDESC:Eventos para mientrada.net
REFRESH-INTERVAL;VALUE=DURATION:PT1H
X-Robots-Tag:noindex
X-PUBLISHED-TTL:PT1H
BEGIN:VTIMEZONE
TZID:Europe/Madrid
BEGIN:DAYLIGHT
TZOFFSETFROM:+0100
TZOFFSETTO:+0200
TZNAME:CEST
DTSTART:20240331T010000
END:DAYLIGHT
BEGIN:STANDARD
TZOFFSETFROM:+0200
TZOFFSETTO:+0100
TZNAME:CET
DTSTART:20241027T010000
END:STANDARD
END:VTIMEZONE
BEGIN:VEVENT
DTSTART;TZID=Europe/Madrid:20241115T200000
DTEND;TZID=Europe/Madrid:20241115T200000
DTSTAMP:20260424T234555
CREATED:20241021T114724Z
LAST-MODIFIED:20241021T115215Z
UID:83412-1731700800-1731700800@www.mientrada.net
SUMMARY:Greenpiss
DESCRIPTION:Yllana Producciones. \nUn desmadre ECO-ILÓGICO. Greenpiss es una divertidísima sátira sobre la ecología\, el futuro de nuestro planeta y la supervivencia de nuestra propia especie. El calentamiento global\, el uso abusivo de los plásticos\, el consumismo desenfrenado\, la desaparición de miles de especies de animales y la posible extinción de nuestra propia especie\, son el punto de partida de esta nueva locura teatral de Yllana. \nCuatro actores en estado de gracia se desdoblan en infinidad de personajes\, desde políticos a pingüinos\, para tratar un tema que está en boca de todos y al que Yllana ofrece una receta clara para combatirlo: humor ácido y sin barreras que no dejará a nadie indiferente. \n  \nPuede compartir este evento en:
URL:https://www.mientrada.net/evento/alhaurin-torre-greenpiss/
LOCATION:Centro Cultural Vicente Aleixandre\, Calle Jabalcuza\, 9\, Alhaurín de la Torre\, 29130\, España
CATEGORIES:Alhaurín de la Torre,Centro Cultural Vicente Aleixandre,Teatro
ATTACH;FMTTYPE=image/jpeg:https://www.mientrada.net/wp-content/uploads/2024/10/Cartel-Greenpiss.jpg
END:VEVENT
END:VCALENDAR