BEGIN:VCALENDAR
VERSION:2.0
PRODID:-//mientrada.net - ECPv5.16.0//NONSGML v1.0//EN
CALSCALE:GREGORIAN
METHOD:PUBLISH
X-WR-CALNAME:mientrada.net
X-ORIGINAL-URL:https://www.mientrada.net
X-WR-CALDESC:Eventos para mientrada.net
REFRESH-INTERVAL;VALUE=DURATION:PT1H
X-Robots-Tag:noindex
X-PUBLISHED-TTL:PT1H
BEGIN:VTIMEZONE
TZID:Europe/Madrid
BEGIN:DAYLIGHT
TZOFFSETFROM:+0100
TZOFFSETTO:+0200
TZNAME:CEST
DTSTART:20240331T010000
END:DAYLIGHT
BEGIN:STANDARD
TZOFFSETFROM:+0200
TZOFFSETTO:+0100
TZNAME:CET
DTSTART:20241027T010000
END:STANDARD
END:VTIMEZONE
BEGIN:VEVENT
DTSTART;TZID=Europe/Madrid:20241122T200000
DTEND;TZID=Europe/Madrid:20241122T200000
DTSTAMP:20260424T233707
CREATED:20241021T121136Z
LAST-MODIFIED:20241122T093851Z
UID:83417-1732305600-1732305600@www.mientrada.net
SUMMARY:Querida Agatha Christie
DESCRIPTION:¡ENTRADAS AGOTADAS! \nAgatha\, en la habitación del Hotel Taoro de Tenerife\, en el cual se hospeda\, se enfrenta a una nueva noche en vela. Los fantasmas de la relación rota con su marido y la reciente pérdida de su madre han causado una profunda mella en su percepción de la realidad. Está dispuesta a cometer una locura e ingerir un potente veneno que ha traído de Inglaterra. Así dejará de sufrir de una vez por todas. \nLa inesperada visita de un elegante caballero interrumpe sus planes. Él es Benito\, también se aloja en el hotel y es escritor. Sus apellidos: Pérez Galdós. Ha escuchado extraños ruidos y quiere comprobar que todo está en orden. Entre ambos genios se establece inmediatamente una electrizante y divertida conexión\, en la que salen a la luz secretos\, fobias\, mentiras\, deseos y frustraciones. ¿Será Benito capaz de alterar los planes de Agatha y salvar su vida? \n  \nPuede compartir este evento en:
URL:https://www.mientrada.net/evento/querida-agatha-christie/
LOCATION:Centro Cultural Vicente Aleixandre\, Calle Jabalcuza\, 9\, Alhaurín de la Torre\, 29130\, España
CATEGORIES:Alhaurín de la Torre,Centro Cultural Vicente Aleixandre,Teatro
ATTACH;FMTTYPE=image/jpeg:https://www.mientrada.net/wp-content/uploads/2024/10/Cartel-Querida-Agatha.jpg
END:VEVENT
END:VCALENDAR