BEGIN:VCALENDAR
VERSION:2.0
PRODID:-//mientrada.net - ECPv5.16.0//NONSGML v1.0//EN
CALSCALE:GREGORIAN
METHOD:PUBLISH
X-WR-CALNAME:mientrada.net
X-ORIGINAL-URL:https://www.mientrada.net
X-WR-CALDESC:Eventos para mientrada.net
REFRESH-INTERVAL;VALUE=DURATION:PT1H
X-Robots-Tag:noindex
X-PUBLISHED-TTL:PT1H
BEGIN:VTIMEZONE
TZID:Europe/Madrid
BEGIN:DAYLIGHT
TZOFFSETFROM:+0100
TZOFFSETTO:+0200
TZNAME:CEST
DTSTART:20250330T010000
END:DAYLIGHT
BEGIN:STANDARD
TZOFFSETFROM:+0200
TZOFFSETTO:+0100
TZNAME:CET
DTSTART:20251026T010000
END:STANDARD
END:VTIMEZONE
BEGIN:VEVENT
DTSTART;TZID=Europe/Madrid:20250321T203000
DTEND;TZID=Europe/Madrid:20250321T203000
DTSTAMP:20260425T213405
CREATED:20250225T175702Z
LAST-MODIFIED:20250225T175754Z
UID:84477-1742589000-1742589000@www.mientrada.net
SUMMARY:María Marquez Torres en concierto
DESCRIPTION:La pianista María Marquez Torres obtuvo una rendición multitudinaria con la interpretación de la Suite España. New York Times. Experta en música española y chopiniana. Una velada europea con algún guiño a América en un recorrido por los últimos tres siglos musicales. Desde el romanticismo ferviente de Fryderyk Chopin\, continuando por obras iberoamericanas de Lecuona y algún pecado de juventud compuesto por Alicia de Larrocha\, hasta la Fantasía Bética. Obra ecléctica de la península ibérica la cuál interpretaré y contaré su historia. Pues es una de las más relevantes piezas al piano española de todos los tiempos. \n  \nPROGRAMA \nI\nSelección de nocturnos y mazurcas\, Fryderyk Chopin\nSelección de La Suite España\, Isaac Albéniz\nEstudio Revolucionario opus 10 nº12\, Fryderyk Chopin \nII\nSuite Andalucía\, Córdoba\, Ernesto Lecuona\nLa comparsa\, Ernesto Lecuona\nFestívola\, Alicia de Larrocha\nFantasía Baetica\, Manuel de Falla \n  \nPuede compartir este evento en:
URL:https://www.mientrada.net/evento/maria-marquez-torres/
LOCATION:Centro Cultural Vicente Aleixandre\, Calle Jabalcuza\, 9\, Alhaurín de la Torre\, 29130\, España
CATEGORIES:Alhaurín de la Torre,Centro Cultural Vicente Aleixandre,Música
ATTACH;FMTTYPE=image/jpeg:https://www.mientrada.net/wp-content/uploads/2025/02/Cartel-Maria-Marquez.jpg
END:VEVENT
END:VCALENDAR