BEGIN:VCALENDAR
VERSION:2.0
PRODID:-//mientrada.net - ECPv5.16.0//NONSGML v1.0//EN
CALSCALE:GREGORIAN
METHOD:PUBLISH
X-WR-CALNAME:mientrada.net
X-ORIGINAL-URL:https://www.mientrada.net
X-WR-CALDESC:Eventos para mientrada.net
REFRESH-INTERVAL;VALUE=DURATION:PT1H
X-Robots-Tag:noindex
X-PUBLISHED-TTL:PT1H
BEGIN:VTIMEZONE
TZID:Europe/Madrid
BEGIN:DAYLIGHT
TZOFFSETFROM:+0100
TZOFFSETTO:+0200
TZNAME:CEST
DTSTART:20250330T010000
END:DAYLIGHT
BEGIN:STANDARD
TZOFFSETFROM:+0200
TZOFFSETTO:+0100
TZNAME:CET
DTSTART:20251026T010000
END:STANDARD
END:VTIMEZONE
BEGIN:VEVENT
DTSTART;TZID=Europe/Madrid:20250523T200000
DTEND;TZID=Europe/Madrid:20250523T200000
DTSTAMP:20260426T040254
CREATED:20250409T104658Z
LAST-MODIFIED:20250419T121243Z
UID:84927-1748030400-1748030400@www.mientrada.net
SUMMARY:FAN
DESCRIPTION:La Corona Producciones. \nMadrid. Noche. \nNoche lluviosa\, para ser exactos\, de esas que te calan los tacones. Podría ser una noche cualquiera en la que Canadá vuelve a casa de trabajar\, se ducha y se acuesta\, pero\, por suerte o por desgracia\, no lo es. \nEn su portal\, encuentra a Mónica\, una chica que llora desconsoladamente bajo la lluvia. Canadá podría pasar de largo y obviar el hecho de que Mónica parece muy afectada por algo. Podría\, pero no lo hace. Se para y le pregunta qué le pasa. Mónica contesta y\, sin saber muy bien cómo\, acaban en el ático de Canadá. \nLo que sucede a continuación podríamos contártelo. Podríamos\, pero no tendría ninguna gracia porque queremos que tú también subas a casa de Canadá. Lo único que te diremos es que no es una noche cualquiera. \nFAN es una comedia sobre relaciones humanas\, personas atípicas y episodios por cerrar. Una comedia que podría ser una tragedia sobre el ego en la que cualquier parecido con la realidad es pura coincidencia. O no. \n \nPuede compartir este evento en:
URL:https://www.mientrada.net/evento/fan/
LOCATION:Centro Cultural Vicente Aleixandre\, Calle Jabalcuza\, 9\, Alhaurín de la Torre\, 29130\, España
CATEGORIES:Alhaurín de la Torre,Centro Cultural Vicente Aleixandre,Teatro
ATTACH;FMTTYPE=image/jpeg:https://www.mientrada.net/wp-content/uploads/2025/04/Cartel-Fan-2.jpg
END:VEVENT
END:VCALENDAR